BEGIN:VCALENDAR
VERSION:2.0
PRODID:-//Eli Broad College of Business | Michigan State University - ECPv6.15.17.1//NONSGML v1.0//EN
CALSCALE:GREGORIAN
METHOD:PUBLISH
X-WR-CALNAME:Eli Broad College of Business | Michigan State University
X-ORIGINAL-URL:https://broad.msu.edu
X-WR-CALDESC:Events for Eli Broad College of Business | Michigan State University
REFRESH-INTERVAL;VALUE=DURATION:PT1H
X-Robots-Tag:noindex
X-PUBLISHED-TTL:PT1H
BEGIN:VTIMEZONE
TZID:America/Detroit
BEGIN:DAYLIGHT
TZOFFSETFROM:-0500
TZOFFSETTO:-0400
TZNAME:EDT
DTSTART:20180311T070000
END:DAYLIGHT
BEGIN:STANDARD
TZOFFSETFROM:-0400
TZOFFSETTO:-0500
TZNAME:EST
DTSTART:20181104T060000
END:STANDARD
BEGIN:DAYLIGHT
TZOFFSETFROM:-0500
TZOFFSETTO:-0400
TZNAME:EDT
DTSTART:20190310T070000
END:DAYLIGHT
BEGIN:STANDARD
TZOFFSETFROM:-0400
TZOFFSETTO:-0500
TZNAME:EST
DTSTART:20191103T060000
END:STANDARD
BEGIN:DAYLIGHT
TZOFFSETFROM:-0500
TZOFFSETTO:-0400
TZNAME:EDT
DTSTART:20200308T070000
END:DAYLIGHT
BEGIN:STANDARD
TZOFFSETFROM:-0400
TZOFFSETTO:-0500
TZNAME:EST
DTSTART:20201101T060000
END:STANDARD
END:VTIMEZONE
BEGIN:VEVENT
DTSTART;TZID=America/Detroit:20190222T154500
DTEND;TZID=America/Detroit:20190222T164500
DTSTAMP:20260420T022839
CREATED:20190209T181426Z
LAST-MODIFIED:20190209T182046Z
UID:10002839-1550850300-1550853900@broad.msu.edu
SUMMARY:Prospective Undergraduate Student Information Session
DESCRIPTION:The Broad College of Business invites prospective freshmen\, transfer students\, and families to attend a Prospective Student Information session. Sessions are available on a limited basis during fall and spring semesters. The information sessions include a presentation exploring Broad majors\, the College and Major admissions process\, academic curriculum\, student life\, education abroad and services available to Broad students. \nProspective and admitted students who have not yet enrolled in MSU courses should plan to attend a Prospective Student Information Session\, as individual advising appointments are reserved for enrolled students. Registration is required.
URL:https://broad.msu.edu/event/prospective-undergraduate-student-information-session/2019-02-22/
LOCATION:North Business Building\, 632 Bogue St\, East Lansing\, MI\, 48824\, United States
CATEGORIES:Undergraduate Events,Undergraduate Prospective Student
ORGANIZER;CN="Undergraduate Academic Services (UAS)":MAILTO:undergrad@broad.msu.edu
END:VEVENT
END:VCALENDAR