BEGIN:VCALENDAR
VERSION:2.0
PRODID:-//Eli Broad College of Business | Michigan State University - ECPv6.15.17.1//NONSGML v1.0//EN
CALSCALE:GREGORIAN
METHOD:PUBLISH
X-WR-CALNAME:Eli Broad College of Business | Michigan State University
X-ORIGINAL-URL:https://broad.msu.edu
X-WR-CALDESC:Events for Eli Broad College of Business | Michigan State University
REFRESH-INTERVAL;VALUE=DURATION:PT1H
X-Robots-Tag:noindex
X-PUBLISHED-TTL:PT1H
BEGIN:VTIMEZONE
TZID:America/Detroit
BEGIN:DAYLIGHT
TZOFFSETFROM:-0500
TZOFFSETTO:-0400
TZNAME:EDT
DTSTART:20180311T070000
END:DAYLIGHT
BEGIN:STANDARD
TZOFFSETFROM:-0400
TZOFFSETTO:-0500
TZNAME:EST
DTSTART:20181104T060000
END:STANDARD
BEGIN:DAYLIGHT
TZOFFSETFROM:-0500
TZOFFSETTO:-0400
TZNAME:EDT
DTSTART:20190310T070000
END:DAYLIGHT
BEGIN:STANDARD
TZOFFSETFROM:-0400
TZOFFSETTO:-0500
TZNAME:EST
DTSTART:20191103T060000
END:STANDARD
BEGIN:DAYLIGHT
TZOFFSETFROM:-0500
TZOFFSETTO:-0400
TZNAME:EDT
DTSTART:20200308T070000
END:DAYLIGHT
BEGIN:STANDARD
TZOFFSETFROM:-0400
TZOFFSETTO:-0500
TZNAME:EST
DTSTART:20201101T060000
END:STANDARD
END:VTIMEZONE
BEGIN:VEVENT
DTSTART;TZID=America/Detroit:20190516T173000
DTEND;TZID=America/Detroit:20190516T193000
DTSTAMP:20260423T144505
CREATED:20190403T152321Z
LAST-MODIFIED:20190403T160808Z
UID:10002819-1558027800-1558035000@broad.msu.edu
SUMMARY:Executive MBA - Information & Networking Event
DESCRIPTION:Network with MBA alumni and staff.  Learn more about the Broad Executive MBA as well as other graduate management degrees and executive education options.
URL:https://broad.msu.edu/event/executive-mba-information-networking-event/
LOCATION:Amical\, 229 East Front Street\, Traverse City\, MI\, 49684\, United States
CATEGORIES:Alumni Events,Executive MBA
ORGANIZER;CN="Sarah Ellis%2C Admissions & Academic Services Manager":MAILTO:sellis@broad.msu.edu
END:VEVENT
END:VCALENDAR