BEGIN:VCALENDAR
VERSION:2.0
PRODID:-//Eli Broad College of Business | Michigan State University - ECPv6.15.17.1//NONSGML v1.0//EN
CALSCALE:GREGORIAN
METHOD:PUBLISH
X-ORIGINAL-URL:https://broad.msu.edu
X-WR-CALDESC:Events for Eli Broad College of Business | Michigan State University
REFRESH-INTERVAL;VALUE=DURATION:PT1H
X-Robots-Tag:noindex
X-PUBLISHED-TTL:PT1H
BEGIN:VTIMEZONE
TZID:America/Detroit
BEGIN:DAYLIGHT
TZOFFSETFROM:-0500
TZOFFSETTO:-0400
TZNAME:EDT
DTSTART:20180311T070000
END:DAYLIGHT
BEGIN:STANDARD
TZOFFSETFROM:-0400
TZOFFSETTO:-0500
TZNAME:EST
DTSTART:20181104T060000
END:STANDARD
BEGIN:DAYLIGHT
TZOFFSETFROM:-0500
TZOFFSETTO:-0400
TZNAME:EDT
DTSTART:20190310T070000
END:DAYLIGHT
BEGIN:STANDARD
TZOFFSETFROM:-0400
TZOFFSETTO:-0500
TZNAME:EST
DTSTART:20191103T060000
END:STANDARD
BEGIN:DAYLIGHT
TZOFFSETFROM:-0500
TZOFFSETTO:-0400
TZNAME:EDT
DTSTART:20200308T070000
END:DAYLIGHT
BEGIN:STANDARD
TZOFFSETFROM:-0400
TZOFFSETTO:-0500
TZNAME:EST
DTSTART:20201101T060000
END:STANDARD
END:VTIMEZONE
BEGIN:VEVENT
DTSTART;TZID=America/Detroit:20190912T110000
DTEND;TZID=America/Detroit:20190912T150000
DTSTAMP:20260421T135455
CREATED:20190823T004449Z
LAST-MODIFIED:20190823T004449Z
UID:10002965-1568286000-1568300400@broad.msu.edu
SUMMARY:Broad College Education Abroad and Global Engagement Fair
DESCRIPTION:Stop daydreaming; start planning! … And enter for a chance to win a $500 education abroad scholarship along the way*! \nVisit the Broad Education Abroad and Global Opportunities Fair to learn about education abroad programs and opportunities for global engagement that are sponsored by the Broad College of Business! Representatives from MSU offices\, including the Office for Education Abroad and Financial Aid\, as well as Broad College academic advisors and students who have traveled abroad\, will be at the fair to answer your questions. \nWhere will YOU go? \n  \n*Scholarship drawing is open to admitted Broad College students. Scholarship must be used in academic year 2019-20\, and may be used for any MSU education abroad program.
URL:https://broad.msu.edu/event/broad-college-education-abroad-and-global-engagement-fair/
LOCATION:North Business Building\, 632 Bogue St\, East Lansing\, MI\, 48824\, United States
CATEGORIES:Education Abroad
ORGANIZER;CN="Sarah Singer":MAILTO:singersm@msu.edu
END:VEVENT
BEGIN:VEVENT
DTSTART;TZID=America/Detroit:20190912T120000
DTEND;TZID=America/Detroit:20190912T173000
DTSTAMP:20260421T135455
CREATED:20190529T180850Z
LAST-MODIFIED:20210219T183136Z
UID:10002928-1568289600-1568309400@broad.msu.edu
SUMMARY:Analytics & Marketing Research Fall 2019 Career Fair
DESCRIPTION:Every year\, the MS in Marketing Research and MS Business Analytics programs at Michigan State University host an annual event that focuses on the growing field of marketing research\, consumer insights\, big data analytics\, and how these fields are shaping the future. Events include a panel of employer experts\, career fair\, networking and access to admissions professionals regarding the master’s programs at MSU. The main panel speaker for 2019 will be Karyn Schoenbart\, CEO of the NPD Group. \nWe encourage students to attend this event to find out more about the exciting fields of insights and analytics-both for career opportunities and/or as a learning opportunity of how it is changing the way we do business and the growing need for research & analytics professionals. Students from across campus and program levels will be in attendance (Example: MS Marketing Research\, MS Business Analytics\, MBA students\, undergraduates focusing on statistics\, marketing\, economics\, communication\, psychology\, social sciences\, computer programming\, actuarial science etc). Employers are encouraged to attend the event to recruit students for marketing research and/or business analytics opportunities within their company or organization. \n  \nAgenda: \n\n12:00pm-2:15pm: Student & Employer Registration\n12:30pm-2:00pm: MS Marketing Research Employer Panel Featuring The NPD Group CEO Karyn Schoenbart\n2:15pm-5:15pm: Business Analytics & Marketing Research Career Fair\n\n  \nRegistration: This event is free for both employers and students to attend: \nEmployer Registration Link: https://app.joinhandshake.com/career_fairs/9631/employer_preview \nStudent Registration Link: https://msu.joinhandshake.com/career_fairs/9631/student_preview \nWe hope to see you there!
URL:https://broad.msu.edu/event/analytics-marketing-research-fall-2019-career-fair/
LOCATION:United States
CATEGORIES:Accounting,Career Management,Marketing,Recruiting Events
END:VEVENT
BEGIN:VEVENT
DTSTART;TZID=America/Detroit:20190912T183000
DTEND;TZID=America/Detroit:20190912T203000
DTSTAMP:20260421T135455
CREATED:20190712T012526Z
LAST-MODIFIED:20190712T012526Z
UID:10002940-1568313000-1568320200@broad.msu.edu
SUMMARY:Broad on the Road 2019: Grand Rapids
DESCRIPTION:Join the MSU MBA admissions team for drinks and appetizers at New Holland Brewing – The Knickerbocker. At this event\, you’ll have the opportunity to learn more about our program\, our admissions requirements and network with MSU Full-Time MBA alumni. \nAll attendees will receive an application fee waiver to apply for the Fall 2020 start term. \n 
URL:https://broad.msu.edu/event/broad-on-the-road-2019-grand-rapids/
CATEGORIES:Full-Time MBA
ORGANIZER;CN="Beth Thomas":MAILTO:thomase@msu.edu
END:VEVENT
END:VCALENDAR