BEGIN:VCALENDAR
VERSION:2.0
PRODID:-//Eli Broad College of Business | Michigan State University - ECPv6.15.17.1//NONSGML v1.0//EN
CALSCALE:GREGORIAN
METHOD:PUBLISH
X-ORIGINAL-URL:https://broad.msu.edu
X-WR-CALDESC:Events for Eli Broad College of Business | Michigan State University
REFRESH-INTERVAL;VALUE=DURATION:PT1H
X-Robots-Tag:noindex
X-PUBLISHED-TTL:PT1H
BEGIN:VTIMEZONE
TZID:America/Detroit
BEGIN:DAYLIGHT
TZOFFSETFROM:-0500
TZOFFSETTO:-0400
TZNAME:EDT
DTSTART:20180311T070000
END:DAYLIGHT
BEGIN:STANDARD
TZOFFSETFROM:-0400
TZOFFSETTO:-0500
TZNAME:EST
DTSTART:20181104T060000
END:STANDARD
BEGIN:DAYLIGHT
TZOFFSETFROM:-0500
TZOFFSETTO:-0400
TZNAME:EDT
DTSTART:20190310T070000
END:DAYLIGHT
BEGIN:STANDARD
TZOFFSETFROM:-0400
TZOFFSETTO:-0500
TZNAME:EST
DTSTART:20191103T060000
END:STANDARD
BEGIN:DAYLIGHT
TZOFFSETFROM:-0500
TZOFFSETTO:-0400
TZNAME:EDT
DTSTART:20200308T070000
END:DAYLIGHT
BEGIN:STANDARD
TZOFFSETFROM:-0400
TZOFFSETTO:-0500
TZNAME:EST
DTSTART:20201101T060000
END:STANDARD
END:VTIMEZONE
BEGIN:VEVENT
DTSTART;TZID=America/Detroit:20190913T080000
DTEND;TZID=America/Detroit:20190914T193000
DTSTAMP:20260423T115828
CREATED:20190403T151041Z
LAST-MODIFIED:20190808T165027Z
UID:10002891-1568361600-1568489400@broad.msu.edu
SUMMARY:20 Year Full-Time MBA Reunion
DESCRIPTION:It is hard to believe it has been twenty years but it is time to celebrate and return to campus! We have many fun activities and events planned all day Friday and Saturday. Feel free to join us for all of the events or pick and choose what interests you: \nFriday\, September 13 \n\nMBA Roundtable: Discussion with Current MBA Students | 10:00am – 11:30am [complimentary\, RSVP Required – Click “Tickets”]\nMinskoff Pavilion\, Room M235\nBroad College Update w/Dean Gupta | 3:00pm – 4:00pm [Complimentary\, RSVP Required – Click “Tickets”]\nMinskoff Pavilion\, Event Space\nMinskoff Pavilion Tours | 4:00pm – 4:30pm [Complimentary\, RSVP Required – Click “Tickets”]\nMinskoff Pavilion\, Event Space\nReunion Reception | 5:00pm – 8:00pm [$15 per/person | RSVP Required – Click “Tickets”]\nBeggar’s Banquet (218 Abbot Rd.\, East Lansing\, MI 48823)\nPrice includes light appetizers and one drink ticket\n\nSaturday\, September 14 \n\nMBA Association Student Tailgate | 12:30pm – 3:30pm\nLocated on the corner of North Shaw Lane and Red Cedar Road. Look for the Blow Up Sparty and Broad College Flags.\nMSU vs. Arizona State Football | 3:30pm\nWe have a small group of football tickets available. for details and purchasing of tickets\, please contact alumnievents@broad.msu.edu\n\nHotel Accommodations \nHotel rooms are being held at the TownePlace Suites East Lansing at a special rate of $179 per night. Make a reservation. Rooms are limited and the group block cut-off is August 9th so make sure to make your reservation soon.
URL:https://broad.msu.edu/event/mba-reunion/
LOCATION:Minskoff Pavilion\, 651 N Shaw Ln\, East Lansing\, MI\, 48824\, United States
CATEGORIES:Alumni Events,Featured Events
ORGANIZER;CN="Alumni Relations":MAILTO:alumni@broad.msu.edu
END:VEVENT
END:VCALENDAR