BEGIN:VCALENDAR
VERSION:2.0
PRODID:-//Eli Broad College of Business | Michigan State University - ECPv6.15.17.1//NONSGML v1.0//EN
CALSCALE:GREGORIAN
METHOD:PUBLISH
X-WR-CALNAME:Eli Broad College of Business | Michigan State University
X-ORIGINAL-URL:https://broad.msu.edu
X-WR-CALDESC:Events for Eli Broad College of Business | Michigan State University
REFRESH-INTERVAL;VALUE=DURATION:PT1H
X-Robots-Tag:noindex
X-PUBLISHED-TTL:PT1H
BEGIN:VTIMEZONE
TZID:America/Detroit
BEGIN:DAYLIGHT
TZOFFSETFROM:-0500
TZOFFSETTO:-0400
TZNAME:EDT
DTSTART:20180311T070000
END:DAYLIGHT
BEGIN:STANDARD
TZOFFSETFROM:-0400
TZOFFSETTO:-0500
TZNAME:EST
DTSTART:20181104T060000
END:STANDARD
BEGIN:DAYLIGHT
TZOFFSETFROM:-0500
TZOFFSETTO:-0400
TZNAME:EDT
DTSTART:20190310T070000
END:DAYLIGHT
BEGIN:STANDARD
TZOFFSETFROM:-0400
TZOFFSETTO:-0500
TZNAME:EST
DTSTART:20191103T060000
END:STANDARD
BEGIN:DAYLIGHT
TZOFFSETFROM:-0500
TZOFFSETTO:-0400
TZNAME:EDT
DTSTART:20200308T070000
END:DAYLIGHT
BEGIN:STANDARD
TZOFFSETFROM:-0400
TZOFFSETTO:-0500
TZNAME:EST
DTSTART:20201101T060000
END:STANDARD
END:VTIMEZONE
BEGIN:VEVENT
DTSTART;VALUE=DATE:20190916
DTEND;VALUE=DATE:20190921
DTSTAMP:20260423T202120
CREATED:20190222T133546Z
LAST-MODIFIED:20190321T200703Z
UID:10002872-1568592000-1569023999@broad.msu.edu
SUMMARY:Hospitality Business: CMAA Business Management Institute (GM/COO)
DESCRIPTION:Sessions at Kellogg Hotel & Conference Center. Please visit the Club Managers Association of America (CMAA) website for details and registration information. \nThis event is hosted by The School of Hospitality Business.
URL:https://broad.msu.edu/event/hospitality-business-business-management-institute-gm-coo-2/
LOCATION:Kellogg Hotel & Conference Center\, 219 S Harrison Rd\, East Lansing\, MI\, 48824\, United States
CATEGORIES:Hospitality Business
END:VEVENT
BEGIN:VEVENT
DTSTART;TZID=America/Detroit:20190919T153000
DTEND;TZID=America/Detroit:20190919T193000
DTSTAMP:20260423T202120
CREATED:20190511T023649Z
LAST-MODIFIED:20190913T142112Z
UID:10002919-1568907000-1568921400@broad.msu.edu
SUMMARY:Fall Career Days: Careers in Business Fair
DESCRIPTION:The largest business career fair of the year! This is a great opportunity for MSU students to connect with companies looking to hire for internships\, part-time\, and full-time roles.
URL:https://broad.msu.edu/event/fall-career-days-careers-in-business-fair/
LOCATION:Breslin Student Events Center\, 534 Birch Rd\, East Lansing\, MI\, 48824\, United States
CATEGORIES:Career Management,College-wide Events,Featured Events,Recruiting Events,Undergraduate Events
ORGANIZER;CN="Bronti Belanger":MAILTO:belan108@broad.msu.edu
END:VEVENT
BEGIN:VEVENT
DTSTART;TZID=America/Detroit:20190919T170000
DTEND;TZID=America/Detroit:20190919T180000
DTSTAMP:20260423T202120
CREATED:20190822T221230Z
LAST-MODIFIED:20190822T221230Z
UID:10002956-1568912400-1568916000@broad.msu.edu
SUMMARY:Admission Information Session
DESCRIPTION:Information sessions are intended for current MSU students applying for admission to the Broad College of Business this semester. All applicants are strongly encouraged to attend. Topics addressed include: Broad College/major application process\, academic and non-academic admission factors\, resources for completing the experiential profile\, case study tips and explanation of the admission decision process.
URL:https://broad.msu.edu/event/admission-information-session/
LOCATION:Brody Hall\, 241 W Brody Rd\, East Lansing\, MI\, 48825\, United States
CATEGORIES:Admissions Events
ORGANIZER;CN="Undergraduate Academic Services (UAS)":MAILTO:undergrad@broad.msu.edu
END:VEVENT
END:VCALENDAR