BEGIN:VCALENDAR
VERSION:2.0
PRODID:-//Eli Broad College of Business | Michigan State University - ECPv6.15.17.1//NONSGML v1.0//EN
CALSCALE:GREGORIAN
METHOD:PUBLISH
X-WR-CALNAME:Eli Broad College of Business | Michigan State University
X-ORIGINAL-URL:https://broad.msu.edu
X-WR-CALDESC:Events for Eli Broad College of Business | Michigan State University
REFRESH-INTERVAL;VALUE=DURATION:PT1H
X-Robots-Tag:noindex
X-PUBLISHED-TTL:PT1H
BEGIN:VTIMEZONE
TZID:America/Detroit
BEGIN:DAYLIGHT
TZOFFSETFROM:-0500
TZOFFSETTO:-0400
TZNAME:EDT
DTSTART:20180311T070000
END:DAYLIGHT
BEGIN:STANDARD
TZOFFSETFROM:-0400
TZOFFSETTO:-0500
TZNAME:EST
DTSTART:20181104T060000
END:STANDARD
BEGIN:DAYLIGHT
TZOFFSETFROM:-0500
TZOFFSETTO:-0400
TZNAME:EDT
DTSTART:20190310T070000
END:DAYLIGHT
BEGIN:STANDARD
TZOFFSETFROM:-0400
TZOFFSETTO:-0500
TZNAME:EST
DTSTART:20191103T060000
END:STANDARD
BEGIN:DAYLIGHT
TZOFFSETFROM:-0500
TZOFFSETTO:-0400
TZNAME:EDT
DTSTART:20200308T070000
END:DAYLIGHT
BEGIN:STANDARD
TZOFFSETFROM:-0400
TZOFFSETTO:-0500
TZNAME:EST
DTSTART:20201101T060000
END:STANDARD
END:VTIMEZONE
BEGIN:VEVENT
DTSTART;VALUE=DATE:20191007
DTEND;VALUE=DATE:20191012
DTSTAMP:20260421T223305
CREATED:20190222T134629Z
LAST-MODIFIED:20190321T201101Z
UID:10002877-1570406400-1570838399@broad.msu.edu
SUMMARY:Hospitality Business: CMAA Business Management Institute (GM/COO)
DESCRIPTION:Sessions at Kellogg Hotel & Conference Center. Please visit the Club Managers Association of America (CMAA) website for details and registration information. \nThis event is hosted by The School of Hospitality Business.
URL:https://broad.msu.edu/event/hospitality-business-business-management-institute-gm-coo-3/
LOCATION:Kellogg Hotel & Conference Center\, 219 S Harrison Rd\, East Lansing\, MI\, 48824\, United States
CATEGORIES:Hospitality Business
END:VEVENT
BEGIN:VEVENT
DTSTART;TZID=America/Detroit:20191010T173000
DTEND;TZID=America/Detroit:20191010T193000
DTSTAMP:20260421T223305
CREATED:20190121T210250Z
LAST-MODIFIED:20190909T183957Z
UID:10002835-1570728600-1570735800@broad.msu.edu
SUMMARY:Advancing Women in Business
DESCRIPTION:Join us for an event that is all about you! You’ll connect and network with like-minded women\, gain important insights tailored to professional women\, and leave re-invigorated to advance your own priorities. As professional women\, we seldom carve out time to focus on our own needs and priorities. MSU’s Broad College of Business recognizes the power women have to encourage and inspire each other to reach our full potential.
URL:https://broad.msu.edu/event/advancing-women-in-business/
LOCATION:Henry Center for Executive Development\, 3535 Forest Rd\, East Lansing\, MI\, 48910\, United States
CATEGORIES:Accounting,Alumni Events,Career Management,College-wide Events,Executive MBA,Featured Events,Finance,Full-Time MBA,Management,Marketing,Supply Chain Management
END:VEVENT
END:VCALENDAR