BEGIN:VCALENDAR
VERSION:2.0
PRODID:-//Eli Broad College of Business | Michigan State University - ECPv6.15.17.1//NONSGML v1.0//EN
CALSCALE:GREGORIAN
METHOD:PUBLISH
X-ORIGINAL-URL:https://broad.msu.edu
X-WR-CALDESC:Events for Eli Broad College of Business | Michigan State University
REFRESH-INTERVAL;VALUE=DURATION:PT1H
X-Robots-Tag:noindex
X-PUBLISHED-TTL:PT1H
BEGIN:VTIMEZONE
TZID:America/Detroit
BEGIN:DAYLIGHT
TZOFFSETFROM:-0500
TZOFFSETTO:-0400
TZNAME:EDT
DTSTART:20180311T070000
END:DAYLIGHT
BEGIN:STANDARD
TZOFFSETFROM:-0400
TZOFFSETTO:-0500
TZNAME:EST
DTSTART:20181104T060000
END:STANDARD
BEGIN:DAYLIGHT
TZOFFSETFROM:-0500
TZOFFSETTO:-0400
TZNAME:EDT
DTSTART:20190310T070000
END:DAYLIGHT
BEGIN:STANDARD
TZOFFSETFROM:-0400
TZOFFSETTO:-0500
TZNAME:EST
DTSTART:20191103T060000
END:STANDARD
BEGIN:DAYLIGHT
TZOFFSETFROM:-0500
TZOFFSETTO:-0400
TZNAME:EDT
DTSTART:20200308T070000
END:DAYLIGHT
BEGIN:STANDARD
TZOFFSETFROM:-0400
TZOFFSETTO:-0500
TZNAME:EST
DTSTART:20201101T060000
END:STANDARD
END:VTIMEZONE
BEGIN:VEVENT
DTSTART;VALUE=DATE:20191007
DTEND;VALUE=DATE:20191012
DTSTAMP:20260423T083641
CREATED:20190222T134629Z
LAST-MODIFIED:20190321T201101Z
UID:10002877-1570406400-1570838399@broad.msu.edu
SUMMARY:Hospitality Business: CMAA Business Management Institute (GM/COO)
DESCRIPTION:Sessions at Kellogg Hotel & Conference Center. Please visit the Club Managers Association of America (CMAA) website for details and registration information. \nThis event is hosted by The School of Hospitality Business.
URL:https://broad.msu.edu/event/hospitality-business-business-management-institute-gm-coo-3/
LOCATION:Kellogg Hotel & Conference Center\, 219 S Harrison Rd\, East Lansing\, MI\, 48824\, United States
CATEGORIES:Hospitality Business
END:VEVENT
BEGIN:VEVENT
DTSTART;TZID=America/Detroit:20191011T103000
DTEND;TZID=America/Detroit:20191011T120000
DTSTAMP:20260423T083641
CREATED:20190821T020618Z
LAST-MODIFIED:20231026T192604Z
UID:10002864-1570789800-1570795200@broad.msu.edu
SUMMARY:Patricia & Scott Eston Research Workshop Series - ITM
DESCRIPTION:Kunpeng Zhang is joining us from the University of Maryland in this week’s iteration of the ITM Research Workshop. You can see more information about Kunpeng at https://www.rhsmith.umd.edu/directory/kunpeng-zhang. \nYou can find us in room N125 BCC. No RSVP required. Feel free to drop by if you are interested!
URL:https://broad.msu.edu/event/patricia-scott-eston-research-workshop-series-itm/
LOCATION:1st floor of the Business College Complex\, 632 Bogue St\, East Lansing\, MI\, 48824\, United States
CATEGORIES:Accounting
ORGANIZER;CN="Katie Trinklein":MAILTO:trinkle4@msu.edu
END:VEVENT
BEGIN:VEVENT
DTSTART;TZID=America/Detroit:20191011T154500
DTEND;TZID=America/Detroit:20191011T164500
DTSTAMP:20260423T083641
CREATED:20190828T034301Z
LAST-MODIFIED:20190828T034926Z
UID:10002969-1570808700-1570812300@broad.msu.edu
SUMMARY:Prospective Undergraduate Student Information Session
DESCRIPTION:The Eli Broad College of Business invites prospective students and families to visit the Business College Complex for a group information session to explore Broad majors\, College and Major admissions\, academic curriculum\, student life\, education abroad\, and services available to Broad students. \nPresentations and tours take place on select Fridays at 3:45 p.m. Prior registration is required.  Fall registration dates will begin on September 2\, 2019 and Spring registration dates will open in November 2019. \nProspective and admitted students who have not yet enrolled should plan to attend this presentation\, as individual advising appointments are reserved for enrolled students. \nRegister now!
URL:https://broad.msu.edu/event/prospective-undergraduate-student-information-session-2/
LOCATION:MI
CATEGORIES:Undergraduate Prospective Student
END:VEVENT
END:VCALENDAR