BEGIN:VCALENDAR
VERSION:2.0
PRODID:-//Eli Broad College of Business | Michigan State University - ECPv6.15.17.1//NONSGML v1.0//EN
CALSCALE:GREGORIAN
METHOD:PUBLISH
X-ORIGINAL-URL:https://broad.msu.edu
X-WR-CALDESC:Events for Eli Broad College of Business | Michigan State University
REFRESH-INTERVAL;VALUE=DURATION:PT1H
X-Robots-Tag:noindex
X-PUBLISHED-TTL:PT1H
BEGIN:VTIMEZONE
TZID:America/Detroit
BEGIN:DAYLIGHT
TZOFFSETFROM:-0500
TZOFFSETTO:-0400
TZNAME:EDT
DTSTART:20180311T070000
END:DAYLIGHT
BEGIN:STANDARD
TZOFFSETFROM:-0400
TZOFFSETTO:-0500
TZNAME:EST
DTSTART:20181104T060000
END:STANDARD
BEGIN:DAYLIGHT
TZOFFSETFROM:-0500
TZOFFSETTO:-0400
TZNAME:EDT
DTSTART:20190310T070000
END:DAYLIGHT
BEGIN:STANDARD
TZOFFSETFROM:-0400
TZOFFSETTO:-0500
TZNAME:EST
DTSTART:20191103T060000
END:STANDARD
BEGIN:DAYLIGHT
TZOFFSETFROM:-0500
TZOFFSETTO:-0400
TZNAME:EDT
DTSTART:20200308T070000
END:DAYLIGHT
BEGIN:STANDARD
TZOFFSETFROM:-0400
TZOFFSETTO:-0500
TZNAME:EST
DTSTART:20201101T060000
END:STANDARD
END:VTIMEZONE
BEGIN:VEVENT
DTSTART;TZID=America/Detroit:20191023T180000
DTEND;TZID=America/Detroit:20191023T193000
DTSTAMP:20260420T151332
CREATED:20190918T164423Z
LAST-MODIFIED:20230801T203446Z
UID:10003004-1571853600-1571859000@broad.msu.edu
SUMMARY:Innovate State: Mike Miller
DESCRIPTION:Innovate State is a collaboration between the Burgess Institute for Entrepreneurship & Innovation and the MSU Innovation Center. \nHosted in the Entrepreneurship Lab\, Innovate State welcomes successful Spartan alumni back to campus for a fireside chat. Guests share their perspectives on everything from launching startups to experiencing success and failure to building dynamic and nurturing work cultures. \n\nA native of Williamston\, Michigan\, Mike Miller is a lifelong Spartan. After graduating from MSU with degrees in physics and philosophy\, his undergraduate research at the Cyclotron opened the door for a PhD in Particle Physics from Yale and faculty positions at MIT and UW. Along the way he developed a taste for capitalism\, co-founding the Y Combinator-backed company\, Cloudant\, which helped create the noSQL and Database-aaS market before being acquired by IBM in 2014. Through a strange twist of fate\, Miller then co-founded Silicon Valley’s most active seed-stage venture capital firm with Joe Montana and Michael Ma. Since 2015 the partners have invested in over 250 companies with a combined valuation of nearly $10B\, putting them at the epicenter of the Bay Area’s tech scene. Outside of work\, Mike is the proud father of two sets of young twins with his wife Laura\, and they enjoy hiking\, sailing\, skiing and climbing from their Pacific NW home base.
URL:https://broad.msu.edu/event/innovate-state-mike-miller/
LOCATION:Entrepreneurship Lab\, 651 N Shaw Ln\, East Lansing\, MI\, 48824\, United States
CATEGORIES:Entrepreneurship
ORGANIZER;CN="Burgess Institute for Entrepreneurship &amp%3B Innovation":MAILTO:eship@msu.edu
END:VEVENT
END:VCALENDAR