BEGIN:VCALENDAR
VERSION:2.0
PRODID:-//Eli Broad College of Business | Michigan State University - ECPv6.15.17.1//NONSGML v1.0//EN
CALSCALE:GREGORIAN
METHOD:PUBLISH
X-ORIGINAL-URL:https://broad.msu.edu
X-WR-CALDESC:Events for Eli Broad College of Business | Michigan State University
REFRESH-INTERVAL;VALUE=DURATION:PT1H
X-Robots-Tag:noindex
X-PUBLISHED-TTL:PT1H
BEGIN:VTIMEZONE
TZID:America/Detroit
BEGIN:DAYLIGHT
TZOFFSETFROM:-0500
TZOFFSETTO:-0400
TZNAME:EDT
DTSTART:20190310T070000
END:DAYLIGHT
BEGIN:STANDARD
TZOFFSETFROM:-0400
TZOFFSETTO:-0500
TZNAME:EST
DTSTART:20191103T060000
END:STANDARD
BEGIN:DAYLIGHT
TZOFFSETFROM:-0500
TZOFFSETTO:-0400
TZNAME:EDT
DTSTART:20200308T070000
END:DAYLIGHT
BEGIN:STANDARD
TZOFFSETFROM:-0400
TZOFFSETTO:-0500
TZNAME:EST
DTSTART:20201101T060000
END:STANDARD
BEGIN:DAYLIGHT
TZOFFSETFROM:-0500
TZOFFSETTO:-0400
TZNAME:EDT
DTSTART:20210314T070000
END:DAYLIGHT
BEGIN:STANDARD
TZOFFSETFROM:-0400
TZOFFSETTO:-0500
TZNAME:EST
DTSTART:20211107T060000
END:STANDARD
END:VTIMEZONE
BEGIN:VEVENT
DTSTART;TZID=America/Detroit:20200122T180000
DTEND;TZID=America/Detroit:20200122T193000
DTSTAMP:20260420T203218
CREATED:20190918T165901Z
LAST-MODIFIED:20230801T203327Z
UID:10003008-1579716000-1579721400@broad.msu.edu
SUMMARY:Innovate State: Jeff Epstein
DESCRIPTION:Innovate State is a collaboration between the Burgess Institute for Entrepreneurship & Innovation and the MSU Innovation Center. \nHosted in the Entrepreneurship Lab\, Innovate State welcomes successful Spartan alumni back to campus for a fireside chat. Guests share their perspectives on everything from launching start-ups to experiencing success and failure to building dynamic and nurturing work cultures. \n  \n \n  \n\nGrowing up in southeast Michigan and acquiring a bachelor degree from Eli Broad College of Business in 2004\, Jeffrey Epstein is an accomplished attorney\, entrepreneur\, and investor. Later going on to earn his J.D. from Chicago-Kent School of Law in 2007\, he created and sold his first online business allowing him to successfully pay back his student loans in full and leading the way for his next venture\, ZFERRAL\, INC dba Ambassador Software (“Ambassador”) which at the time of its creation in 2010\, became a leading referral marketing platform used by some of the world’s most recognizable brands. \nSince then Epstein grew Ambassador to hold 45 full-time employees until it was acquired by West Corporation in late 2018\, but his extensive expertise doesn’t end there. Showcasing his entrepreneurial spirit\, he has attended and participated in Techstars (NYC 2011)\, raising several million dollars along the way in VC funding. Although he has made mistakes in his time\, Epstein now focuses on capitalizing and learning from them by consulting\, investing and helping other entrepreneurs learn and grow from the mistakes and troubles he has experienced throughout his career.
URL:https://broad.msu.edu/event/innovate-state-jeff-epstein/
LOCATION:Entrepreneurship Lab\, 651 N Shaw Ln\, East Lansing\, MI\, 48824\, United States
CATEGORIES:Entrepreneurship
ORGANIZER;CN="Burgess Institute for Entrepreneurship &amp%3B Innovation":MAILTO:eship@msu.edu
END:VEVENT
END:VCALENDAR