BEGIN:VCALENDAR
VERSION:2.0
PRODID:-//Eli Broad College of Business | Michigan State University - ECPv6.15.17.1//NONSGML v1.0//EN
CALSCALE:GREGORIAN
METHOD:PUBLISH
X-ORIGINAL-URL:https://broad.msu.edu
X-WR-CALDESC:Events for Eli Broad College of Business | Michigan State University
REFRESH-INTERVAL;VALUE=DURATION:PT1H
X-Robots-Tag:noindex
X-PUBLISHED-TTL:PT1H
BEGIN:VTIMEZONE
TZID:America/Detroit
BEGIN:DAYLIGHT
TZOFFSETFROM:-0500
TZOFFSETTO:-0400
TZNAME:EDT
DTSTART:20190310T070000
END:DAYLIGHT
BEGIN:STANDARD
TZOFFSETFROM:-0400
TZOFFSETTO:-0500
TZNAME:EST
DTSTART:20191103T060000
END:STANDARD
BEGIN:DAYLIGHT
TZOFFSETFROM:-0500
TZOFFSETTO:-0400
TZNAME:EDT
DTSTART:20200308T070000
END:DAYLIGHT
BEGIN:STANDARD
TZOFFSETFROM:-0400
TZOFFSETTO:-0500
TZNAME:EST
DTSTART:20201101T060000
END:STANDARD
BEGIN:DAYLIGHT
TZOFFSETFROM:-0500
TZOFFSETTO:-0400
TZNAME:EDT
DTSTART:20210314T070000
END:DAYLIGHT
BEGIN:STANDARD
TZOFFSETFROM:-0400
TZOFFSETTO:-0500
TZNAME:EST
DTSTART:20211107T060000
END:STANDARD
END:VTIMEZONE
BEGIN:VEVENT
DTSTART;TZID=America/Detroit:20200228T123000
DTEND;TZID=America/Detroit:20200228T133000
DTSTAMP:20260424T065820
CREATED:20191218T212008Z
LAST-MODIFIED:20200130T211026Z
UID:10003045-1582893000-1582896600@broad.msu.edu
SUMMARY:Major Exploration Session: Supply Chain Management
DESCRIPTION:Are you interested in exploring Supply Chain Management related majors at MSU? \nAttend a Business Major Exploration Session to learn more about Supply Chain Management related majors at MSU including Packaging and Food Industry Management. College representatives will discuss degree requirements\, employment outcomes\, and resources for each major. \nPrior registration is recommended. \n 
URL:https://broad.msu.edu/event/major-session-exploration/
LOCATION:Minskoff Pavilion\, 651 N Shaw Ln\, East Lansing\, MI\, 48824\, United States
CATEGORIES:Major Exploration Sessions
ORGANIZER;CN="Undergraduate Academic Services (UAS)":MAILTO:undergrad@broad.msu.edu
END:VEVENT
BEGIN:VEVENT
DTSTART;TZID=America/Detroit:20200228T123000
DTEND;TZID=America/Detroit:20200228T133000
DTSTAMP:20260424T065820
CREATED:20200207T180407Z
LAST-MODIFIED:20200207T180407Z
UID:10003060-1582893000-1582896600@broad.msu.edu
SUMMARY:Friday Career Meetups: Explore Supply Chain Majors
DESCRIPTION:
URL:https://broad.msu.edu/event/friday-career-meetups-explore-supply-chain-majors/
LOCATION:Minskoff Pavilion\, 651 N Shaw Ln\, East Lansing\, MI\, 48824\, United States
CATEGORIES:Career Management
ORGANIZER;CN="Career Management":MAILTO:palmer@broad.msu.edu
END:VEVENT
BEGIN:VEVENT
DTSTART;TZID=America/Detroit:20200228T154500
DTEND;TZID=America/Detroit:20200228T164500
DTSTAMP:20260424T065820
CREATED:20190828T133852Z
LAST-MODIFIED:20200115T184533Z
UID:10002982-1582904700-1582908300@broad.msu.edu
SUMMARY:Prospective Undergraduate Student Information Session
DESCRIPTION:The Eli Broad College of Business invites prospective students and families to visit the Business College Complex for a group information session to explore Broad majors\, College and Major admissions\, academic curriculum\, student life\, education abroad\, and services available to Broad students. \nPresentations and tours take place on select Fridays at 3:45 p.m. Prior registration is required.  Fall registration dates will begin on September 2\, 2019 and Spring registration dates will open in November 2019. \nProspective and admitted students who have not yet enrolled should plan to attend this presentation\, as individual advising appointments are reserved for enrolled students. \nRegister now!
URL:https://broad.msu.edu/event/prospective-undergraduate-student-information-session-15/
LOCATION:MI
CATEGORIES:Undergraduate Prospective Student
END:VEVENT
END:VCALENDAR