BEGIN:VCALENDAR
VERSION:2.0
PRODID:-//Eli Broad College of Business | Michigan State University - ECPv6.15.17.1//NONSGML v1.0//EN
CALSCALE:GREGORIAN
METHOD:PUBLISH
X-ORIGINAL-URL:https://broad.msu.edu
X-WR-CALDESC:Events for Eli Broad College of Business | Michigan State University
REFRESH-INTERVAL;VALUE=DURATION:PT1H
X-Robots-Tag:noindex
X-PUBLISHED-TTL:PT1H
BEGIN:VTIMEZONE
TZID:America/Detroit
BEGIN:DAYLIGHT
TZOFFSETFROM:-0500
TZOFFSETTO:-0400
TZNAME:EDT
DTSTART:20190310T070000
END:DAYLIGHT
BEGIN:STANDARD
TZOFFSETFROM:-0400
TZOFFSETTO:-0500
TZNAME:EST
DTSTART:20191103T060000
END:STANDARD
BEGIN:DAYLIGHT
TZOFFSETFROM:-0500
TZOFFSETTO:-0400
TZNAME:EDT
DTSTART:20200308T070000
END:DAYLIGHT
BEGIN:STANDARD
TZOFFSETFROM:-0400
TZOFFSETTO:-0500
TZNAME:EST
DTSTART:20201101T060000
END:STANDARD
BEGIN:DAYLIGHT
TZOFFSETFROM:-0500
TZOFFSETTO:-0400
TZNAME:EDT
DTSTART:20210314T070000
END:DAYLIGHT
BEGIN:STANDARD
TZOFFSETFROM:-0400
TZOFFSETTO:-0500
TZNAME:EST
DTSTART:20211107T060000
END:STANDARD
END:VTIMEZONE
BEGIN:VEVENT
DTSTART;TZID=America/Detroit:20200403T154500
DTEND;TZID=America/Detroit:20200403T164500
DTSTAMP:20260422T030546
CREATED:20190828T134337Z
LAST-MODIFIED:20200312T205732Z
UID:10002990-1585928700-1585932300@broad.msu.edu
SUMMARY:Prospective Undergraduate Student Information Session
DESCRIPTION:Thank you for your interest in the Eli Broad College of Business at Michigan State University. Due to the emerging health concerns related to the coronavirus (COVID-19)\, the Broad College of Business has cancelled all in-person prospective information sessions. \nWe are moving information to a virtual experience by Zoom. We invite you to join our Prospective Information Sessions remotely. \nRegister now! \n 
URL:https://broad.msu.edu/event/prospective-undergraduate-student-information-session-19/
LOCATION:MI
CATEGORIES:Undergraduate Prospective Student
END:VEVENT
END:VCALENDAR