BEGIN:VCALENDAR
VERSION:2.0
PRODID:-//Eli Broad College of Business | Michigan State University - ECPv6.15.17.1//NONSGML v1.0//EN
CALSCALE:GREGORIAN
METHOD:PUBLISH
X-ORIGINAL-URL:https://broad.msu.edu
X-WR-CALDESC:Events for Eli Broad College of Business | Michigan State University
REFRESH-INTERVAL;VALUE=DURATION:PT1H
X-Robots-Tag:noindex
X-PUBLISHED-TTL:PT1H
BEGIN:VTIMEZONE
TZID:America/Detroit
BEGIN:DAYLIGHT
TZOFFSETFROM:-0500
TZOFFSETTO:-0400
TZNAME:EDT
DTSTART:20190310T070000
END:DAYLIGHT
BEGIN:STANDARD
TZOFFSETFROM:-0400
TZOFFSETTO:-0500
TZNAME:EST
DTSTART:20191103T060000
END:STANDARD
BEGIN:DAYLIGHT
TZOFFSETFROM:-0500
TZOFFSETTO:-0400
TZNAME:EDT
DTSTART:20200308T070000
END:DAYLIGHT
BEGIN:STANDARD
TZOFFSETFROM:-0400
TZOFFSETTO:-0500
TZNAME:EST
DTSTART:20201101T060000
END:STANDARD
BEGIN:DAYLIGHT
TZOFFSETFROM:-0500
TZOFFSETTO:-0400
TZNAME:EDT
DTSTART:20210314T070000
END:DAYLIGHT
BEGIN:STANDARD
TZOFFSETFROM:-0400
TZOFFSETTO:-0500
TZNAME:EST
DTSTART:20211107T060000
END:STANDARD
END:VTIMEZONE
BEGIN:VEVENT
DTSTART;TZID=America/Detroit:20200422T130000
DTEND;TZID=America/Detroit:20200422T134500
DTSTAMP:20260422T030549
CREATED:20200407T134756Z
LAST-MODIFIED:20200407T140402Z
UID:10003083-1587560400-1587563100@broad.msu.edu
SUMMARY:Supply Chain Disruption Amid COVID-19 Webinar Series
DESCRIPTION:In these 40-minute webinars\, we first explore what firms can do to build more resilient and responsive supply chains to mitigate disruptions under extraordinary events\, such as the COVID-19 pandemic. We then discuss the impact and outlook for specific industries; in particular\, transportation\, pharmaceutical and health care. The webinars will be moderated by David J. Frayer\, Assistant Dean\, Outreach and Engagement. \nApril 22\, 2020: Pharma and Healthcare Sectors\nAnand Nair\, Professor of SCM\nVedat Verter\, John H. McConnell Chair of Business Administration\nJudy Whipple\, Professor of Logistics
URL:https://broad.msu.edu/event/scm-covid-19-webinar-series-2020-04-22/
LOCATION:Online
CATEGORIES:Alumni Events,Faculty Events,Featured Events,Supply Chain Management
END:VEVENT
END:VCALENDAR