BEGIN:VCALENDAR
VERSION:2.0
PRODID:-//Eli Broad College of Business | Michigan State University - ECPv6.15.17.1//NONSGML v1.0//EN
CALSCALE:GREGORIAN
METHOD:PUBLISH
X-ORIGINAL-URL:https://broad.msu.edu
X-WR-CALDESC:Events for Eli Broad College of Business | Michigan State University
REFRESH-INTERVAL;VALUE=DURATION:PT1H
X-Robots-Tag:noindex
X-PUBLISHED-TTL:PT1H
BEGIN:VTIMEZONE
TZID:America/Detroit
BEGIN:DAYLIGHT
TZOFFSETFROM:-0500
TZOFFSETTO:-0400
TZNAME:EDT
DTSTART:20190310T070000
END:DAYLIGHT
BEGIN:STANDARD
TZOFFSETFROM:-0400
TZOFFSETTO:-0500
TZNAME:EST
DTSTART:20191103T060000
END:STANDARD
BEGIN:DAYLIGHT
TZOFFSETFROM:-0500
TZOFFSETTO:-0400
TZNAME:EDT
DTSTART:20200308T070000
END:DAYLIGHT
BEGIN:STANDARD
TZOFFSETFROM:-0400
TZOFFSETTO:-0500
TZNAME:EST
DTSTART:20201101T060000
END:STANDARD
BEGIN:DAYLIGHT
TZOFFSETFROM:-0500
TZOFFSETTO:-0400
TZNAME:EDT
DTSTART:20210314T070000
END:DAYLIGHT
BEGIN:STANDARD
TZOFFSETFROM:-0400
TZOFFSETTO:-0500
TZNAME:EST
DTSTART:20211107T060000
END:STANDARD
END:VTIMEZONE
BEGIN:VEVENT
DTSTART;TZID=America/Detroit:20200928T180000
DTEND;TZID=America/Detroit:20200928T193000
DTSTAMP:20260422T003505
CREATED:20200915T184509Z
LAST-MODIFIED:20200916T172700Z
UID:10003187-1601316000-1601321400@broad.msu.edu
SUMMARY:Center for Venture Capital\, Private Equity & Entrepreneurial Finance Speaker Series
DESCRIPTION:Please join on Zoom for the kick-off event of our distinguished speaker series. The speakers will talk about how VC funds select early- and later-stage companies for investment\, how VCs decide on the deal structure and valuation\, how they grow their companies\, and exit their investments. They will highlight the impact of COVID-19 on VC funds and VC-backed firms. The panel will discuss how VCs raise funds from institutions and how institutional investors invest in VC funds directly and via advisors like fund of funds. \nPanelists: \nKelly Ford\, General Partner\, Edison Partners \nVince Nystrom\, Principal\, Renaissance Venture Fund \nRyan Rathman\, Senior Portfolio Manager\, State of MI Retirement System
URL:https://broad.msu.edu/event/center-for-venture-capital-private-equity-entrepreneurial-finance-speaker-series/
LOCATION:Online
CATEGORIES:College-wide Events,Finance
END:VEVENT
BEGIN:VEVENT
DTSTART;TZID=America/Detroit:20200928T180000
DTEND;TZID=America/Detroit:20200928T193000
DTSTAMP:20260422T003505
CREATED:20200917T124943Z
LAST-MODIFIED:20200917T125344Z
UID:10003188-1601316000-1601321400@broad.msu.edu
SUMMARY:Center for Venture Capital\, Private Equity\, and Entrepreneurial Finance: Speaker Series
DESCRIPTION:Please join us for Venture Capital\, Private Equity\, and Entrepreneurial Finance’s Speaker Series: “How do Venture Capitalists invest and raise funds?” with Kelly Ford (General Partner\, Edison Partners); Vince Nystrom\, (Principal\, Renaissance Venture Fund)\, and Ryan Rathman (Senior Portfolio Manager\, State of MI Retirement System). \nThe panelist will discuss how Venture Capital funds select early-stage and later-stage companies for investment\, how they decide on the deal structure and valuation\, how they grow their companies\, and how Venture Capital funds exit their investments. The panel will explain how Venture Capital funds raise funds from institutions such as university endowments\, foundations\, pension funds and how institutional investors invest in Venture Capital funds directly\, and via advisors like fund of funds. Finally\, the panelist will discuss the impact of COVID-19 on Venture Capital funds and Venture Capital-backed firms. \n  \n 
URL:https://broad.msu.edu/event/center-for-venture-capital-private-equity-and-entrepreneurial-finance-speaker-series/
LOCATION:MI\, United States
CATEGORIES:Featured Events,Finance
END:VEVENT
END:VCALENDAR