BEGIN:VCALENDAR
VERSION:2.0
PRODID:-//Eli Broad College of Business | Michigan State University - ECPv6.15.17.1//NONSGML v1.0//EN
CALSCALE:GREGORIAN
METHOD:PUBLISH
X-ORIGINAL-URL:https://broad.msu.edu
X-WR-CALDESC:Events for Eli Broad College of Business | Michigan State University
REFRESH-INTERVAL;VALUE=DURATION:PT1H
X-Robots-Tag:noindex
X-PUBLISHED-TTL:PT1H
BEGIN:VTIMEZONE
TZID:America/Detroit
BEGIN:DAYLIGHT
TZOFFSETFROM:-0500
TZOFFSETTO:-0400
TZNAME:EDT
DTSTART:20190310T070000
END:DAYLIGHT
BEGIN:STANDARD
TZOFFSETFROM:-0400
TZOFFSETTO:-0500
TZNAME:EST
DTSTART:20191103T060000
END:STANDARD
BEGIN:DAYLIGHT
TZOFFSETFROM:-0500
TZOFFSETTO:-0400
TZNAME:EDT
DTSTART:20200308T070000
END:DAYLIGHT
BEGIN:STANDARD
TZOFFSETFROM:-0400
TZOFFSETTO:-0500
TZNAME:EST
DTSTART:20201101T060000
END:STANDARD
BEGIN:DAYLIGHT
TZOFFSETFROM:-0500
TZOFFSETTO:-0400
TZNAME:EDT
DTSTART:20210314T070000
END:DAYLIGHT
BEGIN:STANDARD
TZOFFSETFROM:-0400
TZOFFSETTO:-0500
TZNAME:EST
DTSTART:20211107T060000
END:STANDARD
END:VTIMEZONE
BEGIN:VTIMEZONE
TZID:Europe/London
BEGIN:DAYLIGHT
TZOFFSETFROM:+0000
TZOFFSETTO:+0100
TZNAME:BST
DTSTART:20190331T010000
END:DAYLIGHT
BEGIN:STANDARD
TZOFFSETFROM:+0100
TZOFFSETTO:+0000
TZNAME:GMT
DTSTART:20191027T010000
END:STANDARD
BEGIN:DAYLIGHT
TZOFFSETFROM:+0000
TZOFFSETTO:+0100
TZNAME:BST
DTSTART:20200329T010000
END:DAYLIGHT
BEGIN:STANDARD
TZOFFSETFROM:+0100
TZOFFSETTO:+0000
TZNAME:GMT
DTSTART:20201025T010000
END:STANDARD
BEGIN:DAYLIGHT
TZOFFSETFROM:+0000
TZOFFSETTO:+0100
TZNAME:BST
DTSTART:20210328T010000
END:DAYLIGHT
BEGIN:STANDARD
TZOFFSETFROM:+0100
TZOFFSETTO:+0000
TZNAME:GMT
DTSTART:20211031T010000
END:STANDARD
END:VTIMEZONE
BEGIN:VEVENT
DTSTART;TZID=America/Detroit:20200929T170000
DTEND;TZID=America/Detroit:20200929T180000
DTSTAMP:20260423T115803
CREATED:20200730T215739Z
LAST-MODIFIED:20210202T180406Z
UID:10003156-1601398800-1601402400@broad.msu.edu
SUMMARY:Exploring Accounting and Finance | Majors and Careers
DESCRIPTION:
URL:https://broad.msu.edu/event/exploring-accounting-finance-majors-and-careers/
LOCATION:MI
CATEGORIES:Career Management
ORGANIZER;CN="Career Management":MAILTO:palmer@broad.msu.edu
END:VEVENT
BEGIN:VEVENT
DTSTART;TZID=Europe/London:20200929T180000
DTEND;TZID=Europe/London:20200929T210000
DTSTAMP:20260423T115803
CREATED:20200803T164451Z
LAST-MODIFIED:20210219T184606Z
UID:10002995-1601402400-1601413200@broad.msu.edu
SUMMARY:Forte MBA Forums: UK and Europe Event
DESCRIPTION:Join the Michigan State Broad MBA admissions team at the Forté Forums! Stop by our virtual booth to learn more about the program\, chat with alumnae and receive an app fee waiver for your fall 2021 intake application! \nForté MBA Forums are designed for all women considering an MBA — whether you’re a high achiever looking to change careers\, a college student planning for the future\, or a professional ready to take your career to the next level.
URL:https://broad.msu.edu/event/full-time-mba-forte-mba-forums-uk-and-europe-event/
LOCATION:Online
CATEGORIES:Admissions Events,Full-Time MBA
END:VEVENT
END:VCALENDAR