BEGIN:VCALENDAR
VERSION:2.0
PRODID:-//Eli Broad College of Business | Michigan State University - ECPv6.15.17.1//NONSGML v1.0//EN
CALSCALE:GREGORIAN
METHOD:PUBLISH
X-ORIGINAL-URL:https://broad.msu.edu
X-WR-CALDESC:Events for Eli Broad College of Business | Michigan State University
REFRESH-INTERVAL;VALUE=DURATION:PT1H
X-Robots-Tag:noindex
X-PUBLISHED-TTL:PT1H
BEGIN:VTIMEZONE
TZID:America/Detroit
BEGIN:DAYLIGHT
TZOFFSETFROM:-0500
TZOFFSETTO:-0400
TZNAME:EDT
DTSTART:20190310T070000
END:DAYLIGHT
BEGIN:STANDARD
TZOFFSETFROM:-0400
TZOFFSETTO:-0500
TZNAME:EST
DTSTART:20191103T060000
END:STANDARD
BEGIN:DAYLIGHT
TZOFFSETFROM:-0500
TZOFFSETTO:-0400
TZNAME:EDT
DTSTART:20200308T070000
END:DAYLIGHT
BEGIN:STANDARD
TZOFFSETFROM:-0400
TZOFFSETTO:-0500
TZNAME:EST
DTSTART:20201101T060000
END:STANDARD
BEGIN:DAYLIGHT
TZOFFSETFROM:-0500
TZOFFSETTO:-0400
TZNAME:EDT
DTSTART:20210314T070000
END:DAYLIGHT
BEGIN:STANDARD
TZOFFSETFROM:-0400
TZOFFSETTO:-0500
TZNAME:EST
DTSTART:20211107T060000
END:STANDARD
END:VTIMEZONE
BEGIN:VEVENT
DTSTART;TZID=America/Detroit:20201001T120000
DTEND;TZID=America/Detroit:20201001T130000
DTSTAMP:20260422T134759
CREATED:20200723T181339Z
LAST-MODIFIED:20200723T181339Z
UID:10003095-1601553600-1601557200@broad.msu.edu
SUMMARY:Broad Full-Time MBA Virtual Office Hours
DESCRIPTION:Join the Michigan State Broad Full-Time MBA Admissions team to answer any questions you may have before the Early Round application deadline on October 4th! You can feel free to join even if you plan to apply in a later application round.
URL:https://broad.msu.edu/event/broad-full-time-mba-virtual-office-hours/
LOCATION:Online
CATEGORIES:Admissions Events,Full-Time MBA
ORGANIZER;CN="MBA Admissions":MAILTO:mba@msu.edu
END:VEVENT
BEGIN:VEVENT
DTSTART;TZID=America/Detroit:20201001T193000
DTEND;TZID=America/Detroit:20201001T203000
DTSTAMP:20260422T134759
CREATED:20200730T135559Z
LAST-MODIFIED:20200730T135559Z
UID:10003106-1601580600-1601584200@broad.msu.edu
SUMMARY:Virtual Information Technology Mix & Mingle
DESCRIPTION:
URL:https://broad.msu.edu/event/virtual-information-technology-mix-mingle/
LOCATION:MI
CATEGORIES:Career Management
ORGANIZER;CN="Career Management":MAILTO:palmer@broad.msu.edu
END:VEVENT
END:VCALENDAR