BEGIN:VCALENDAR
VERSION:2.0
PRODID:-//Eli Broad College of Business | Michigan State University - ECPv6.15.17.1//NONSGML v1.0//EN
CALSCALE:GREGORIAN
METHOD:PUBLISH
X-WR-CALNAME:Eli Broad College of Business | Michigan State University
X-ORIGINAL-URL:https://broad.msu.edu
X-WR-CALDESC:Events for Eli Broad College of Business | Michigan State University
REFRESH-INTERVAL;VALUE=DURATION:PT1H
X-Robots-Tag:noindex
X-PUBLISHED-TTL:PT1H
BEGIN:VTIMEZONE
TZID:America/Detroit
BEGIN:DAYLIGHT
TZOFFSETFROM:-0500
TZOFFSETTO:-0400
TZNAME:EDT
DTSTART:20190310T070000
END:DAYLIGHT
BEGIN:STANDARD
TZOFFSETFROM:-0400
TZOFFSETTO:-0500
TZNAME:EST
DTSTART:20191103T060000
END:STANDARD
BEGIN:DAYLIGHT
TZOFFSETFROM:-0500
TZOFFSETTO:-0400
TZNAME:EDT
DTSTART:20200308T070000
END:DAYLIGHT
BEGIN:STANDARD
TZOFFSETFROM:-0400
TZOFFSETTO:-0500
TZNAME:EST
DTSTART:20201101T060000
END:STANDARD
BEGIN:DAYLIGHT
TZOFFSETFROM:-0500
TZOFFSETTO:-0400
TZNAME:EDT
DTSTART:20210314T070000
END:DAYLIGHT
BEGIN:STANDARD
TZOFFSETFROM:-0400
TZOFFSETTO:-0500
TZNAME:EST
DTSTART:20211107T060000
END:STANDARD
END:VTIMEZONE
BEGIN:VEVENT
DTSTART;TZID=America/Detroit:20201105T120000
DTEND;TZID=America/Detroit:20201105T130000
DTSTAMP:20260423T221412
CREATED:20201027T165756Z
LAST-MODIFIED:20210219T185051Z
UID:10003036-1604577600-1604581200@broad.msu.edu
SUMMARY:Broad Full-Time MBA Virtual Office Hours
DESCRIPTION:The password for this session is: BROAD \nJoin the Michigan State Broad Full-Time MBA Admissions team to answer any questions you may have before the Round 1 application deadline on November 8th! You can feel free to join even if you plan to apply in a later application round. All attendees will receive an application fee waiver.
URL:https://broad.msu.edu/event/full-time-mba-virtual-office-hours-2/
LOCATION:Online
CATEGORIES:Admissions Events,Full-Time MBA
ORGANIZER;CN="MBA Admissions":MAILTO:mba@msu.edu
END:VEVENT
BEGIN:VEVENT
DTSTART;TZID=America/Detroit:20201105T163000
DTEND;TZID=America/Detroit:20201105T170000
DTSTAMP:20260423T221412
CREATED:20201005T164456Z
LAST-MODIFIED:20210108T202158Z
UID:10003216-1604593800-1604595600@broad.msu.edu
SUMMARY:Prospective Undergraduate Student Information Session
DESCRIPTION:The Eli Broad College of Business invites prospective freshman\, transfer\, and families to communicate via email or Zoom. Comprehensive Zoom sessions take place on select Thursdays at 4:30 p.m.\, and prior registration is required. These sessions provide more information about Broad majors\, college and major admissions\, academic curriculum\, student life\, education abroad and services available to Broad students. \nPrior registration is required.
URL:https://broad.msu.edu/event/prospective-undergraduate-student-information-session-24/2020-11-05/
LOCATION:MI\, United States
CATEGORIES:Undergraduate Prospective Student
ORGANIZER;CN="Undergraduate Academic Services (UAS)":MAILTO:undergrad@broad.msu.edu
END:VEVENT
BEGIN:VEVENT
DTSTART;TZID=America/Detroit:20201105T180000
DTEND;TZID=America/Detroit:20201105T190000
DTSTAMP:20260423T221412
CREATED:20201007T150228Z
LAST-MODIFIED:20201008T003015Z
UID:10003021-1604599200-1604602800@broad.msu.edu
SUMMARY:Warrington Visiting Lectureship in Ethics and Leadership
DESCRIPTION:At the annual Sylvan T. Warrington Visiting Lectureship in Ethics and Leadership\, we welcome esteemed Broad College alumni back to speak to our community about the convergence of corporate citizenship\, strategy\, and ethical leadership. \nRay Scott (Executive MBA ’02)\, President and CEO of Lear Corporation will be the featured executive speaker at the 2020 Warrington Lecture. Scott will join Eli and Edythe L. Broad Dean Sanjay Gupta in a “fireside chat” and Q&A.
URL:https://broad.msu.edu/event/warrington-visiting-lectureship-in-ethics-and-leadership/
LOCATION:Online
CATEGORIES:Alumni Events,College-wide Events,Featured Events
ORGANIZER;CN="Tami Muethel%2C CMP":MAILTO:events@broad.msu.edu
END:VEVENT
END:VCALENDAR