BEGIN:VCALENDAR
VERSION:2.0
PRODID:-//Eli Broad College of Business | Michigan State University - ECPv6.15.17.1//NONSGML v1.0//EN
CALSCALE:GREGORIAN
METHOD:PUBLISH
X-WR-CALNAME:Eli Broad College of Business | Michigan State University
X-ORIGINAL-URL:https://broad.msu.edu
X-WR-CALDESC:Events for Eli Broad College of Business | Michigan State University
REFRESH-INTERVAL;VALUE=DURATION:PT1H
X-Robots-Tag:noindex
X-PUBLISHED-TTL:PT1H
BEGIN:VTIMEZONE
TZID:America/Detroit
BEGIN:DAYLIGHT
TZOFFSETFROM:-0500
TZOFFSETTO:-0400
TZNAME:EDT
DTSTART:20190310T070000
END:DAYLIGHT
BEGIN:STANDARD
TZOFFSETFROM:-0400
TZOFFSETTO:-0500
TZNAME:EST
DTSTART:20191103T060000
END:STANDARD
BEGIN:DAYLIGHT
TZOFFSETFROM:-0500
TZOFFSETTO:-0400
TZNAME:EDT
DTSTART:20200308T070000
END:DAYLIGHT
BEGIN:STANDARD
TZOFFSETFROM:-0400
TZOFFSETTO:-0500
TZNAME:EST
DTSTART:20201101T060000
END:STANDARD
BEGIN:DAYLIGHT
TZOFFSETFROM:-0500
TZOFFSETTO:-0400
TZNAME:EDT
DTSTART:20210314T070000
END:DAYLIGHT
BEGIN:STANDARD
TZOFFSETFROM:-0400
TZOFFSETTO:-0500
TZNAME:EST
DTSTART:20211107T060000
END:STANDARD
END:VTIMEZONE
BEGIN:VEVENT
DTSTART;TZID=America/Detroit:20201110T114000
DTEND;TZID=America/Detroit:20201110T124000
DTSTAMP:20260420T121414
CREATED:20200910T111254Z
LAST-MODIFIED:20210219T185134Z
UID:10003185-1605008400-1605012000@broad.msu.edu
SUMMARY:MBAA & Palmer Center: Employer and Alumni Panel Series
DESCRIPTION:Key recruiters and Alumni have been invited to provide valuable insights during this challenging time. They will discuss navigating a difficult economy and an inside look at how organizations are dealing with the COVID crisis. \n  \nFor more information or to register please email palmer@broad.msu.edu
URL:https://broad.msu.edu/event/full-mba-mbaa-palmer-center-employer-and-alumni-panel-series-2/
CATEGORIES:Career Management,Full-Time MBA
END:VEVENT
BEGIN:VEVENT
DTSTART;TZID=America/Detroit:20201110T190000
DTEND;TZID=America/Detroit:20201110T200000
DTSTAMP:20260420T121414
CREATED:20200924T150711Z
LAST-MODIFIED:20210219T185152Z
UID:10003205-1605034800-1605038400@broad.msu.edu
SUMMARY:Broad MBA Veteran's Panel Webinar
DESCRIPTION:The passcode for this webinar is 784943 \nJoin a group of current Broad MBA veteran students to learn more about what the program has to offer for those have served in the US military and what it was like for them to transition into civilian life and start an MBA after their service. We will have time for an open Q+A session at the end of this webinar. \nAll attendees of this webinar will receive an application fee waiver for the Broad Full-Time MBA Fall 2021 intake.
URL:https://broad.msu.edu/event/full-time-mba-broad-mba-veterans-panel-webinar/
LOCATION:Online
CATEGORIES:Admissions Events,Full-Time MBA
ORGANIZER;CN="MBA Admissions":MAILTO:mba@msu.edu
END:VEVENT
END:VCALENDAR