BEGIN:VCALENDAR
VERSION:2.0
PRODID:-//Eli Broad College of Business | Michigan State University - ECPv6.15.17.1//NONSGML v1.0//EN
CALSCALE:GREGORIAN
METHOD:PUBLISH
X-ORIGINAL-URL:https://broad.msu.edu
X-WR-CALDESC:Events for Eli Broad College of Business | Michigan State University
REFRESH-INTERVAL;VALUE=DURATION:PT1H
X-Robots-Tag:noindex
X-PUBLISHED-TTL:PT1H
BEGIN:VTIMEZONE
TZID:America/Detroit
BEGIN:DAYLIGHT
TZOFFSETFROM:-0500
TZOFFSETTO:-0400
TZNAME:EDT
DTSTART:20200308T070000
END:DAYLIGHT
BEGIN:STANDARD
TZOFFSETFROM:-0400
TZOFFSETTO:-0500
TZNAME:EST
DTSTART:20201101T060000
END:STANDARD
BEGIN:DAYLIGHT
TZOFFSETFROM:-0500
TZOFFSETTO:-0400
TZNAME:EDT
DTSTART:20210314T070000
END:DAYLIGHT
BEGIN:STANDARD
TZOFFSETFROM:-0400
TZOFFSETTO:-0500
TZNAME:EST
DTSTART:20211107T060000
END:STANDARD
BEGIN:DAYLIGHT
TZOFFSETFROM:-0500
TZOFFSETTO:-0400
TZNAME:EDT
DTSTART:20220313T070000
END:DAYLIGHT
BEGIN:STANDARD
TZOFFSETFROM:-0400
TZOFFSETTO:-0500
TZNAME:EST
DTSTART:20221106T060000
END:STANDARD
END:VTIMEZONE
BEGIN:VEVENT
DTSTART;TZID=America/Detroit:20210126T180000
DTEND;TZID=America/Detroit:20210126T191500
DTSTAMP:20260421T155301
CREATED:20200917T163909Z
LAST-MODIFIED:20200917T170549Z
UID:10003193-1611684000-1611688500@broad.msu.edu
SUMMARY:Innovate State\, with Julian Posada
DESCRIPTION:Innovate State is a collaboration between the Burgess Institute for Entrepreneurship & Innovation and the MSU Innovation Center. \nHosted in the Gaynor Entrepreneurship Lab\, Innovate State welcomes successful Spartan alumni back to campus for a fireside chat. Guests share their perspectives on everything from launching start-ups to experiencing success and failure to building dynamic and nurturing work cultures. \n \n  \nAbout The Speaker\nJulian\, a serial entrepreneur professional with over 20 years of experience creating and executing strategies to maximize enterprise value in both the private and social impact sectors. Currently\, the Founder and President of LiftUp enterprises\, a for-profit holding company that focuses on both economic and social outcomes\, that accelerates the stability and mobility of individuals in low-income communities. Prior to this\, he was the President and CEO of the Chicago Fire Soccer Club. He was responsible for the day-to-day operations serving as the top Fire business executive leading the strategic planning and overall management of the club. Posada has served on numerous non-profit boards over his career. Currently\, he sits on the boards of the WTTW Public Television\, Chicago Public Media (WBEZ)\, Forefront\, Metropolitan Planning Council (MPC)\, and The Otho S. A. Sprague Memorial Institute. Julian earned an MBA from the J.L. Kellogg Graduate School of Management and a B.S. from Michigan State University. \n  \nAbout Innovate State\nEvery year\, Innovate State features Spartan entrepreneurs\, innovators\, and disruptors to join our community for a fireside chat. In these 60-minute interviews\, guests share their perspectives on everything from business to family life; the hard knocks of the hustle to maintaining work/life balance. These are stories of success\, stories of failure\, and stories of uncommon will. \nInnovate State is proudly brought to you by the Burgess Institute for Entrepreneurship & Innovation in collaboration with the MSU Innovation Center and MSU Alumni Office. Innovate State kicks-off at 6 p.m. and are free to the community. Events will be held via Zoom. Early registration is highly encouraged. \n \nPlease join us\, virtually\, for Innovate State\, with Julian Posada\, on Tue.\, January 26th at 6 p.m. (Eastern Time).
URL:https://broad.msu.edu/event/innovate-state-with-julian-posada/
LOCATION:Online
CATEGORIES:Entrepreneurship,Featured Events
ORGANIZER;CN="Burgess Institute for Entrepreneurship &amp%3B Innovation":MAILTO:eship@msu.edu
END:VEVENT
END:VCALENDAR