BEGIN:VCALENDAR
VERSION:2.0
PRODID:-//Eli Broad College of Business | Michigan State University - ECPv6.15.17.1//NONSGML v1.0//EN
CALSCALE:GREGORIAN
METHOD:PUBLISH
X-ORIGINAL-URL:https://broad.msu.edu
X-WR-CALDESC:Events for Eli Broad College of Business | Michigan State University
REFRESH-INTERVAL;VALUE=DURATION:PT1H
X-Robots-Tag:noindex
X-PUBLISHED-TTL:PT1H
BEGIN:VTIMEZONE
TZID:America/Detroit
BEGIN:DAYLIGHT
TZOFFSETFROM:-0500
TZOFFSETTO:-0400
TZNAME:EDT
DTSTART:20200308T070000
END:DAYLIGHT
BEGIN:STANDARD
TZOFFSETFROM:-0400
TZOFFSETTO:-0500
TZNAME:EST
DTSTART:20201101T060000
END:STANDARD
BEGIN:DAYLIGHT
TZOFFSETFROM:-0500
TZOFFSETTO:-0400
TZNAME:EDT
DTSTART:20210314T070000
END:DAYLIGHT
BEGIN:STANDARD
TZOFFSETFROM:-0400
TZOFFSETTO:-0500
TZNAME:EST
DTSTART:20211107T060000
END:STANDARD
BEGIN:DAYLIGHT
TZOFFSETFROM:-0500
TZOFFSETTO:-0400
TZNAME:EDT
DTSTART:20220313T070000
END:DAYLIGHT
BEGIN:STANDARD
TZOFFSETFROM:-0400
TZOFFSETTO:-0500
TZNAME:EST
DTSTART:20221106T060000
END:STANDARD
END:VTIMEZONE
BEGIN:VEVENT
DTSTART;TZID=America/Detroit:20210226T100000
DTEND;TZID=America/Detroit:20210226T103000
DTSTAMP:20260422T194020
CREATED:20210118T200016Z
LAST-MODIFIED:20210218T180024Z
UID:10003299-1614333600-1614335400@broad.msu.edu
SUMMARY:Broad MBA Weekly Virtual Office Hours
DESCRIPTION:Drop in and join the Broad Full-Time MBA admissions team graduate assistants to ask any questions you may have about the program/admissions process and learn about the Broad MBA from a current student’s perspective. Please feel free to connect for any amount of time during the 30-minute weekly Friday sessions between 10:00am-10:30am ET during the Spring 2021 semester. \nJust click here to join\, the password is BROAD. \nPlease note that there will not be office hours on Friday\, March 12th due to spring break.
URL:https://broad.msu.edu/event/full-time-mba-broad-mba-weekly-virtual-office-hours-2/2021-02-26/
LOCATION:Online
CATEGORIES:Admissions Events,Full-Time MBA
ORGANIZER;CN="MBA Admissions":MAILTO:mba@msu.edu
END:VEVENT
BEGIN:VEVENT
DTSTART;TZID=America/Detroit:20210226T120000
DTEND;TZID=America/Detroit:20210226T130000
DTSTAMP:20260422T194020
CREATED:20210113T190807Z
LAST-MODIFIED:20210225T200544Z
UID:10003290-1614340800-1614344400@broad.msu.edu
SUMMARY:Major and Career Exploration: Supply Chain Management Related Majors at MSU
DESCRIPTION:Join Undergraduate Academic Services for the Broad college of Business as we explore Supply Chain Management Related majors at MSU. \nCareer opportunities\, program information\, and live Q&A with our presenters\, including: \n\nKelly Lynch\, Director of Corporate and Student Relations\, Department of Supply Chain Management\nAaron Tucker\, Academic Advisor\, School of Packaging\nLarry Zink\, Senior Academic Specialist\, Industrial Relations/Outreach Coordinator\, Department of Agricultural\, Food\, and Resource Economics\nRussell Palmer\, Career Management Center
URL:https://broad.msu.edu/event/major-and-career-exploration-supply-chain-management-related-majors-at-msu/
LOCATION:Online
CATEGORIES:Featured Events,Major Exploration Sessions
ORGANIZER;CN="Undergraduate Academic Services (UAS)":MAILTO:undergrad@broad.msu.edu
END:VEVENT
END:VCALENDAR