BEGIN:VCALENDAR
VERSION:2.0
PRODID:-//Eli Broad College of Business | Michigan State University - ECPv6.15.17.1//NONSGML v1.0//EN
CALSCALE:GREGORIAN
METHOD:PUBLISH
X-ORIGINAL-URL:https://broad.msu.edu
X-WR-CALDESC:Events for Eli Broad College of Business | Michigan State University
REFRESH-INTERVAL;VALUE=DURATION:PT1H
X-Robots-Tag:noindex
X-PUBLISHED-TTL:PT1H
BEGIN:VTIMEZONE
TZID:America/Detroit
BEGIN:DAYLIGHT
TZOFFSETFROM:-0500
TZOFFSETTO:-0400
TZNAME:EDT
DTSTART:20200308T070000
END:DAYLIGHT
BEGIN:STANDARD
TZOFFSETFROM:-0400
TZOFFSETTO:-0500
TZNAME:EST
DTSTART:20201101T060000
END:STANDARD
BEGIN:DAYLIGHT
TZOFFSETFROM:-0500
TZOFFSETTO:-0400
TZNAME:EDT
DTSTART:20210314T070000
END:DAYLIGHT
BEGIN:STANDARD
TZOFFSETFROM:-0400
TZOFFSETTO:-0500
TZNAME:EST
DTSTART:20211107T060000
END:STANDARD
BEGIN:DAYLIGHT
TZOFFSETFROM:-0500
TZOFFSETTO:-0400
TZNAME:EDT
DTSTART:20220313T070000
END:DAYLIGHT
BEGIN:STANDARD
TZOFFSETFROM:-0400
TZOFFSETTO:-0500
TZNAME:EST
DTSTART:20221106T060000
END:STANDARD
END:VTIMEZONE
BEGIN:VEVENT
DTSTART;TZID=America/Detroit:20210401T140000
DTEND;TZID=America/Detroit:20210402T180000
DTSTAMP:20260421T135454
CREATED:20210309T190112Z
LAST-MODIFIED:20210309T191136Z
UID:10003080-1617285600-1617386400@broad.msu.edu
SUMMARY:M.S./MBA Virtual Career Fair
DESCRIPTION:This event will take place at 2pm-6pm on April 1st for jobs in data and technology. Then\, on April 2nd from 2pm-6pm  will feature jobs focused in finance. This event will focus on getting you in front of employers for one-on-one chats. The employers will come from a broad range of industries looking to hire M.S./MBA candidates for a role in data\, finance or technology. A candidate attending this event will have access to customized employer booths\, a career event job board\, and the ability to share your resume with employers during text\, video or audio chats.
URL:https://broad.msu.edu/event/full-time-mba-ms-virtual-fair/
LOCATION:Online
CATEGORIES:Featured Events,Finance,Full-Time MBA
ORGANIZER;CN="Bronti Ziolkowski":MAILTO:belan108@msu.edu
END:VEVENT
BEGIN:VEVENT
DTSTART;TZID=America/Detroit:20210401T170000
DTEND;TZID=America/Detroit:20210410T190000
DTSTAMP:20260421T135454
CREATED:20190422T135229Z
LAST-MODIFIED:20210326T194305Z
UID:10002912-1617296400-1618081200@broad.msu.edu
SUMMARY:Destination Auction: Explore the Wild Side
DESCRIPTION:This event will be conducted in an online format. Details can be found on the Destination Auction web site. The catalog of Auction items will be available April 1 – 10\, 2021. Auction bids will close promptly at 7 p.m. on Saturday\, April 10\, 2021. \nDestination Auction is the premiere fundraising event for The School of Hospitality Business\, the student Hospitality Association\, and its Alumni Association. Destination Auction features spectacular individual travel and experience packages donated by alumni and other industry friends. This popular event draws hundreds of community members\, alumni\, students\, and faculty\, and helps fund a number of programs in The School of Hospitality Business. With a different theme each year\, Auction is an exciting\, colorful event\, organized and led by students in partnership with School alumni. \n 
URL:https://broad.msu.edu/event/destination-auction/
LOCATION:Online
CATEGORIES:Alumni Events,Featured Events,Hospitality Business
END:VEVENT
BEGIN:VEVENT
DTSTART;TZID=America/Detroit:20210402T100000
DTEND;TZID=America/Detroit:20210402T103000
DTSTAMP:20260421T135454
CREATED:20210118T200016Z
LAST-MODIFIED:20210218T180024Z
UID:10003303-1617357600-1617359400@broad.msu.edu
SUMMARY:Broad MBA Weekly Virtual Office Hours
DESCRIPTION:Drop in and join the Broad Full-Time MBA admissions team graduate assistants to ask any questions you may have about the program/admissions process and learn about the Broad MBA from a current student’s perspective. Please feel free to connect for any amount of time during the 30-minute weekly Friday sessions between 10:00am-10:30am ET during the Spring 2021 semester. \nJust click here to join\, the password is BROAD. \nPlease note that there will not be office hours on Friday\, March 12th due to spring break.
URL:https://broad.msu.edu/event/full-time-mba-broad-mba-weekly-virtual-office-hours-2/2021-04-02/
LOCATION:Online
CATEGORIES:Admissions Events,Full-Time MBA
ORGANIZER;CN="MBA Admissions":MAILTO:mba@msu.edu
END:VEVENT
END:VCALENDAR