BEGIN:VCALENDAR
VERSION:2.0
PRODID:-//Eli Broad College of Business | Michigan State University - ECPv6.15.17.1//NONSGML v1.0//EN
CALSCALE:GREGORIAN
METHOD:PUBLISH
X-WR-CALNAME:Eli Broad College of Business | Michigan State University
X-ORIGINAL-URL:https://broad.msu.edu
X-WR-CALDESC:Events for Eli Broad College of Business | Michigan State University
REFRESH-INTERVAL;VALUE=DURATION:PT1H
X-Robots-Tag:noindex
X-PUBLISHED-TTL:PT1H
BEGIN:VTIMEZONE
TZID:America/Detroit
BEGIN:DAYLIGHT
TZOFFSETFROM:-0500
TZOFFSETTO:-0400
TZNAME:EDT
DTSTART:20200308T070000
END:DAYLIGHT
BEGIN:STANDARD
TZOFFSETFROM:-0400
TZOFFSETTO:-0500
TZNAME:EST
DTSTART:20201101T060000
END:STANDARD
BEGIN:DAYLIGHT
TZOFFSETFROM:-0500
TZOFFSETTO:-0400
TZNAME:EDT
DTSTART:20210314T070000
END:DAYLIGHT
BEGIN:STANDARD
TZOFFSETFROM:-0400
TZOFFSETTO:-0500
TZNAME:EST
DTSTART:20211107T060000
END:STANDARD
BEGIN:DAYLIGHT
TZOFFSETFROM:-0500
TZOFFSETTO:-0400
TZNAME:EDT
DTSTART:20220313T070000
END:DAYLIGHT
BEGIN:STANDARD
TZOFFSETFROM:-0400
TZOFFSETTO:-0500
TZNAME:EST
DTSTART:20221106T060000
END:STANDARD
END:VTIMEZONE
BEGIN:VEVENT
DTSTART;VALUE=DATE:20210412
DTEND;VALUE=DATE:20210417
DTSTAMP:20260419T092639
CREATED:20191121T153932Z
LAST-MODIFIED:20210202T194201Z
UID:10002927-1618185600-1618617599@broad.msu.edu
SUMMARY:Hospitality Business: Club Management Association of America (BMI for GM/COO)
DESCRIPTION:To attend this five day educational conference\, please contact Club Management Association of America directly. \nClick here to register
URL:https://broad.msu.edu/event/hospitality-business-club-managers-association-of-america-bmi-gm-coo/
LOCATION:Online
CATEGORIES:Hospitality Business
END:VEVENT
BEGIN:VEVENT
DTSTART;TZID=America/Detroit:20210414T130000
DTEND;TZID=America/Detroit:20210414T140000
DTSTAMP:20260419T092639
CREATED:20210406T163836Z
LAST-MODIFIED:20210413T165631Z
UID:10003340-1618405200-1618408800@broad.msu.edu
SUMMARY:Supply Chain Disruption Amid COVID-19 (No Cost Webinar)
DESCRIPTION:Corporate Sustainability & Innovation in the Post-Pandemic Recovery: The Myths\, Challenges & Opportunities\nIn the first five installments of this webinar series\, we explored what firms can do to build more resilient and responsive supply chains to mitigate disruptions under extraordinary events\, such as the COVID-19 pandemic. We then discussed the impact for specific industries; in particular\, transportation\, pharmaceutical\, and healthcare. The most recent two webinars focused on the vaccine supply chain and the lessons learned under COVID-19. We invite you to 2020-21’s final installment of the webinar series\, focusing on sustainable supply chains. \nLarge and small organizations should be equipped with incentives and funding to take care of end-of-life disposals. With the soaring prices of raw materials\, including rare minerals\, the time is right for prioritizing sustainability and pursuing infrastructure upgrades to meet the needs of reuse and recycling and to justify the economic rationale. \nThe webinar will be moderated by David J. Frayer\, Ph.D.\, Assistant Dean\, Outreach and Engagement\, and will feature four sustainability experts. \nSpeakers: \n\nVedat Verter\, Chairperson SCM and McConnell Chaired Professor – Opening Remarks\nHan Zhang\, Assistant Professor SCM – Research Perspectives\nYing Liu\, Founder and CEO\, Blue Lake Packaging (formerly\, Senior Director of Product Operations and Corporate Social Responsibility at Apple)\nBing Cao\, Co-Founder & Managing Partner\, Blue Lake Packaging (formerly\, Associate Partner and Solution Leader at McKinsey & Company)
URL:https://broad.msu.edu/event/supply-chain-disruption-amid-covid-19-no-cost-webinar/
LOCATION:Online
CATEGORIES:Supply Chain Management
ORGANIZER;CN="David J. Frayer%2C Ph.D.":MAILTO:frayerda@broad.msu.edu
END:VEVENT
BEGIN:VEVENT
DTSTART;TZID=America/Detroit:20210414T180000
DTEND;TZID=America/Detroit:20210414T190000
DTSTAMP:20260419T092639
CREATED:20201218T175139Z
LAST-MODIFIED:20210324T145423Z
UID:10003277-1618423200-1618426800@broad.msu.edu
SUMMARY:Broad EMBA Program Information session: ROI for Small and Medium Businesses
DESCRIPTION:We invite you to join Greg Janicki Director of the Broad Executive MBA as he discusses program insights with alumni from small and medium-sized businesses. At this webinar\, you will learn about the opportunities and ROI the program has to offer to entrepreneurs\, small/medium business owners and employees. \nWe will have time for an open Q+A session at the end of this webinar.
URL:https://broad.msu.edu/event/executive-mba-emerging-businesses-panel/
LOCATION:Online
CATEGORIES:Executive MBA,Recruiting Events
ORGANIZER;CN="Kara Tripi":MAILTO:ktripi@broad.msu.edu
END:VEVENT
END:VCALENDAR