BEGIN:VCALENDAR
VERSION:2.0
PRODID:-//Eli Broad College of Business | Michigan State University - ECPv6.15.17.1//NONSGML v1.0//EN
CALSCALE:GREGORIAN
METHOD:PUBLISH
X-ORIGINAL-URL:https://broad.msu.edu
X-WR-CALDESC:Events for Eli Broad College of Business | Michigan State University
REFRESH-INTERVAL;VALUE=DURATION:PT1H
X-Robots-Tag:noindex
X-PUBLISHED-TTL:PT1H
BEGIN:VTIMEZONE
TZID:America/Detroit
BEGIN:DAYLIGHT
TZOFFSETFROM:-0500
TZOFFSETTO:-0400
TZNAME:EDT
DTSTART:20200308T070000
END:DAYLIGHT
BEGIN:STANDARD
TZOFFSETFROM:-0400
TZOFFSETTO:-0500
TZNAME:EST
DTSTART:20201101T060000
END:STANDARD
BEGIN:DAYLIGHT
TZOFFSETFROM:-0500
TZOFFSETTO:-0400
TZNAME:EDT
DTSTART:20210314T070000
END:DAYLIGHT
BEGIN:STANDARD
TZOFFSETFROM:-0400
TZOFFSETTO:-0500
TZNAME:EST
DTSTART:20211107T060000
END:STANDARD
BEGIN:DAYLIGHT
TZOFFSETFROM:-0500
TZOFFSETTO:-0400
TZNAME:EDT
DTSTART:20220313T070000
END:DAYLIGHT
BEGIN:STANDARD
TZOFFSETFROM:-0400
TZOFFSETTO:-0500
TZNAME:EST
DTSTART:20221106T060000
END:STANDARD
END:VTIMEZONE
BEGIN:VEVENT
DTSTART;TZID=America/Detroit:20210917T130000
DTEND;TZID=America/Detroit:20210918T210000
DTSTAMP:20260425T161412
CREATED:20210908T202824Z
LAST-MODIFIED:20210913T184532Z
UID:10003462-1631883600-1631998800@broad.msu.edu
SUMMARY:2 Day Venture: The Future of Media
DESCRIPTION:DISCOVER. BUILD. CHALLENGE.\n2 DAY VENTURE (2DV) is a hands-on learning experience designed exclusively for Spartans at Michigan State University\, regardless of home college\, major\, or background. Each event offers unbeatable entrepreneurial education resources & the freedom to explore turning a project or idea into reality — all packed into 36 hours.\n2DV encourages students of all majors\, skillsets\, & experience levels to embrace the entrepreneurial mindset. For students enrolled in the Minor in Entrepreneurship & Innovation\, 2DV qualifies as a required high-impact experience toward the Minor. \nNo Project or Idea? No Problem! \nYou don’t have to have a venture idea or project to participate in 2DV! There will be an opportunity prior to the event for you to choose which venture idea or project you like the most & are able to join their team! \n2 DAY VENTURE is designed for Spartans to create & build a new venture with a team\, not by yourself. \nRegistration Information\nThe Burgess Institute for Entrepreneurship & Innovation utilizes Eventbrite to manage registration for all 2 DAY VENTURE events. To register for the event\, select “Tickets” to submit your application now! For any further questions\, please email Aubrey Haase\, haaseaub@msu.edu.
URL:https://broad.msu.edu/event/2-day-venture-the-future-of-media/
LOCATION:Entrepreneurship Lab\, 651 N Shaw Ln\, East Lansing\, MI\, 48824\, United States
CATEGORIES:Entrepreneurship
ORGANIZER;CN="Burgess Institute for Entrepreneurship &amp%3B Innovation":MAILTO:eship@msu.edu
END:VEVENT
BEGIN:VEVENT
DTSTART;TZID=America/Detroit:20210918T120000
DTEND;TZID=America/Detroit:20210918T130000
DTSTAMP:20260425T161412
CREATED:20210830T151505Z
LAST-MODIFIED:20210831T120937Z
UID:10003460-1631966400-1631970000@broad.msu.edu
SUMMARY:Hospitality Business: Newest Alumni Reception Celebration
DESCRIPTION:Save the Date and Join us in Celebration!  We will celebrate the graduates of 2020 and Spring/Summer 2021. \n\n12 noon – 1 p.m. – Newest Alumni Celebration Reception @ Eppley Center | 4th floor\n2 p.m. – Commencement @ Breslin Center\n\nThe Registrar’s Office sent an email invitation to graduates in July and RSVPs were due by August 13 to attend ceremonies. Please view MSU Commencement web site for details:  Home | Commencement (msu.edu) \nImportant Notice:\nThis event is contingent on adhering to guidelines set forth in the MSU Community Compact.
URL:https://broad.msu.edu/event/hospitality-business-fall-2021-commencement/
LOCATION:Eppley Center\, 667 N Shaw Ln\, East Lansing\, MI\, 48824\, United States
CATEGORIES:Hospitality Business
ORGANIZER;CN="Lena Loeffler":MAILTO:loeffler@broad.msu.edu
END:VEVENT
END:VCALENDAR