BEGIN:VCALENDAR
VERSION:2.0
PRODID:-//Eli Broad College of Business | Michigan State University - ECPv6.15.17.1//NONSGML v1.0//EN
CALSCALE:GREGORIAN
METHOD:PUBLISH
X-ORIGINAL-URL:https://broad.msu.edu
X-WR-CALDESC:Events for Eli Broad College of Business | Michigan State University
REFRESH-INTERVAL;VALUE=DURATION:PT1H
X-Robots-Tag:noindex
X-PUBLISHED-TTL:PT1H
BEGIN:VTIMEZONE
TZID:America/Detroit
BEGIN:DAYLIGHT
TZOFFSETFROM:-0500
TZOFFSETTO:-0400
TZNAME:EDT
DTSTART:20200308T070000
END:DAYLIGHT
BEGIN:STANDARD
TZOFFSETFROM:-0400
TZOFFSETTO:-0500
TZNAME:EST
DTSTART:20201101T060000
END:STANDARD
BEGIN:DAYLIGHT
TZOFFSETFROM:-0500
TZOFFSETTO:-0400
TZNAME:EDT
DTSTART:20210314T070000
END:DAYLIGHT
BEGIN:STANDARD
TZOFFSETFROM:-0400
TZOFFSETTO:-0500
TZNAME:EST
DTSTART:20211107T060000
END:STANDARD
BEGIN:DAYLIGHT
TZOFFSETFROM:-0500
TZOFFSETTO:-0400
TZNAME:EDT
DTSTART:20220313T070000
END:DAYLIGHT
BEGIN:STANDARD
TZOFFSETFROM:-0400
TZOFFSETTO:-0500
TZNAME:EST
DTSTART:20221106T060000
END:STANDARD
END:VTIMEZONE
BEGIN:VEVENT
DTSTART;TZID=America/Detroit:20210923T090000
DTEND;TZID=America/Detroit:20210923T214500
DTSTAMP:20260422T212532
CREATED:20210903T133451Z
LAST-MODIFIED:20210913T184650Z
UID:10003138-1632387600-1632433500@broad.msu.edu
SUMMARY:Global Business Club of Mid-Michigan: Demystifying China Part I
DESCRIPTION:Speaker: Ambassador Craig Allen\, Alyssa Tracey\, and Carlotta Gmachl \nAre you interested in doing business with China? IBC’s Global Business Club together with the Michigan Economic Development Corporation and U.S. China Business Council are organizing a two-part event series focused on how Michigan companies can tackle the Chinese market. Part 1 of the series will examine the U.S. China Business Council’s annual survey\, which takes a deep dive into the data and trends in the US-China relationship. We would also like to encourage businesses who wish to OR already do business in China to attend the meeting and give us some feedback on their experience. Part 2 of the series will take place in October of 2021 and will give companies a toolbox to assist with their entry to China – stay tuned for more information soon! \nThe Global Business Club of Mid-Michigan focuses on global issues of interest to the mid-Michigan business community. The monthly GB Club luncheons provide outstanding speakers and relaxed networking opportunities. With extensive international experience\, the speakers wrap personal insights around a practical and up-to-the-minute approach to conducting international trade.
URL:https://broad.msu.edu/event/global-business-club-of-mid-michigan-demystifying-china-part-i/
LOCATION:Online
CATEGORIES:International Business Center
ORGANIZER;CN="International Business Center":MAILTO:ibc@msu.edu
END:VEVENT
BEGIN:VEVENT
DTSTART;TZID=America/Detroit:20210923T110000
DTEND;TZID=America/Detroit:20210923T150000
DTSTAMP:20260422T212532
CREATED:20210722T171052Z
LAST-MODIFIED:20210722T171052Z
UID:10003430-1632394800-1632409200@broad.msu.edu
SUMMARY:Forte Virtual Women's MBA Forum
DESCRIPTION:Meet the Broad Full-Time MBA team at the Forte Virtual MBA Forum on Thursday\, September 23rd. Stop by our virtual booth to learn more about the Broad MBA\, what we offer for our women MBAs\, discuss your MBA goals and hear about the admissions process. Leave us your information using the registration button below to express your interest in meeting us at the event and to receive updates about the Broad MBA program and admissions events! \nYou can register for the Forte Forum here: http://www.fortefoundation.org/site/PageServer?pagename=events_aimhigher
URL:https://broad.msu.edu/event/full-time-mba-forte-virtual-womens-mba-forum-2/
LOCATION:Online
CATEGORIES:Admissions Events,Full-Time MBA
ORGANIZER;CN="MBA Admissions":MAILTO:mba@msu.edu
END:VEVENT
BEGIN:VEVENT
DTSTART;TZID=America/Detroit:20210923T120000
DTEND;TZID=America/Detroit:20210923T130000
DTSTAMP:20260422T212532
CREATED:20210823T151646Z
LAST-MODIFIED:20210823T151646Z
UID:10003449-1632398400-1632402000@broad.msu.edu
SUMMARY:The Broad MBA Advantage
DESCRIPTION:Join the Michigan State Broad MBA Admissions team to learn about the application process\, curriculum and benefits of the Broad Full-Time MBA program.
URL:https://broad.msu.edu/event/full-time-mba-the-broad-mba-advantage-9-23-21/
LOCATION:Online
CATEGORIES:Admissions Events,Full-Time MBA
ORGANIZER;CN="MBA Admissions":MAILTO:mba@msu.edu
END:VEVENT
END:VCALENDAR