BEGIN:VCALENDAR
VERSION:2.0
PRODID:-//Eli Broad College of Business | Michigan State University - ECPv6.15.17.1//NONSGML v1.0//EN
CALSCALE:GREGORIAN
METHOD:PUBLISH
X-ORIGINAL-URL:https://broad.msu.edu
X-WR-CALDESC:Events for Eli Broad College of Business | Michigan State University
REFRESH-INTERVAL;VALUE=DURATION:PT1H
X-Robots-Tag:noindex
X-PUBLISHED-TTL:PT1H
BEGIN:VTIMEZONE
TZID:America/Detroit
BEGIN:DAYLIGHT
TZOFFSETFROM:-0500
TZOFFSETTO:-0400
TZNAME:EDT
DTSTART:20200308T070000
END:DAYLIGHT
BEGIN:STANDARD
TZOFFSETFROM:-0400
TZOFFSETTO:-0500
TZNAME:EST
DTSTART:20201101T060000
END:STANDARD
BEGIN:DAYLIGHT
TZOFFSETFROM:-0500
TZOFFSETTO:-0400
TZNAME:EDT
DTSTART:20210314T070000
END:DAYLIGHT
BEGIN:STANDARD
TZOFFSETFROM:-0400
TZOFFSETTO:-0500
TZNAME:EST
DTSTART:20211107T060000
END:STANDARD
BEGIN:DAYLIGHT
TZOFFSETFROM:-0500
TZOFFSETTO:-0400
TZNAME:EDT
DTSTART:20220313T070000
END:DAYLIGHT
BEGIN:STANDARD
TZOFFSETFROM:-0400
TZOFFSETTO:-0500
TZNAME:EST
DTSTART:20221106T060000
END:STANDARD
END:VTIMEZONE
BEGIN:VEVENT
DTSTART;VALUE=DATE:20211012
DTEND;VALUE=DATE:20211015
DTSTAMP:20260423T004422
CREATED:20210602T143218Z
LAST-MODIFIED:20211014T153036Z
UID:10003357-1633996800-1634255999@broad.msu.edu
SUMMARY:Hospitality Business: CAREER EXPO
DESCRIPTION:Save the Dates!  Details will be provided as confirmed. \n\nTuesday – virtual sessions and meet and greets with companies\nWednesday – 6-8 p.m.\, Career Fair | Spartan Stadium\nThursday – Interviews\n\nQuestions? Please contact SIRC at 517-353-9747 or email to shbsirc@msu.edu \nImportant Notice:\nThis event is contingent on University approval and adhering to guidelines set forth in the MSU Community Compact.
URL:https://broad.msu.edu/event/hospitality-business-career-expo-2/
LOCATION:East Lansing\, MI\, MI\, United States
CATEGORIES:Career Management,Hospitality Business
ORGANIZER;CN="Authella Collins Hawks":MAILTO:shbsirc@msu.edu
END:VEVENT
BEGIN:VEVENT
DTSTART;TZID=America/Detroit:20211013T120000
DTEND;TZID=America/Detroit:20211013T130000
DTSTAMP:20260423T004422
CREATED:20210712T184227Z
LAST-MODIFIED:20210712T184242Z
UID:10003412-1634126400-1634130000@broad.msu.edu
SUMMARY:Webinar: Preparing for an MBA
DESCRIPTION:Connect with our admissions team to learn about how to best prepare for your MBA application\, interview and overall Broad Full-Time MBA experience. \nAll attendees will receive an app fee waiver for the Fall 2022 intake of the Broad Full-Time MBA.
URL:https://broad.msu.edu/event/full-time-mba-webinar-preparing-for-an-mba/
LOCATION:Online
CATEGORIES:Admissions Events,Full-Time MBA
ORGANIZER;CN="MBA Admissions":MAILTO:mba@msu.edu
END:VEVENT
BEGIN:VEVENT
DTSTART;TZID=America/Detroit:20211013T120000
DTEND;TZID=America/Detroit:20211013T130000
DTSTAMP:20260423T004422
CREATED:20210825T135714Z
LAST-MODIFIED:20211008T174331Z
UID:10003132-1634126400-1634130000@broad.msu.edu
SUMMARY:Broad Executive MBA | Virtual Program Preview
DESCRIPTION:Join Kara Tripi\, Assistant Director of the Broad College Executive MBA Program\, in a virtual program preview. This webinar will provide details regarding the academic program\, admission criteria\, and tuition/program fees. \nAgenda \n\nInformation Session\nQ & A\nConnecting with program alumni
URL:https://broad.msu.edu/event/executive-mba-virtual-program-preview-october2021/
LOCATION:Online
CATEGORIES:Admissions Events,Executive MBA
ORGANIZER;CN="Sarah Ellis%2C Admissions & Academic Services Manager":MAILTO:sellis@broad.msu.edu
END:VEVENT
END:VCALENDAR