BEGIN:VCALENDAR
VERSION:2.0
PRODID:-//Eli Broad College of Business | Michigan State University - ECPv6.15.17.1//NONSGML v1.0//EN
CALSCALE:GREGORIAN
METHOD:PUBLISH
X-ORIGINAL-URL:https://broad.msu.edu
X-WR-CALDESC:Events for Eli Broad College of Business | Michigan State University
REFRESH-INTERVAL;VALUE=DURATION:PT1H
X-Robots-Tag:noindex
X-PUBLISHED-TTL:PT1H
BEGIN:VTIMEZONE
TZID:America/Detroit
BEGIN:DAYLIGHT
TZOFFSETFROM:-0500
TZOFFSETTO:-0400
TZNAME:EDT
DTSTART:20200308T070000
END:DAYLIGHT
BEGIN:STANDARD
TZOFFSETFROM:-0400
TZOFFSETTO:-0500
TZNAME:EST
DTSTART:20201101T060000
END:STANDARD
BEGIN:DAYLIGHT
TZOFFSETFROM:-0500
TZOFFSETTO:-0400
TZNAME:EDT
DTSTART:20210314T070000
END:DAYLIGHT
BEGIN:STANDARD
TZOFFSETFROM:-0400
TZOFFSETTO:-0500
TZNAME:EST
DTSTART:20211107T060000
END:STANDARD
BEGIN:DAYLIGHT
TZOFFSETFROM:-0500
TZOFFSETTO:-0400
TZNAME:EDT
DTSTART:20220313T070000
END:DAYLIGHT
BEGIN:STANDARD
TZOFFSETFROM:-0400
TZOFFSETTO:-0500
TZNAME:EST
DTSTART:20221106T060000
END:STANDARD
END:VTIMEZONE
BEGIN:VEVENT
DTSTART;TZID=America/Detroit:20211029T090000
DTEND;TZID=America/Detroit:20211029T180000
DTSTAMP:20260425T104712
CREATED:20210927T185224Z
LAST-MODIFIED:20210927T185224Z
UID:10003484-1635498000-1635530400@broad.msu.edu
SUMMARY:2021 Broad College International Business Case Competition
DESCRIPTION:IBC/MSU-CIBER is organizing an international business case competition in the Broad College. The student teams will have 3 days to work on the business case and present their solutions to a panel of industry judges. Each presentation will last for 20 min\, followed by 10 min Q&A session. \nYou are invited! \n\n$4\,000 competition award fund: $2\,000 for the 1st place\, $1\,200 for the 2nd place\, $800 for the 3rd place\nGain valuable experience and make yourself more marketable (unique line on a resume\, topic of conversation in interviews\, etc.)\nEach participant will receive “Case in Point: Case Competition” book\, a great toolkit for case preparation\nPotential to represent Broad College at the national case competitions\n\nEligibility\n\nThe competition is open to Broad College undergraduate students\nEach team must consist of 4 students. Participants can either:\n\nform a team of 4 students (preferred option) or\nexpress interest in the competition and be assigned to a team by organizers\n\n\nEntrants will be accepted on a first come first serve basis until the limit of 12 teams is reached\n\nCompetition sign-up deadline: Oct 15\, 2021 \nFor more information\, please contact Carlotta Gmachl at gmachlca@msu.edu.
URL:https://broad.msu.edu/event/2021-broad-college-international-business-case-competition/
LOCATION:Minskoff Pavilion\, 651 N Shaw Ln\, East Lansing\, MI\, 48824\, United States
CATEGORIES:Featured Events,International Business Center
ORGANIZER;CN="International Business Center":MAILTO:ibc@msu.edu
END:VEVENT
END:VCALENDAR