BEGIN:VCALENDAR
VERSION:2.0
PRODID:-//Eli Broad College of Business | Michigan State University - ECPv6.15.17.1//NONSGML v1.0//EN
CALSCALE:GREGORIAN
METHOD:PUBLISH
X-ORIGINAL-URL:https://broad.msu.edu
X-WR-CALDESC:Events for Eli Broad College of Business | Michigan State University
REFRESH-INTERVAL;VALUE=DURATION:PT1H
X-Robots-Tag:noindex
X-PUBLISHED-TTL:PT1H
BEGIN:VTIMEZONE
TZID:America/Chicago
BEGIN:DAYLIGHT
TZOFFSETFROM:-0600
TZOFFSETTO:-0500
TZNAME:CDT
DTSTART:20200308T080000
END:DAYLIGHT
BEGIN:STANDARD
TZOFFSETFROM:-0500
TZOFFSETTO:-0600
TZNAME:CST
DTSTART:20201101T070000
END:STANDARD
BEGIN:DAYLIGHT
TZOFFSETFROM:-0600
TZOFFSETTO:-0500
TZNAME:CDT
DTSTART:20210314T080000
END:DAYLIGHT
BEGIN:STANDARD
TZOFFSETFROM:-0500
TZOFFSETTO:-0600
TZNAME:CST
DTSTART:20211107T070000
END:STANDARD
BEGIN:DAYLIGHT
TZOFFSETFROM:-0600
TZOFFSETTO:-0500
TZNAME:CDT
DTSTART:20220313T080000
END:DAYLIGHT
BEGIN:STANDARD
TZOFFSETFROM:-0500
TZOFFSETTO:-0600
TZNAME:CST
DTSTART:20221106T070000
END:STANDARD
END:VTIMEZONE
BEGIN:VTIMEZONE
TZID:America/Detroit
BEGIN:DAYLIGHT
TZOFFSETFROM:-0500
TZOFFSETTO:-0400
TZNAME:EDT
DTSTART:20200308T070000
END:DAYLIGHT
BEGIN:STANDARD
TZOFFSETFROM:-0400
TZOFFSETTO:-0500
TZNAME:EST
DTSTART:20201101T060000
END:STANDARD
BEGIN:DAYLIGHT
TZOFFSETFROM:-0500
TZOFFSETTO:-0400
TZNAME:EDT
DTSTART:20210314T070000
END:DAYLIGHT
BEGIN:STANDARD
TZOFFSETFROM:-0400
TZOFFSETTO:-0500
TZNAME:EST
DTSTART:20211107T060000
END:STANDARD
BEGIN:DAYLIGHT
TZOFFSETFROM:-0500
TZOFFSETTO:-0400
TZNAME:EDT
DTSTART:20220313T070000
END:DAYLIGHT
BEGIN:STANDARD
TZOFFSETFROM:-0400
TZOFFSETTO:-0500
TZNAME:EST
DTSTART:20221106T060000
END:STANDARD
END:VTIMEZONE
BEGIN:VEVENT
DTSTART;TZID=America/Chicago:20211102T163000
DTEND;TZID=America/Chicago:20211102T213000
DTSTAMP:20260425T104847
CREATED:20210728T182929Z
LAST-MODIFIED:20210728T182929Z
UID:10003114-1635870600-1635888600@broad.msu.edu
SUMMARY:Access MBA Houston
DESCRIPTION:Connect with a Broad Full-Time MBA admissions officer at the Access MBA Houston event on Tuesday\, November 2nd. Set up a one-on-one chat with us to learn more about the Broad MBA\, discuss your MBA goals and hear about the admissions process. Leave us your information using the registration button below to express your interest in meeting us at the event and to receive updates about the Broad MBA program and admissions events! \nYou can register for the Access MBA Houston event here: https://www.accessmba.com/events/city/houston
URL:https://broad.msu.edu/event/access-mba-houston/
LOCATION:Online
CATEGORIES:Admissions Events,Full-Time MBA
ORGANIZER;CN="MBA Admissions":MAILTO:mba@msu.edu
END:VEVENT
BEGIN:VEVENT
DTSTART;TZID=America/Detroit:20211102T190000
DTEND;TZID=America/Detroit:20211102T200000
DTSTAMP:20260425T104847
CREATED:20211026T145804Z
LAST-MODIFIED:20211026T145804Z
UID:10003491-1635879600-1635883200@broad.msu.edu
SUMMARY:Multifarious Speaker Series by Multicultural Business Programs
DESCRIPTION:This series is created to empower students\, staff\, faculty\, and the community in a way that encourages motivation\, and inspires transformation. Through the messages and the guest speakers\, this series will cause attendees to reflect and take action in their lives. Topics and speakers were chosen around the strategic themes of a Global Mindset\, Diversity\, and Ethics and Leadership. \n  \nWeek 1: It’s Bigger Than You \n  \n\nTuesday October 26: The Importance of Decision Making – Lourawls “Tum Tum” Nairn (First 30 students will get a copy of his book ‘Purpose Driven’)\nThursday October 28: The Importance of Getting Uncomfortable – Ed Tillett\n\n  \nWeek 2: Keeping Your Cool \n\nTuesday November 2: The Principle of Gratitude – Nosa Eguae\nThursday November 4: Having Healthy Expectations or What is Hope? – Joshua Langford\n\nWeek 3: Look Past the Surface \n\nTuesday November 9: What is love? –  Joshua Langford\nThursday November 11: Why being different is an advantage. –  Lauren Aitch-Guerrant\n\n  \nWeek 4: Getting Rid of Limitations \n\nTuesday November 16: Dominating your environment – Joshua Langford\nThursday November 18: The Principle of Exposure – Bennie Fowler (First 30 students will get a copy of his book ‘Silver Spoon: The Imperfect Guide to Success)\n\nWeek 5: It Isn’t Enough to Get an Education \n\nTuesday November 23: Mental and Emotional Health – Jazmine Price\nNothing on Thursday November 25\, due to Thanksgiving\n\nWeek 6: We Need Everybody \n\nTuesday November 30: The power of community – Mark and Jackie Baldwin\nThursday December 2: Breaking the view of Culture – Broad College of Business Dean Sanjay Gupta\n\nWeek 7: You Can Lead! \n\nTuesday December 7: You Can Lead – Rodger Price\nThursday December 9: The Power of Leadership – Mateen Cleaves
URL:https://broad.msu.edu/event/multifarious-speaker-series-by-multicultural-business-programs/2021-11-02/
LOCATION:North Business Building\, 632 Bogue St\, East Lansing\, MI\, 48824\, United States
END:VEVENT
END:VCALENDAR