BEGIN:VCALENDAR
VERSION:2.0
PRODID:-//Eli Broad College of Business | Michigan State University - ECPv6.15.17.1//NONSGML v1.0//EN
CALSCALE:GREGORIAN
METHOD:PUBLISH
X-ORIGINAL-URL:https://broad.msu.edu
X-WR-CALDESC:Events for Eli Broad College of Business | Michigan State University
REFRESH-INTERVAL;VALUE=DURATION:PT1H
X-Robots-Tag:noindex
X-PUBLISHED-TTL:PT1H
BEGIN:VTIMEZONE
TZID:America/Detroit
BEGIN:DAYLIGHT
TZOFFSETFROM:-0500
TZOFFSETTO:-0400
TZNAME:EDT
DTSTART:20210314T070000
END:DAYLIGHT
BEGIN:STANDARD
TZOFFSETFROM:-0400
TZOFFSETTO:-0500
TZNAME:EST
DTSTART:20211107T060000
END:STANDARD
BEGIN:DAYLIGHT
TZOFFSETFROM:-0500
TZOFFSETTO:-0400
TZNAME:EDT
DTSTART:20220313T070000
END:DAYLIGHT
BEGIN:STANDARD
TZOFFSETFROM:-0400
TZOFFSETTO:-0500
TZNAME:EST
DTSTART:20221106T060000
END:STANDARD
BEGIN:DAYLIGHT
TZOFFSETFROM:-0500
TZOFFSETTO:-0400
TZNAME:EDT
DTSTART:20230312T070000
END:DAYLIGHT
BEGIN:STANDARD
TZOFFSETFROM:-0400
TZOFFSETTO:-0500
TZNAME:EST
DTSTART:20231105T060000
END:STANDARD
END:VTIMEZONE
BEGIN:VTIMEZONE
TZID:America/Los_Angeles
BEGIN:DAYLIGHT
TZOFFSETFROM:-0800
TZOFFSETTO:-0700
TZNAME:PDT
DTSTART:20210314T100000
END:DAYLIGHT
BEGIN:STANDARD
TZOFFSETFROM:-0700
TZOFFSETTO:-0800
TZNAME:PST
DTSTART:20211107T090000
END:STANDARD
BEGIN:DAYLIGHT
TZOFFSETFROM:-0800
TZOFFSETTO:-0700
TZNAME:PDT
DTSTART:20220313T100000
END:DAYLIGHT
BEGIN:STANDARD
TZOFFSETFROM:-0700
TZOFFSETTO:-0800
TZNAME:PST
DTSTART:20221106T090000
END:STANDARD
BEGIN:DAYLIGHT
TZOFFSETFROM:-0800
TZOFFSETTO:-0700
TZNAME:PDT
DTSTART:20230312T100000
END:DAYLIGHT
BEGIN:STANDARD
TZOFFSETFROM:-0700
TZOFFSETTO:-0800
TZNAME:PST
DTSTART:20231105T090000
END:STANDARD
END:VTIMEZONE
BEGIN:VEVENT
DTSTART;TZID=America/Detroit:20220125T170000
DTEND;TZID=America/Detroit:20220125T183000
DTSTAMP:20260422T024050
CREATED:20220122T174843Z
LAST-MODIFIED:20220124T193549Z
UID:10003531-1643130000-1643135400@broad.msu.edu
SUMMARY:Research Spotlight: How Will Cryptocurrency Transform the Future of International Business and Trade
DESCRIPTION:Major trading companies and MNCs around the world are recognizing the transformative impact of block chain technology in operating global supply chains\, managing trade finance\, and unlocking new business models. For this webinar\, we invited two scholars from fiancé and economics fields to gain a better understanding of the impact of cryptocurrencies in the future of international business and trade. Specifically\, the general discussion point will be around the introduction of cryptocurrencies\, asset market volatilities\, and international business. Our panelists will also discuss the potential impact of block chain technology on international trade\, international business and finance. This webinar will include short presentations followed by a discussion moderated by the co-hosts. \nKey Takeaways \n\nGain insights into the introduction of cryptocurrencies in international business and trade\nLearn the potential impact of block chain technology in operating global supply chains\, managing trade finance\, and unlocking new business models\nLearn the current state of the transformative impact of cryptocurrencies in the future of international business and trade.\n\nEvent Flyer
URL:https://broad.msu.edu/event/research-spotlight-how-will-cryptocurrency-transform-the-future-of-international-business-and-trade/
LOCATION:Virtual
CATEGORIES:Finance,International Business Center
ORGANIZER;CN="International Business Center":MAILTO:ibc@msu.edu
END:VEVENT
BEGIN:VEVENT
DTSTART;TZID=America/Detroit:20220125T180000
DTEND;TZID=America/Detroit:20220125T200000
DTSTAMP:20260422T024050
CREATED:20210910T164531Z
LAST-MODIFIED:20210910T164540Z
UID:10003473-1643133600-1643140800@broad.msu.edu
SUMMARY:Innovate State: Defining the World of Digital Health
DESCRIPTION:The Innovate State Speaker Series brings both emerging and accomplished Spartans back to campus for a fireside chat-style interview. These 60-minute sessions offer the chance for guests to share their perspectives on a wide array of topics like innovation\, startup life\, investments\, and career paths. Students get the opportunity to hear firsthand about the hard knocks of the entrepreneurship & innovation hustle to maintaining work/life balance. These are stories of success\, stories of failures\, and stories of uncommon will—and you do not want to miss them. \nInnovate State kicks-off at 6 p.m. ET and are free to the community. Events will be offered in a hybrid-format\, offering attendance options in-person & virtually. Early registration is highly encouraged. \nAbout our Speaker\nDr. Dhaval G. Bhanusali\, MD FAAD\, Health Digital Ventures \nDr. Bhanusali is a Dermatologist and digital health entrepreneur. He has founded companies like HairStim labs\, Aire Health\, and Skin Medicinals (used by over 6000 Dermatologists)\, formulated and co-founded numerous skincare products and companies (including Amazon’s first exclusive line)\, and is a practicing Dermatologist in New York City. He’s a Spartan Distinguished Alumni\, an NMQF 40 under 40\, an AAD Patient Hero of the Year\, and you can find him featured across countless media outlets.
URL:https://broad.msu.edu/event/innovate-state-defining-the-world-of-digital-health/
LOCATION:Entrepreneurship Lab\, 651 N Shaw Ln\, East Lansing\, MI\, 48824\, United States
CATEGORIES:College-wide Events,Entrepreneurship,Featured Events
ORGANIZER;CN="Burgess Institute for Entrepreneurship &amp%3B Innovation":MAILTO:eship@msu.edu
END:VEVENT
BEGIN:VEVENT
DTSTART;TZID=America/Los_Angeles:20220125T180000
DTEND;TZID=America/Los_Angeles:20220125T200000
DTSTAMP:20260422T024050
CREATED:20211103T152200Z
LAST-MODIFIED:20211208T173712Z
UID:10003166-1643133600-1643140800@broad.msu.edu
SUMMARY:Hospitality Business: Alumni Networking Reception in LA
DESCRIPTION:Registration link below. Please also consider a donation to support student travel. Your donation will provide much needed student support for conference\, workshop\, and competition travel. \n\nClick here to provide donation\nClick here to view invitation\n\nSpecial thank you to Davidson Hospitality Group for their continued sponsorship.
URL:https://broad.msu.edu/event/hospitality-business-alumni-networking-reception-in-la/
LOCATION:Hotel Indigo Downtown LA\, 899 Francisco St\, Los Angeles\, CA\, 90017\, United States
CATEGORIES:Alumni Events,Featured Events,Hospitality Business
ORGANIZER;CN="Lena Loeffler":MAILTO:loeffler@broad.msu.edu
END:VEVENT
END:VCALENDAR