BEGIN:VCALENDAR
VERSION:2.0
PRODID:-//Eli Broad College of Business | Michigan State University - ECPv6.15.17.1//NONSGML v1.0//EN
CALSCALE:GREGORIAN
METHOD:PUBLISH
X-ORIGINAL-URL:https://broad.msu.edu
X-WR-CALDESC:Events for Eli Broad College of Business | Michigan State University
REFRESH-INTERVAL;VALUE=DURATION:PT1H
X-Robots-Tag:noindex
X-PUBLISHED-TTL:PT1H
BEGIN:VTIMEZONE
TZID:America/Detroit
BEGIN:DAYLIGHT
TZOFFSETFROM:-0500
TZOFFSETTO:-0400
TZNAME:EDT
DTSTART:20210314T070000
END:DAYLIGHT
BEGIN:STANDARD
TZOFFSETFROM:-0400
TZOFFSETTO:-0500
TZNAME:EST
DTSTART:20211107T060000
END:STANDARD
BEGIN:DAYLIGHT
TZOFFSETFROM:-0500
TZOFFSETTO:-0400
TZNAME:EDT
DTSTART:20220313T070000
END:DAYLIGHT
BEGIN:STANDARD
TZOFFSETFROM:-0400
TZOFFSETTO:-0500
TZNAME:EST
DTSTART:20221106T060000
END:STANDARD
BEGIN:DAYLIGHT
TZOFFSETFROM:-0500
TZOFFSETTO:-0400
TZNAME:EDT
DTSTART:20230312T070000
END:DAYLIGHT
BEGIN:STANDARD
TZOFFSETFROM:-0400
TZOFFSETTO:-0500
TZNAME:EST
DTSTART:20231105T060000
END:STANDARD
END:VTIMEZONE
BEGIN:VEVENT
DTSTART;TZID=America/Detroit:20220423T100000
DTEND;TZID=America/Detroit:20220423T140000
DTSTAMP:20260421T155414
CREATED:20220113T183645Z
LAST-MODIFIED:20220221T162148Z
UID:10003528-1650708000-1650722400@broad.msu.edu
SUMMARY:Hospitality Business: Alumni Spring Board Meeting
DESCRIPTION:Save the Date\, details to be provided soon.
URL:https://broad.msu.edu/event/hospitality-business-alumni-association-spring-board-meeting/
LOCATION:The School of Hospitality Business\, 667 N. Shaw Lane\, East Lansing\, MI\, 48824\, United States
CATEGORIES:Alumni Events,Hospitality Business
ORGANIZER;CN="Lena Loeffler":MAILTO:loeffler@broad.msu.edu
END:VEVENT
BEGIN:VEVENT
DTSTART;TZID=America/Detroit:20220423T180000
DTEND;TZID=America/Detroit:20220423T210000
DTSTAMP:20260421T155414
CREATED:20190915T181340Z
LAST-MODIFIED:20220316T121300Z
UID:10003002-1650736800-1650747600@broad.msu.edu
SUMMARY:Hospitality Business: Les Gourmets
DESCRIPTION:The premier annual event in The School of Hospitality Business is Les Gourmets. Founded as a student organization in 1951\, students in Les Gourmets produced their first dinner in 1955. Starting as a simple buffet and dinner dance\, the event has since evolved into a formal world-class reception and dinner showcasing the talents of hundreds of student volunteers and all they have learned from their professors and work experiences. With the guidance of faculty members and guest chefs\, the students work in all areas – management\, sales\, marketing\, purchasing\, finance\, culinary management\, bartending\, and serving – creating a night to remember each spring for hundreds of proud parents\, alumni\, and faculty. \nVisit Les Gourmets web site
URL:https://broad.msu.edu/event/hospitality-business-les-gourmets/
LOCATION:The Huntington Club\, 535 Chestnut Rd\, East Lansing\, MI\, 48823\, United States
CATEGORIES:Alumni Events,College-wide Events,Featured Events,Hospitality Business
ORGANIZER;CN="Lena Loeffler":MAILTO:loeffler@broad.msu.edu
END:VEVENT
END:VCALENDAR