BEGIN:VCALENDAR
VERSION:2.0
PRODID:-//Eli Broad College of Business | Michigan State University - ECPv6.15.17.1//NONSGML v1.0//EN
CALSCALE:GREGORIAN
METHOD:PUBLISH
X-ORIGINAL-URL:https://broad.msu.edu
X-WR-CALDESC:Events for Eli Broad College of Business | Michigan State University
REFRESH-INTERVAL;VALUE=DURATION:PT1H
X-Robots-Tag:noindex
X-PUBLISHED-TTL:PT1H
BEGIN:VTIMEZONE
TZID:America/Detroit
BEGIN:DAYLIGHT
TZOFFSETFROM:-0500
TZOFFSETTO:-0400
TZNAME:EDT
DTSTART:20210314T070000
END:DAYLIGHT
BEGIN:STANDARD
TZOFFSETFROM:-0400
TZOFFSETTO:-0500
TZNAME:EST
DTSTART:20211107T060000
END:STANDARD
BEGIN:DAYLIGHT
TZOFFSETFROM:-0500
TZOFFSETTO:-0400
TZNAME:EDT
DTSTART:20220313T070000
END:DAYLIGHT
BEGIN:STANDARD
TZOFFSETFROM:-0400
TZOFFSETTO:-0500
TZNAME:EST
DTSTART:20221106T060000
END:STANDARD
BEGIN:DAYLIGHT
TZOFFSETFROM:-0500
TZOFFSETTO:-0400
TZNAME:EDT
DTSTART:20230312T070000
END:DAYLIGHT
BEGIN:STANDARD
TZOFFSETFROM:-0400
TZOFFSETTO:-0500
TZNAME:EST
DTSTART:20231105T060000
END:STANDARD
END:VTIMEZONE
BEGIN:VEVENT
DTSTART;TZID=America/Detroit:20220923T140000
DTEND;TZID=America/Detroit:20220924T120000
DTSTAMP:20260425T145754
CREATED:20220718T150032Z
LAST-MODIFIED:20220718T150343Z
UID:10003232-1663941600-1664020800@broad.msu.edu
SUMMARY:Venture Summit: 10 Years of The Hatch
DESCRIPTION:The Burgess Institute for Entrepreneurship and Innovation is thrilled to announce the start of a new annual fall tradition: Venture Summit. \n  \nAbout this event\n\n\n\nVenture Summit: 10 Years of The Hatch on September 23 – 24\, 2022 invites Spartan entrepreneurs\, investors\, makers\, and shakers — alumni and students alike — to converge on campus to celebrate entrepreneurship\, innovation\, and\, this year\, the 10th anniversary of the MSU Hatch. \n2022 marks the MSU Hatch’s decade of service to Spartan venturers. The co-working and startup incubator space is at the heart of MSU’s entrepreneurship ecosystem. “The Hatch\,” as many Spartan entrepreneurs lovingly refer to it\, provides a centralized co-working space just off campus\, across Grand River Avenue from the Union. It’s where students interested in starting their own companies become part of the Burgess Institute’s Discovery and Launch programs. Once on board\, students receive hands-on mentorship\, apply for\, and receive\, financial resources\, and discover a community of like-minded doers.
URL:https://broad.msu.edu/event/venture-summit-10-years-of-the-hatch/
LOCATION:The Innovation Center\, 325 E. Grand River Ave\, East Lansing\, MI\, 48823\, United States
CATEGORIES:Entrepreneurship,Featured Events
ORGANIZER;CN="Burgess Institute for Entrepreneurship &amp%3B Innovation":MAILTO:eship@msu.edu
END:VEVENT
BEGIN:VEVENT
DTSTART;TZID=America/Detroit:20220924T093000
DTEND;TZID=America/Detroit:20220924T153000
DTSTAMP:20260425T145754
CREATED:20220720T155935Z
LAST-MODIFIED:20220720T155935Z
UID:10003242-1664011800-1664033400@broad.msu.edu
SUMMARY:QS World Grad School Tour - NYC
DESCRIPTION:Connect with a Broad Full-Time MBA admissions officer at the QS World Grad School Tour – New York City event on Saturday\, September 24th. Set up a one-on-one chat with us to learn more about the Broad MBA\, discuss your MBA goals and hear about the admissions process. \nLeave us your information below to receive updates about the Broad MBA program and admissions events and express your interest in meeting with us! \nIf you would like to meet with us at the QS World Grad School Tour NYC event\, please register for it here:\nhttps://qs.topuniversities.com/events/masters/nyc
URL:https://broad.msu.edu/event/qs-world-grad-school-tour-nyc/
LOCATION:MI
CATEGORIES:Admissions Events,Full-Time MBA
END:VEVENT
END:VCALENDAR