BEGIN:VCALENDAR
VERSION:2.0
PRODID:-//Eli Broad College of Business | Michigan State University - ECPv6.15.17.1//NONSGML v1.0//EN
CALSCALE:GREGORIAN
METHOD:PUBLISH
X-WR-CALNAME:Eli Broad College of Business | Michigan State University
X-ORIGINAL-URL:https://broad.msu.edu
X-WR-CALDESC:Events for Eli Broad College of Business | Michigan State University
REFRESH-INTERVAL;VALUE=DURATION:PT1H
X-Robots-Tag:noindex
X-PUBLISHED-TTL:PT1H
BEGIN:VTIMEZONE
TZID:America/Detroit
BEGIN:DAYLIGHT
TZOFFSETFROM:-0500
TZOFFSETTO:-0400
TZNAME:EDT
DTSTART:20210314T070000
END:DAYLIGHT
BEGIN:STANDARD
TZOFFSETFROM:-0400
TZOFFSETTO:-0500
TZNAME:EST
DTSTART:20211107T060000
END:STANDARD
BEGIN:DAYLIGHT
TZOFFSETFROM:-0500
TZOFFSETTO:-0400
TZNAME:EDT
DTSTART:20220313T070000
END:DAYLIGHT
BEGIN:STANDARD
TZOFFSETFROM:-0400
TZOFFSETTO:-0500
TZNAME:EST
DTSTART:20221106T060000
END:STANDARD
BEGIN:DAYLIGHT
TZOFFSETFROM:-0500
TZOFFSETTO:-0400
TZNAME:EDT
DTSTART:20230312T070000
END:DAYLIGHT
BEGIN:STANDARD
TZOFFSETFROM:-0400
TZOFFSETTO:-0500
TZNAME:EST
DTSTART:20231105T060000
END:STANDARD
END:VTIMEZONE
BEGIN:VEVENT
DTSTART;VALUE=DATE:20221114
DTEND;VALUE=DATE:20221119
DTSTAMP:20260422T024711
CREATED:20191121T161426Z
LAST-MODIFIED:20220324T123227Z
UID:10002931-1668384000-1668815999@broad.msu.edu
SUMMARY:Hospitality Business: Club Management Association of America BMI GM/COO
DESCRIPTION:To attend this five day educational conference\, please contact Club Management Association of America directly. Registration is required. \nParticipants must adhere to guidelines set forth in the MSU Community Compact
URL:https://broad.msu.edu/event/hospitality-business-club-managers-association-of-america-bmi-gm-coo-3/
LOCATION:Kellogg Hotel & Conference Center\, 219 S Harrison Rd\, East Lansing\, MI\, 48824\, United States
CATEGORIES:Hospitality Business
END:VEVENT
BEGIN:VEVENT
DTSTART;TZID=America/Detroit:20221116T080000
DTEND;TZID=America/Detroit:20221116T091500
DTSTAMP:20260422T024711
CREATED:20221028T184933Z
LAST-MODIFIED:20221028T184933Z
UID:10003325-1668585600-1668590100@broad.msu.edu
SUMMARY:Business and Bagels- The Burden of Responsibility
DESCRIPTION:Having self-control has been noted as a highly desirable trait\, as those with high self-control are more successful in their personal and professional lives. However\, might there also be some downsides to being highly disciplined? In this Business and Bagels event\, we explore the possibility that having high self-control may also have some interpersonal costs\, leading individuals to become burdened by others’ reliance. During this virtual event\, Christy Zhou Koval\, Ph.D.\, will present her work on the interpersonal dynamics of self-control followed by some time for you to ask her questions and / or share your experience about being relied on by others. Click here to register!
URL:https://broad.msu.edu/event/business-and-bagels-the-burden-of-responsibility/
LOCATION:Virtual
CATEGORIES:Executive Development Programs,Featured Events
ORGANIZER;CN="Executive Development Programs":MAILTO:edp@broad.msu.edu
END:VEVENT
BEGIN:VEVENT
DTSTART;TZID=America/Detroit:20221116T150000
DTEND;TZID=America/Detroit:20221116T153000
DTSTAMP:20260422T024711
CREATED:20220920T142039Z
LAST-MODIFIED:20231026T192203Z
UID:10003632-1668610800-1668612600@broad.msu.edu
SUMMARY:MS Marketing Research Virtual Info Session
DESCRIPTION:Attend to learn more about the MSU MS in Marketing Research program!
URL:https://broad.msu.edu/event/ms-marketing-research-virtual-info-session-4/2022-11-16/
LOCATION:Online
CATEGORIES:M.S. in Marketing Research
END:VEVENT
BEGIN:VEVENT
DTSTART;TZID=America/Detroit:20221116T190000
DTEND;TZID=America/Detroit:20221116T203000
DTSTAMP:20260422T024711
CREATED:20221111T144135Z
LAST-MODIFIED:20221111T144135Z
UID:10003343-1668625200-1668630600@broad.msu.edu
SUMMARY:China Town Hall: Local Connections\, National Reflections
DESCRIPTION:Date\nWednesday\, November 16\, 2022 7:00 PM – 8:30 PM \nDescription\nJoin expert Jon M. Huntsman\, Jr\, former US Ambassador to Russia\, China and Singapore\, in the national conversation of US-China relations! \nJon Huntsman\, Jr. began his career in public service as a staff assistant to President\nRonald Reagan\, and served each of the five presidents since then in critical roles around\nthe world\, including as deputy assistant secretary of commerce for Asia\, U.S. trade\nambassador\, and ambassador to Singapore\, China\, and most recently\, Russia. Twice\nelected governor of Utah\, Governor Huntsman brought about strong economic and tax\nreforms\, tripled the state’s rainy-day fund\, and helped bring unemployment rates to\nhistoric lows. During his tenure\, Utah was named the best-managed state in America and\nranked number one in the nation in job growth. \nAmbassador Huntsman was a candidate for president in 2012. Previously he chaired or\nserved on the boards of several major companies\, educational institutions\, and nonprofits.\nHe has been a visiting fellow at the Kennedy School of Government\, and a\ndistinguished lecturer at Duke University’s Sanford School of Public Policy. Huntsman is a\nseventh generation Utahn and has been married for 36 years to Mary Kaye Huntsman. They\nare the parents of seven children\, including two adopted daughters from China and India.\nHuntsman is a graduate of the University of Pennsylvania and has ten honorary doctoral\ndegrees. \nRegistration in the website link. \nLocation\nvirtual
URL:https://broad.msu.edu/event/china-town-hall-local-connections-national-reflections/
LOCATION:Virtual
CATEGORIES:Featured Events,International Business Center
ORGANIZER;CN="International Business Center":MAILTO:ibc@msu.edu
END:VEVENT
END:VCALENDAR