BEGIN:VCALENDAR
VERSION:2.0
PRODID:-//Eli Broad College of Business | Michigan State University - ECPv6.15.17.1//NONSGML v1.0//EN
CALSCALE:GREGORIAN
METHOD:PUBLISH
X-WR-CALNAME:Eli Broad College of Business | Michigan State University
X-ORIGINAL-URL:https://broad.msu.edu
X-WR-CALDESC:Events for Eli Broad College of Business | Michigan State University
REFRESH-INTERVAL;VALUE=DURATION:PT1H
X-Robots-Tag:noindex
X-PUBLISHED-TTL:PT1H
BEGIN:VTIMEZONE
TZID:America/Detroit
BEGIN:DAYLIGHT
TZOFFSETFROM:-0500
TZOFFSETTO:-0400
TZNAME:EDT
DTSTART:20210314T070000
END:DAYLIGHT
BEGIN:STANDARD
TZOFFSETFROM:-0400
TZOFFSETTO:-0500
TZNAME:EST
DTSTART:20211107T060000
END:STANDARD
BEGIN:DAYLIGHT
TZOFFSETFROM:-0500
TZOFFSETTO:-0400
TZNAME:EDT
DTSTART:20220313T070000
END:DAYLIGHT
BEGIN:STANDARD
TZOFFSETFROM:-0400
TZOFFSETTO:-0500
TZNAME:EST
DTSTART:20221106T060000
END:STANDARD
BEGIN:DAYLIGHT
TZOFFSETFROM:-0500
TZOFFSETTO:-0400
TZNAME:EDT
DTSTART:20230312T070000
END:DAYLIGHT
BEGIN:STANDARD
TZOFFSETFROM:-0400
TZOFFSETTO:-0500
TZNAME:EST
DTSTART:20231105T060000
END:STANDARD
END:VTIMEZONE
BEGIN:VEVENT
DTSTART;VALUE=DATE:20221114
DTEND;VALUE=DATE:20221119
DTSTAMP:20260423T073947
CREATED:20191121T161426Z
LAST-MODIFIED:20220324T123227Z
UID:10002931-1668384000-1668815999@broad.msu.edu
SUMMARY:Hospitality Business: Club Management Association of America BMI GM/COO
DESCRIPTION:To attend this five day educational conference\, please contact Club Management Association of America directly. Registration is required. \nParticipants must adhere to guidelines set forth in the MSU Community Compact
URL:https://broad.msu.edu/event/hospitality-business-club-managers-association-of-america-bmi-gm-coo-3/
LOCATION:Kellogg Hotel & Conference Center\, 219 S Harrison Rd\, East Lansing\, MI\, 48824\, United States
CATEGORIES:Hospitality Business
END:VEVENT
BEGIN:VEVENT
DTSTART;TZID=America/Detroit:20221117T110000
DTEND;TZID=America/Detroit:20221117T120000
DTSTAMP:20260423T073947
CREATED:20221111T144354Z
LAST-MODIFIED:20221111T144354Z
UID:10003345-1668682800-1668686400@broad.msu.edu
SUMMARY:MSI Consortium - Virtual Exchange Projects with International Partners for Career Readiness
DESCRIPTION:Date\nThursday\, November 17\, 2022 11:00 AM – 12:00 PM \nDescription\nA key concern in business education is creating solid and sustained bridges between school and career. Career readiness remains a central focus and challenge. Recent studies by Pew Research points to the lack of preparedness of college graduates for the workplace and the need for novel approaches in what we teach\, and how we teach it\, to address the skills gap. In international business\, partnerships and virtual exchange are increasingly valuable ingredients in developing the skills required of today’s global managers. Using selected virtual exchange projects with partners in North and South Africa\, we discuss how global competencies\, cultural awareness\, and international virtual-teaming skills can be imparted as integral aspects of an international business curriculum. The three panelists representing academic and business groups will describe their roles in designing and implementing these collaborative cross-border projects\, their value to different stakeholders\, including students and employers\, and propose ways to assess and sustain these career readiness\, impactful initiatives. \nKey Takeaways \n\nConceiving\, implementing and assessing team-based\, virtual exchange projects\, involving international partners.\nLeveraging academic-business partnerships to ensure career relevant virtual exchange initiatives for students.\nIdentifying funding sources for signature international business projects.
URL:https://broad.msu.edu/event/msi-consortium-virtual-exchange-projects-with-international-partners-for-career-readiness/
LOCATION:Virtual
CATEGORIES:Featured Events,International Business Center
ORGANIZER;CN="International Business Center":MAILTO:ibc@msu.edu
END:VEVENT
BEGIN:VEVENT
DTSTART;TZID=America/Detroit:20221117T120000
DTEND;TZID=America/Detroit:20221117T130000
DTSTAMP:20260423T073947
CREATED:20220915T185721Z
LAST-MODIFIED:20220926T163515Z
UID:10003628-1668686400-1668690000@broad.msu.edu
SUMMARY:EMBA Faculty Speaker Showcase: Leadership and Technology Trends
DESCRIPTION:Join fellow prospective students and alumni at this webinar hosted by the Broad Executive MBA. Brian Pentland\, PhD will discuss the complexity of changing technology and how it fits into your organizational leadership.
URL:https://broad.msu.edu/event/emba-faculty-speaker-nov2022/
LOCATION:Online
CATEGORIES:Admissions Events,Executive MBA
ORGANIZER;CN="Kara Tripi":MAILTO:ktripi@broad.msu.edu
END:VEVENT
BEGIN:VEVENT
DTSTART;TZID=America/Detroit:20221117T140000
DTEND;TZID=America/Detroit:20221117T143000
DTSTAMP:20260423T073947
CREATED:20220823T134722Z
LAST-MODIFIED:20231026T192046Z
UID:10003305-1668693600-1668695400@broad.msu.edu
SUMMARY:MS-CXM Virtual Information Session
DESCRIPTION:Attend to learn more about the MSU Master of Science in Customer Experience Management program!
URL:https://broad.msu.edu/event/ms-cxm-virtual-information-session/2022-11-17/
LOCATION:Online
CATEGORIES:M.S. in Customer Experience Management
END:VEVENT
BEGIN:VEVENT
DTSTART;TZID=America/Detroit:20221117T170000
DTEND;TZID=America/Detroit:20221117T193000
DTSTAMP:20260423T073947
CREATED:20220829T210752Z
LAST-MODIFIED:20220829T210752Z
UID:10003613-1668704400-1668713400@broad.msu.edu
SUMMARY:QS Postgraduate Study Fair - Johannesburg\, South Africa
DESCRIPTION:Meet the Broad Full-Time MBA team at the QS Postgraduate Study Fair in Johannesburg\, South Africa on Thursday\, November 17th. Meet with us at the event to learn more about the Broad MBA\, discuss your MBA goals and hear about the admissions process. \nLeave us your information below to receive updates about the Broad MBA program and admissions events and express your interest in meeting with us! \nIf you would like to meet with us at the QS Fair in Johannesburg\, please register for it here:\nhttps://qs.topuniversities.com/events/masters/johannesburg
URL:https://broad.msu.edu/event/qs-postgraduate-study-fair-johannesburg-south-africa/
LOCATION:MI
CATEGORIES:Admissions Events,Full-Time MBA
ORGANIZER;CN="MBA Admissions":MAILTO:mba@msu.edu
END:VEVENT
END:VCALENDAR