BEGIN:VCALENDAR
VERSION:2.0
PRODID:-//Eli Broad College of Business | Michigan State University - ECPv6.15.17.1//NONSGML v1.0//EN
CALSCALE:GREGORIAN
METHOD:PUBLISH
X-ORIGINAL-URL:https://broad.msu.edu
X-WR-CALDESC:Events for Eli Broad College of Business | Michigan State University
REFRESH-INTERVAL;VALUE=DURATION:PT1H
X-Robots-Tag:noindex
X-PUBLISHED-TTL:PT1H
BEGIN:VTIMEZONE
TZID:America/Detroit
BEGIN:DAYLIGHT
TZOFFSETFROM:-0500
TZOFFSETTO:-0400
TZNAME:EDT
DTSTART:20220313T070000
END:DAYLIGHT
BEGIN:STANDARD
TZOFFSETFROM:-0400
TZOFFSETTO:-0500
TZNAME:EST
DTSTART:20221106T060000
END:STANDARD
BEGIN:DAYLIGHT
TZOFFSETFROM:-0500
TZOFFSETTO:-0400
TZNAME:EDT
DTSTART:20230312T070000
END:DAYLIGHT
BEGIN:STANDARD
TZOFFSETFROM:-0400
TZOFFSETTO:-0500
TZNAME:EST
DTSTART:20231105T060000
END:STANDARD
BEGIN:DAYLIGHT
TZOFFSETFROM:-0500
TZOFFSETTO:-0400
TZNAME:EDT
DTSTART:20240310T070000
END:DAYLIGHT
BEGIN:STANDARD
TZOFFSETFROM:-0400
TZOFFSETTO:-0500
TZNAME:EST
DTSTART:20241103T060000
END:STANDARD
END:VTIMEZONE
BEGIN:VEVENT
DTSTART;TZID=America/Detroit:20230117T080000
DTEND;TZID=America/Detroit:20230117T091500
DTSTAMP:20260421T140831
CREATED:20230109T195959Z
LAST-MODIFIED:20230113T163746Z
UID:10003679-1673942400-1673946900@broad.msu.edu
SUMMARY:Business and Bagels: Improving Well-Being Outcomes for Veterans
DESCRIPTION:There are many unique populations in businesses. This includes persons with disabilities and Veterans. They may bring many unique perspectives to your business and work. We can learn how to be resilient from Veterans and Persons with Disabilities. We can also help persons with disabilities and Veterans be healthier and happier via employment. With this talk\, you will learn these unique populations\, positive psychology\, and employment as public health interventions. \nThis topic is presented by Emre Umucu\, Ph.D\, a partner in the V³ Lab. The V³ Lab\, a lab dedicated to improving veteran well-being\, recently received funding from the Department of Health and Human Services to improve health care access and services for veterans and caregivers living in rural areas. This work is an excellent example of how MSU collaborates with our community partners such as the Michigan Center for Rural Health\, Battle Creek VA Medical Center and the Michigan Veterans Affairs Agency. This project was highlighted by Gov. Gretchen Whitmer\, who said\, “Our service members put their lives on the line to protect our freedoms\, and we must ensure they have the support they need when they come home. It is vitally important that we support all of our veterans\, especially our underserved veteran populations. This includes making sure they have access to quality\, affordable health care and mental health services throughout Michigan.” \nCome join us to learn what you can do\, as an employer and/or colleague\, to improve well-being for veterans and unique populations that work in your organization.
URL:https://broad.msu.edu/event/business-and-bagels-improving-well-being-outcomes-for-veterans/
LOCATION:Virtual
CATEGORIES:Executive Development Programs,Featured Events
ORGANIZER;CN="Executive Development Programs":MAILTO:edp@broad.msu.edu
END:VEVENT
BEGIN:VEVENT
DTSTART;TZID=America/Detroit:20230117T180000
DTEND;TZID=America/Detroit:20230117T190000
DTSTAMP:20260421T140831
CREATED:20221130T172840Z
LAST-MODIFIED:20230121T201711Z
UID:10003653-1673978400-1673982000@broad.msu.edu
SUMMARY:Broad Executive MBA | Virtual Program Preview
DESCRIPTION:Join Amy Yousif Joa\, Associate Director of the Broad College Executive MBA Program\, in a virtual program preview. This webinar will provide details regarding the academic program\, admission criteria\, and tuition/program fees. \nAgenda \n\nInformation Session\nQ & A\nConnecting with program alumni
URL:https://broad.msu.edu/event/broad-executive-mba-virtual-program-preview-jan2023/
LOCATION:Online
CATEGORIES:Executive MBA,Featured Events,Recruiting Events
ORGANIZER;CN="Kara Tripi":MAILTO:ktripi@broad.msu.edu
END:VEVENT
END:VCALENDAR