BEGIN:VCALENDAR
VERSION:2.0
PRODID:-//Eli Broad College of Business | Michigan State University - ECPv6.15.17.1//NONSGML v1.0//EN
CALSCALE:GREGORIAN
METHOD:PUBLISH
X-ORIGINAL-URL:https://broad.msu.edu
X-WR-CALDESC:Events for Eli Broad College of Business | Michigan State University
REFRESH-INTERVAL;VALUE=DURATION:PT1H
X-Robots-Tag:noindex
X-PUBLISHED-TTL:PT1H
BEGIN:VTIMEZONE
TZID:America/Detroit
BEGIN:DAYLIGHT
TZOFFSETFROM:-0500
TZOFFSETTO:-0400
TZNAME:EDT
DTSTART:20220313T070000
END:DAYLIGHT
BEGIN:STANDARD
TZOFFSETFROM:-0400
TZOFFSETTO:-0500
TZNAME:EST
DTSTART:20221106T060000
END:STANDARD
BEGIN:DAYLIGHT
TZOFFSETFROM:-0500
TZOFFSETTO:-0400
TZNAME:EDT
DTSTART:20230312T070000
END:DAYLIGHT
BEGIN:STANDARD
TZOFFSETFROM:-0400
TZOFFSETTO:-0500
TZNAME:EST
DTSTART:20231105T060000
END:STANDARD
BEGIN:DAYLIGHT
TZOFFSETFROM:-0500
TZOFFSETTO:-0400
TZNAME:EDT
DTSTART:20240310T070000
END:DAYLIGHT
BEGIN:STANDARD
TZOFFSETFROM:-0400
TZOFFSETTO:-0500
TZNAME:EST
DTSTART:20241103T060000
END:STANDARD
END:VTIMEZONE
BEGIN:VEVENT
DTSTART;TZID=America/Detroit:20230125T080000
DTEND;TZID=America/Detroit:20230125T170000
DTSTAMP:20260422T154804
CREATED:20230125T222928Z
LAST-MODIFIED:20230220T201647Z
UID:10003376-1674633600-1674666000@broad.msu.edu
SUMMARY:How to Design your Education Abroad Program: Developing a Global Mindset at Community Colleges
DESCRIPTION:Date\nFriday\, January 27\, 2023 10:00 AM – 12:30 PM \nDescription\nAre you looking to offer an education abroad program? This webinar will provide you with the knowledge\, experience\, and resources you need to design an education abroad program at the two-year college level. The workshop is specifically targeted towards educators and will focus on all aspects of education abroad and international internships. \nView program flyer in the “File Upload” \nPlease click the website link to register. \nLocation\nVirtual \nFile Upload\n 
URL:https://broad.msu.edu/event/how-to-design-your-education-abroad-program-developing-a-global-mindset-at-community-colleges-2/
LOCATION:Online
CATEGORIES:International Business Center
ORGANIZER;CN="International Business Center":MAILTO:ibc@msu.edu
END:VEVENT
BEGIN:VEVENT
DTSTART;TZID=America/Detroit:20230125T150000
DTEND;TZID=America/Detroit:20230125T153000
DTSTAMP:20260422T154804
CREATED:20221031T181248Z
LAST-MODIFIED:20230421T131955Z
UID:10003332-1674658800-1674660600@broad.msu.edu
SUMMARY:MS Marketing Research Virtual Info Session
DESCRIPTION:Join us to learn more about MSU’s MSMR program!
URL:https://broad.msu.edu/event/ms-marketing-research-virtual-info-session-2/2023-01-25/
LOCATION:Online
CATEGORIES:M.S. in Marketing Research
END:VEVENT
BEGIN:VEVENT
DTSTART;TZID=America/Detroit:20230125T180000
DTEND;TZID=America/Detroit:20230125T190000
DTSTAMP:20260422T154804
CREATED:20230113T181020Z
LAST-MODIFIED:20230801T203435Z
UID:10003366-1674669600-1674673200@broad.msu.edu
SUMMARY:Innovate State: Transparency & Customer Experience
DESCRIPTION:The Innovate State Speaker Series brings both emerging and accomplished Spartans back to campus for a fireside chat-style interview. These 60-minute sessions offer the chance for guests to share their perspectives on a wide array of topics like innovation\, startup life\, investments\, and career paths. Students get the opportunity to hear firsthand about the hard knocks of the entrepreneurship & innovation hustle to maintaining work/life balance. These are stories of success\, stories of failures\, and stories of uncommon will—and you do not want to miss them. \n\n\n\n\nAbout our Speakers \nAaron Letzeiser\, Co-Founder & COO\, Obie \nAaron Letzeiser is the Co-Founder & COO of Obie\, a venture-backed insurance and risk management technology platform serving the 17 million real estate investors in the United States. Obie’s digital quoting platform and instant rate options make it the easiest and most transparent way in the market today for investors to obtain coverage. \nPrior to founding Obie\, Aaron started and grew several successful companies that he’s seen to an exit\, including The Medical Amnesty Initiate\, a public policy-focused nonprofit that he started while a student at Michigan State. In addition to his work at Obie\, he is an active real estate investor and a Venture Partner at the San Francisco-based venture capital group Pioneer Fund. Aaron graduated with a degree in Political Theory from Michigan State University and was recently named to the Forbes 30 Under 30 list. \nRyan Letzeiser\, Co-Founder & CEO\, Obie \nRyan is the CEO and Co-Founder of Obie\, a venture-backed leading digital provider of landlord insurance for single family rental properties. Obie’s digital quoting platform and instant rate options make it the easiest and most transparent way in the market today for investors to obtain coverage. \nPrior to co-founding Obie\, Ryan spent many years in the real estate private equity space where he bought and sold over $1B in residential real estate assets. In addition to his work building a residential portfolio\, Ryan has acquired assets across the office\, retail\, and industrial real estate sectors. Ryan graduated with a bachelor’s degree in Landscape Architecture from Michigan State University and a masters degree in architecture and real estate development from Clemson University. \n\n\n\n\nLocation \nEntrepreneurship Lab (651 N. Shaw Ln.\, M025 Business Pavilion\, East Lansing\, MI 48824)
URL:https://broad.msu.edu/event/innovate-state-transparency-customer-experience-2/
LOCATION:Entrepreneurship Lab\, 651 N Shaw Ln\, East Lansing\, MI\, 48824\, United States
CATEGORIES:Entrepreneurship,Featured Events
ORGANIZER;CN="Burgess Institute for Entrepreneurship &amp%3B Innovation":MAILTO:eship@msu.edu
END:VEVENT
BEGIN:VEVENT
DTSTART;TZID=America/Detroit:20230125T180000
DTEND;TZID=America/Detroit:20230125T200000
DTSTAMP:20260422T154804
CREATED:20221213T172945Z
LAST-MODIFIED:20221213T172945Z
UID:10003668-1674669600-1674676800@broad.msu.edu
SUMMARY:Broad Executive MBA | Networking Reception | Ferndale
DESCRIPTION:The Executive MBA staff and alumni are hosting a business reception at Pop’s for Italian in Ferndale for prospective students.  Join us to meet others in our community who are considering the Broad Executive MBA program. During the reception\, we will discuss the value\, experience\, academics\, and structure of the program. \nEvent Agenda:\n\nNetworking with program staff and alumni\nGain insight into our program\, academic culture\, and admissions process\n\nThis event is free to attend\, but space is limited so registration is required. Business casual attire recommended. 
URL:https://broad.msu.edu/event/broad-executive-mba-networking-reception-ferndale-2023/
LOCATION:Pop’s For Italian\, 280 W 9 Mile Rd\, Ferndale\, 48220
CATEGORIES:Executive MBA,Recruiting Events
ORGANIZER;CN="Kara Tripi":MAILTO:ktripi@broad.msu.edu
END:VEVENT
END:VCALENDAR