BEGIN:VCALENDAR
VERSION:2.0
PRODID:-//Eli Broad College of Business | Michigan State University - ECPv6.15.17.1//NONSGML v1.0//EN
CALSCALE:GREGORIAN
METHOD:PUBLISH
X-ORIGINAL-URL:https://broad.msu.edu
X-WR-CALDESC:Events for Eli Broad College of Business | Michigan State University
REFRESH-INTERVAL;VALUE=DURATION:PT1H
X-Robots-Tag:noindex
X-PUBLISHED-TTL:PT1H
BEGIN:VTIMEZONE
TZID:America/Detroit
BEGIN:DAYLIGHT
TZOFFSETFROM:-0500
TZOFFSETTO:-0400
TZNAME:EDT
DTSTART:20220313T070000
END:DAYLIGHT
BEGIN:STANDARD
TZOFFSETFROM:-0400
TZOFFSETTO:-0500
TZNAME:EST
DTSTART:20221106T060000
END:STANDARD
BEGIN:DAYLIGHT
TZOFFSETFROM:-0500
TZOFFSETTO:-0400
TZNAME:EDT
DTSTART:20230312T070000
END:DAYLIGHT
BEGIN:STANDARD
TZOFFSETFROM:-0400
TZOFFSETTO:-0500
TZNAME:EST
DTSTART:20231105T060000
END:STANDARD
BEGIN:DAYLIGHT
TZOFFSETFROM:-0500
TZOFFSETTO:-0400
TZNAME:EDT
DTSTART:20240310T070000
END:DAYLIGHT
BEGIN:STANDARD
TZOFFSETFROM:-0400
TZOFFSETTO:-0500
TZNAME:EST
DTSTART:20241103T060000
END:STANDARD
END:VTIMEZONE
BEGIN:VEVENT
DTSTART;TZID=America/Detroit:20230127T100000
DTEND;TZID=America/Detroit:20230127T123000
DTSTAMP:20260422T010915
CREATED:20230109T201750Z
LAST-MODIFIED:20230220T200926Z
UID:10003363-1674813600-1674822600@broad.msu.edu
SUMMARY:How to Design your Education Abroad Program: Developing a Global Mindset at Community Colleges
DESCRIPTION:Date\nFriday\, January 27\, 2023 10:00 AM – 12:30 PM \nDescription\nAre you looking to offer an education abroad program? This webinar will provide you with the knowledge\, experience\, and resources you need to design an education abroad program at the two-year college level. The workshop is specifically targeted towards educators and will focus on all aspects of education abroad and international internships. \nView program flyer in the “File Upload”\nFile Upload \nPlease click the website link to register. \nLocation\nVirtual
URL:https://broad.msu.edu/event/how-to-design-your-education-abroad-program-developing-a-global-mindset-at-community-colleges/
LOCATION:Online
CATEGORIES:Featured Events,International Business Center
ORGANIZER;CN="International Business Center":MAILTO:ibc@msu.edu
END:VEVENT
END:VCALENDAR