BEGIN:VCALENDAR
VERSION:2.0
PRODID:-//Eli Broad College of Business | Michigan State University - ECPv6.15.17.1//NONSGML v1.0//EN
CALSCALE:GREGORIAN
METHOD:PUBLISH
X-ORIGINAL-URL:https://broad.msu.edu
X-WR-CALDESC:Events for Eli Broad College of Business | Michigan State University
REFRESH-INTERVAL;VALUE=DURATION:PT1H
X-Robots-Tag:noindex
X-PUBLISHED-TTL:PT1H
BEGIN:VTIMEZONE
TZID:America/Detroit
BEGIN:DAYLIGHT
TZOFFSETFROM:-0500
TZOFFSETTO:-0400
TZNAME:EDT
DTSTART:20220313T070000
END:DAYLIGHT
BEGIN:STANDARD
TZOFFSETFROM:-0400
TZOFFSETTO:-0500
TZNAME:EST
DTSTART:20221106T060000
END:STANDARD
BEGIN:DAYLIGHT
TZOFFSETFROM:-0500
TZOFFSETTO:-0400
TZNAME:EDT
DTSTART:20230312T070000
END:DAYLIGHT
BEGIN:STANDARD
TZOFFSETFROM:-0400
TZOFFSETTO:-0500
TZNAME:EST
DTSTART:20231105T060000
END:STANDARD
BEGIN:DAYLIGHT
TZOFFSETFROM:-0500
TZOFFSETTO:-0400
TZNAME:EDT
DTSTART:20240310T070000
END:DAYLIGHT
BEGIN:STANDARD
TZOFFSETFROM:-0400
TZOFFSETTO:-0500
TZNAME:EST
DTSTART:20241103T060000
END:STANDARD
END:VTIMEZONE
BEGIN:VEVENT
DTSTART;TZID=America/Detroit:20230202T110000
DTEND;TZID=America/Detroit:20230202T120000
DTSTAMP:20260421T030600
CREATED:20230125T223227Z
LAST-MODIFIED:20230201T153924Z
UID:10003377-1675335600-1675339200@broad.msu.edu
SUMMARY:MSI Consortium - Multinationals’ Continued Strive for Local Relevance in an Era of Disruption
DESCRIPTION:Date\nThursday\, February 2\, 2023 11:00 AM – 12:00 PM \nDescription\nA new world order is in place. Globalization is taking a different turn and evolving further. Businesses operate in a deeply interconnected yet polarized world\, facing disruptions at multiple levels. Local relevance is one of the pillars for companies to maintain resilience and to thrive during times of turbulence. \nHow do multinationals win with local consumers\, customers and stakeholders? What are some of the critical enablers for success in the face of a VUCA environment and scarcity of resources? Where do you centralize and how much do you localize to create scale and maintain focus? What is the impact of talent\, organizational structure and culture to drive global scale and local relevance? \nToday’s radical change in context requires us to review and refresh past learnings on some of the questions which have been discussed for decades. Recycling our knowledge might be helpful as we design the next phase of global business where the dichotomy of local and global is becoming both blurred and further contrasted. \nKey take-aways: \n• Gain insights into how multinationals operate in local settings \n• Learn about different approaches in adapting global value propositions \n• Obtain learnings on talent\, structure and culture in leading and executing multinational operations \nLocation\nOnline
URL:https://broad.msu.edu/event/msi-consortium-multinationals-continued-strive-for-local-relevance-in-an-era-of-disruption/
LOCATION:Online
CATEGORIES:International Business Center
ORGANIZER;CN="International Business Center":MAILTO:ibc@msu.edu
END:VEVENT
BEGIN:VEVENT
DTSTART;TZID=America/Detroit:20230202T113000
DTEND;TZID=America/Detroit:20230202T133000
DTSTAMP:20260421T030600
CREATED:20230127T185702Z
LAST-MODIFIED:20230127T190330Z
UID:10003378-1675337400-1675344600@broad.msu.edu
SUMMARY:Lansing Regional Chamber: Economic Club-MLK Commission; Donzaleigh Abernathy
DESCRIPTION:Description\nThe Lansing Regional Chamber Economic Club\, in partnership with the Dr. Martin Luther King Jr. Commission of Mid-Michigan will welcome Donzaleigh Abernathy\, actress\, author\, and civil rights activist on Thursday\, Feb. 2. Sponsored by LAFCU\, Abernathy is the goddaughter of Dr. Martin Luther King Jr. and the daughter of Rev. Ralph Abernathy\, who was a leader in the civil rights movement with Dr. King\, and will focus her talk on the business case for diversity\, equity and inclusion\, economic justice\, and civil rights. \nLocation\nKellogg Hotel & Conference Center
URL:https://broad.msu.edu/event/lansing-regional-chamber-economic-club-mlk-commission-donzaleigh-abernathy/
LOCATION:Kellogg Hotel & Conference Center\, 219 S Harrison Rd\, East Lansing\, MI\, 48824\, United States
CATEGORIES:International Business Center
ORGANIZER;CN="International Business Center":MAILTO:ibc@msu.edu
END:VEVENT
BEGIN:VEVENT
DTSTART;TZID=America/Detroit:20230202T120000
DTEND;TZID=America/Detroit:20230202T130000
DTSTAMP:20260421T030600
CREATED:20230110T135220Z
LAST-MODIFIED:20230110T135220Z
UID:10003364-1675339200-1675342800@broad.msu.edu
SUMMARY:Michigan State JD-MBA Info Session
DESCRIPTION:Join the Broad Full-Time MBA admissions team to learn about the dual JD-MBA program’s academics\, admission criteria\, career options\, and student life. Lunch will be provided. \nThe session will take place from 12:00-1:00pm in Room 346 at the MSU College of Law. \nAll attendees will receive an application fee waiver for the Broad MBA.
URL:https://broad.msu.edu/event/michigan-state-jd-mba-info-session-2-2-23/
LOCATION:MSU College of Law\, 648 N Shaw Lane\, East Lansing\, MI\, 48824\, United States
CATEGORIES:Admissions Events,Full-Time MBA
ORGANIZER;CN="MBA Admissions":MAILTO:mba@msu.edu
END:VEVENT
BEGIN:VEVENT
DTSTART;TZID=America/Detroit:20230202T140000
DTEND;TZID=America/Detroit:20230202T150000
DTSTAMP:20260421T030600
CREATED:20221209T195816Z
LAST-MODIFIED:20221209T205217Z
UID:10003662-1675346400-1675350000@broad.msu.edu
SUMMARY:MSU MBA/MSBDSA Pre-SCMA Career Fair In-Person Networking Mixer
DESCRIPTION:Join us for an exclusive\, complimentary networking mixer! Enjoy the opportunity to connect with MBA/MSBDSA students\, taking place at the Breslin Center on Thursday\, February 2\, 2023 from 2:00pm-3:00pm prior to the MSU Supply Chain Management Association (SCMA) In-Person Career Fair.
URL:https://broad.msu.edu/event/msu-mba-msbdsa-pre-scma-career-fair-in-person-networking-mixer/
LOCATION:Breslin Student Events Center\, 534 Birch Rd\, East Lansing\, MI\, 48824\, United States
CATEGORIES:Career Management,Recruiting Events
ORGANIZER;CN="Chris Lussenhop":MAILTO:lussenh2@msu.edu
END:VEVENT
BEGIN:VEVENT
DTSTART;TZID=America/Detroit:20230202T150000
DTEND;TZID=America/Detroit:20230202T190000
DTSTAMP:20260421T030600
CREATED:20221209T200023Z
LAST-MODIFIED:20221209T205227Z
UID:10003663-1675350000-1675364400@broad.msu.edu
SUMMARY:MSU Supply Chain Management Association (SCMA) In-Person Career Fair
DESCRIPTION:The MSU Supply Chain Management Association (SCMA) invites you to come network with some of MSU’s best Supply Chain Management students seeking internship and full-time programs. The MSU Supply Chain Management Association (SCMA) In-Person Career Fair will take place on Thursday\, February 2\, 2023 from 3:00pm-7:00pm at the Breslin Center. We look forward to seeing you and thank you for your continued support of the SCMA at Michigan State! For any questions regarding this event or to be added to the email list for SCMA\, please contact scmafair@gmail.com.
URL:https://broad.msu.edu/event/msu-supply-chain-management-association-scma-in-person-career-fair/
LOCATION:Breslin Student Events Center\, 534 Birch Rd\, East Lansing\, MI\, 48824\, United States
CATEGORIES:Career Management,Recruiting Events
ORGANIZER;CN="Chris Lussenhop":MAILTO:lussenh2@msu.edu
END:VEVENT
END:VCALENDAR