BEGIN:VCALENDAR
VERSION:2.0
PRODID:-//Eli Broad College of Business | Michigan State University - ECPv6.15.17.1//NONSGML v1.0//EN
CALSCALE:GREGORIAN
METHOD:PUBLISH
X-ORIGINAL-URL:https://broad.msu.edu
X-WR-CALDESC:Events for Eli Broad College of Business | Michigan State University
REFRESH-INTERVAL;VALUE=DURATION:PT1H
X-Robots-Tag:noindex
X-PUBLISHED-TTL:PT1H
BEGIN:VTIMEZONE
TZID:America/Detroit
BEGIN:DAYLIGHT
TZOFFSETFROM:-0500
TZOFFSETTO:-0400
TZNAME:EDT
DTSTART:20220313T070000
END:DAYLIGHT
BEGIN:STANDARD
TZOFFSETFROM:-0400
TZOFFSETTO:-0500
TZNAME:EST
DTSTART:20221106T060000
END:STANDARD
BEGIN:DAYLIGHT
TZOFFSETFROM:-0500
TZOFFSETTO:-0400
TZNAME:EDT
DTSTART:20230312T070000
END:DAYLIGHT
BEGIN:STANDARD
TZOFFSETFROM:-0400
TZOFFSETTO:-0500
TZNAME:EST
DTSTART:20231105T060000
END:STANDARD
BEGIN:DAYLIGHT
TZOFFSETFROM:-0500
TZOFFSETTO:-0400
TZNAME:EDT
DTSTART:20240310T070000
END:DAYLIGHT
BEGIN:STANDARD
TZOFFSETFROM:-0400
TZOFFSETTO:-0500
TZNAME:EST
DTSTART:20241103T060000
END:STANDARD
END:VTIMEZONE
BEGIN:VEVENT
DTSTART;TZID=America/Detroit:20230316T110000
DTEND;TZID=America/Detroit:20230316T120000
DTSTAMP:20260423T041248
CREATED:20230313T182925Z
LAST-MODIFIED:20230313T182941Z
UID:10003389-1678964400-1678968000@broad.msu.edu
SUMMARY:MSI Consortium - Reflections on Global Supply Chain Challenges in Highly Technical & Regulated Industries
DESCRIPTION:The supply chain has been one of the most studied and researched areas of business due to its criticality for the continuity of manufacturing and the flow of goods. The disruptions experienced globally within the last few years such as those labeled as the container crisis\, the chip crisis\, the Covid-19 pandemic crisis\, etc. further reminded everyone the importance of effective supply chain management. As it is critical for all industries\, the topic has some specific peculiarities when we focus on tightly controlled and highly technical aerospace\, space\, defense\, and industrial markets. \nHow do companies operating in highly technical and tightly controlled industrial markets manage their supply chains? What are the key external factors and how do they come into consideration? What are the key traits that they would be looking for in selecting key supplier partners? How do they find sources to supply these key/critical technologies and how do they manage those suppliers? How do they attract customers and how does this impact their operations? What is the impact of advancements in manufacturing technology\, digitalization\, cybersecurity\, environmental and societal concerns on supply chain designs? \nOur highly experienced executive speaker will delve into the world of such industries and provide valuable insights in understanding the dynamics of global supply chains through the lens of hi-tech and tightly controlled industries. \nThis is a free webinar\, but registration is required.
URL:https://broad.msu.edu/event/msi-consortium-reflections-on-global-supply-chain-challenges-in-highly-technical-regulated-industries/
LOCATION:Online
CATEGORIES:International Business Center
ORGANIZER;CN="International Business Center":MAILTO:ibc@msu.edu
END:VEVENT
BEGIN:VEVENT
DTSTART;TZID=America/Detroit:20230316T120000
DTEND;TZID=America/Detroit:20230316T130000
DTSTAMP:20260423T041248
CREATED:20230120T143749Z
LAST-MODIFIED:20230120T143749Z
UID:10003369-1678968000-1678971600@broad.msu.edu
SUMMARY:The Broad MBA Advantage 3-16-23
DESCRIPTION:Join the Michigan State Broad MBA Admissions team to learn about the application process\, curriculum and benefits of the Broad Full-Time MBA program. You’ll also be able to ask any questions you have about the program and/or application process.
URL:https://broad.msu.edu/event/the-broad-mba-advantage-3-16-23/
LOCATION:Online
CATEGORIES:Admissions Events,Full-Time MBA
ORGANIZER;CN="MBA Admissions":MAILTO:mba@msu.edu
END:VEVENT
BEGIN:VEVENT
DTSTART;TZID=America/Detroit:20230316T140000
DTEND;TZID=America/Detroit:20230316T150000
DTSTAMP:20260423T041248
CREATED:20230120T171530Z
LAST-MODIFIED:20231026T191754Z
UID:10003687-1678975200-1678978800@broad.msu.edu
SUMMARY:MS-CXM Information Session
DESCRIPTION:Join us to learn more about MSU’s Master of Science in Customer Experience Management Program!
URL:https://broad.msu.edu/event/ms-cxm-information-session-2/
LOCATION:Online
CATEGORIES:M.S. in Customer Experience Management
END:VEVENT
BEGIN:VEVENT
DTSTART;TZID=America/Detroit:20230316T180000
DTEND;TZID=America/Detroit:20230316T193000
DTSTAMP:20260423T041248
CREATED:20230123T202748Z
LAST-MODIFIED:20230310T131612Z
UID:10003374-1678989600-1678995000@broad.msu.edu
SUMMARY:Spring 2023 Broad College of Business Alumni Reception in California
DESCRIPTION:Connect with college leadership\, students\, and fellow Spartans in the Bay Area at the Spring 2023 Broad College of Business Alumni Reception on March 16! \nJoin us on the Ocean Lawn of the Ritz-Carlton in Half Moon Bay to engage with Interim Dean Judith Whipple and members of the Broad College Advisory Board. Current students in the college’s Residential Business Community will also be there to share about life on campus in this living-learning community. \nAdmission and Parking\nAdmission is $20. As you arrive\, let the valet know your parking fees will be covered by the Michigan State University event account. \nDress code\nThe dress code for the reception is casual elegant: \nLong trousers\, jeans\, casual suits or shorts (casual yet polished)\, short- or long-sleeve shirts\, polos\, dresses or skirts.
URL:https://broad.msu.edu/event/broad-college-of-business-alumni-reception-in-california/
LOCATION:The Ritz-Carlton\, Half Moon Bay\, 1 Miramontes Point Rd\, Half Moon Bay\, CA\, 94019
CATEGORIES:Alumni Events,Featured Events
ORGANIZER;CN="Lisa Graham":MAILTO:graha339@msu.edu
END:VEVENT
END:VCALENDAR