BEGIN:VCALENDAR
VERSION:2.0
PRODID:-//Eli Broad College of Business | Michigan State University - ECPv6.15.17.1//NONSGML v1.0//EN
CALSCALE:GREGORIAN
METHOD:PUBLISH
X-ORIGINAL-URL:https://broad.msu.edu
X-WR-CALDESC:Events for Eli Broad College of Business | Michigan State University
REFRESH-INTERVAL;VALUE=DURATION:PT1H
X-Robots-Tag:noindex
X-PUBLISHED-TTL:PT1H
BEGIN:VTIMEZONE
TZID:America/Detroit
BEGIN:DAYLIGHT
TZOFFSETFROM:-0500
TZOFFSETTO:-0400
TZNAME:EDT
DTSTART:20220313T070000
END:DAYLIGHT
BEGIN:STANDARD
TZOFFSETFROM:-0400
TZOFFSETTO:-0500
TZNAME:EST
DTSTART:20221106T060000
END:STANDARD
BEGIN:DAYLIGHT
TZOFFSETFROM:-0500
TZOFFSETTO:-0400
TZNAME:EDT
DTSTART:20230312T070000
END:DAYLIGHT
BEGIN:STANDARD
TZOFFSETFROM:-0400
TZOFFSETTO:-0500
TZNAME:EST
DTSTART:20231105T060000
END:STANDARD
BEGIN:DAYLIGHT
TZOFFSETFROM:-0500
TZOFFSETTO:-0400
TZNAME:EDT
DTSTART:20240310T070000
END:DAYLIGHT
BEGIN:STANDARD
TZOFFSETFROM:-0400
TZOFFSETTO:-0500
TZNAME:EST
DTSTART:20241103T060000
END:STANDARD
END:VTIMEZONE
BEGIN:VEVENT
DTSTART;TZID=America/Detroit:20230322T150000
DTEND;TZID=America/Detroit:20230322T153000
DTSTAMP:20260422T173136
CREATED:20221031T181248Z
LAST-MODIFIED:20230421T131955Z
UID:10003335-1679497200-1679499000@broad.msu.edu
SUMMARY:MS Marketing Research Virtual Info Session
DESCRIPTION:Join us to learn more about MSU’s MSMR program!
URL:https://broad.msu.edu/event/ms-marketing-research-virtual-info-session-2/2023-03-22/
LOCATION:Online
CATEGORIES:M.S. in Marketing Research
END:VEVENT
BEGIN:VEVENT
DTSTART;TZID=America/Detroit:20230322T150000
DTEND;TZID=America/Detroit:20230322T170000
DTSTAMP:20260422T173136
CREATED:20230210T131210Z
LAST-MODIFIED:20230224T163049Z
UID:10003697-1679497200-1679504400@broad.msu.edu
SUMMARY:Hospitality Business: Schmidgall Lecture Series on Service Ethics
DESCRIPTION:Schmidgall Lecture Series on Service Ethics presentation will be held in Minskoff Pavilion (Multipurpose Room). A dinner is scheduled for the University Club (by invitation). \n\nLecture\, 3:00 p.m.\, Multipurpose Room\, Minskoff Pavilion\nDinner\, 5:30 p.m.\, Fireplace Room\, The University Club of MSU
URL:https://broad.msu.edu/event/hospitality-business-schmidgall-lecture-series-on-service-ethics/
LOCATION:Minskoff Pavilion\, 651 N Shaw Ln\, East Lansing\, MI\, 48824\, United States
CATEGORIES:Featured Events,Hospitality Business
END:VEVENT
BEGIN:VEVENT
DTSTART;TZID=America/Detroit:20230322T160000
DTEND;TZID=America/Detroit:20230322T170000
DTSTAMP:20260422T173137
CREATED:20230307T214959Z
LAST-MODIFIED:20230307T215147Z
UID:10003384-1679500800-1679504400@broad.msu.edu
SUMMARY:GMAT and Business School Info Session – Exploring Opportunities
DESCRIPTION:Join Ramnik Aulakh\, Senior Market Development Manager of the Graduate Management Admission Council (GMAC) to learn about and explore your post-undergrad opportunities in graduate management and business programs. He will also talk about the GMAT exam\, give tips and advice on how to prepare for it and what to expect as well as special GMAT test discounts and prep materials for all attendees. \nThis session will take place in the Business College Complex Room N105.
URL:https://broad.msu.edu/event/gmat-and-business-school-info-session-exploring-opportunities/
LOCATION:North Business Building\, 632 Bogue St\, East Lansing\, MI\, 48824\, United States
CATEGORIES:Admissions Events,College-wide Events,Full-Time MBA,Management,Residential Business Community,Undergraduate Events
ORGANIZER;CN="MBA Admissions":MAILTO:mba@msu.edu
END:VEVENT
BEGIN:VEVENT
DTSTART;TZID=America/Detroit:20230322T190000
DTEND;TZID=America/Detroit:20230322T200000
DTSTAMP:20260422T173137
CREATED:20230120T144321Z
LAST-MODIFIED:20230120T144321Z
UID:10003370-1679511600-1679515200@broad.msu.edu
SUMMARY:The MSU Broad MBA Student Experience
DESCRIPTION:This webinar will feature a panel of current Broad MBA students with varying backgrounds and post-MBA goals who will answer questions and describe their experiences as students in the Michigan State Broad Full-Time MBA program.
URL:https://broad.msu.edu/event/the-msu-broad-mba-student-experience-2/
LOCATION:Online
CATEGORIES:Admissions Events,Full-Time MBA
ORGANIZER;CN="MBA Admissions":MAILTO:mba@msu.edu
END:VEVENT
END:VCALENDAR