BEGIN:VCALENDAR
VERSION:2.0
PRODID:-//Eli Broad College of Business | Michigan State University - ECPv6.15.17.1//NONSGML v1.0//EN
CALSCALE:GREGORIAN
METHOD:PUBLISH
X-ORIGINAL-URL:https://broad.msu.edu
X-WR-CALDESC:Events for Eli Broad College of Business | Michigan State University
REFRESH-INTERVAL;VALUE=DURATION:PT1H
X-Robots-Tag:noindex
X-PUBLISHED-TTL:PT1H
BEGIN:VTIMEZONE
TZID:America/Detroit
BEGIN:DAYLIGHT
TZOFFSETFROM:-0500
TZOFFSETTO:-0400
TZNAME:EDT
DTSTART:20220313T070000
END:DAYLIGHT
BEGIN:STANDARD
TZOFFSETFROM:-0400
TZOFFSETTO:-0500
TZNAME:EST
DTSTART:20221106T060000
END:STANDARD
BEGIN:DAYLIGHT
TZOFFSETFROM:-0500
TZOFFSETTO:-0400
TZNAME:EDT
DTSTART:20230312T070000
END:DAYLIGHT
BEGIN:STANDARD
TZOFFSETFROM:-0400
TZOFFSETTO:-0500
TZNAME:EST
DTSTART:20231105T060000
END:STANDARD
BEGIN:DAYLIGHT
TZOFFSETFROM:-0500
TZOFFSETTO:-0400
TZNAME:EDT
DTSTART:20240310T070000
END:DAYLIGHT
BEGIN:STANDARD
TZOFFSETFROM:-0400
TZOFFSETTO:-0500
TZNAME:EST
DTSTART:20241103T060000
END:STANDARD
END:VTIMEZONE
BEGIN:VEVENT
DTSTART;TZID=America/Detroit:20230323T080000
DTEND;TZID=America/Detroit:20230323T091500
DTSTAMP:20260423T041239
CREATED:20230227T180738Z
LAST-MODIFIED:20230227T180738Z
UID:10003383-1679558400-1679562900@broad.msu.edu
SUMMARY:Business and Bagels: Mindfulness and Cognitive Function
DESCRIPTION:The widespread popularity of mindfulness is growing exponentially. However\, what do we really know about how it can help us stay focused\, resist distraction\, and bounce back from mistakes? What is more – what is really meant by the term “mindfulness”? In this talk\, Dr. Moser will review findings from our lab in the Neuroscience Program of the Department of Psychology as well as those of others to bear on these questions. Dr. Moser will highlight some promising results as well as the limits of our knowledge so far\, with our enthusiasm likely outpacing the scientific knowledge base.
URL:https://broad.msu.edu/event/business-and-bagels-mindfulness-and-cognitive-function/
LOCATION:Online
CATEGORIES:Executive Development Programs
ORGANIZER;CN="Executive Development Programs":MAILTO:edp@broad.msu.edu
END:VEVENT
END:VCALENDAR