BEGIN:VCALENDAR
VERSION:2.0
PRODID:-//Eli Broad College of Business | Michigan State University - ECPv6.15.17.1//NONSGML v1.0//EN
CALSCALE:GREGORIAN
METHOD:PUBLISH
X-ORIGINAL-URL:https://broad.msu.edu
X-WR-CALDESC:Events for Eli Broad College of Business | Michigan State University
REFRESH-INTERVAL;VALUE=DURATION:PT1H
X-Robots-Tag:noindex
X-PUBLISHED-TTL:PT1H
BEGIN:VTIMEZONE
TZID:America/Detroit
BEGIN:DAYLIGHT
TZOFFSETFROM:-0500
TZOFFSETTO:-0400
TZNAME:EDT
DTSTART:20220313T070000
END:DAYLIGHT
BEGIN:STANDARD
TZOFFSETFROM:-0400
TZOFFSETTO:-0500
TZNAME:EST
DTSTART:20221106T060000
END:STANDARD
BEGIN:DAYLIGHT
TZOFFSETFROM:-0500
TZOFFSETTO:-0400
TZNAME:EDT
DTSTART:20230312T070000
END:DAYLIGHT
BEGIN:STANDARD
TZOFFSETFROM:-0400
TZOFFSETTO:-0500
TZNAME:EST
DTSTART:20231105T060000
END:STANDARD
BEGIN:DAYLIGHT
TZOFFSETFROM:-0500
TZOFFSETTO:-0400
TZNAME:EDT
DTSTART:20240310T070000
END:DAYLIGHT
BEGIN:STANDARD
TZOFFSETFROM:-0400
TZOFFSETTO:-0500
TZNAME:EST
DTSTART:20241103T060000
END:STANDARD
END:VTIMEZONE
BEGIN:VEVENT
DTSTART;TZID=America/Detroit:20230331T130000
DTEND;TZID=America/Detroit:20230401T210000
DTSTAMP:20260426T000827
CREATED:20230320T175922Z
LAST-MODIFIED:20230320T175922Z
UID:10003707-1680267600-1680382800@broad.msu.edu
SUMMARY:2DAY VENTURE: Spring Session II
DESCRIPTION:No Project or Idea? No Problem!\nYou don’t have to have a venture idea or project to participate in 2DV! There will be an opportunity prior to the event for you to choose which venture idea or project you like the most\, & decide which teams you would like to join! \n2 DAY VENTURE is designed for Spartans to create & build a new venture with a team\, not by yourself. \n\n\nEligibility / Rules\n\nTo participate in 2DAY VENTURE\, you must be a currently enrolled student at Michigan State University.\nTo participate\, you must be able to attend a large portion\, if not all\, of the 2DAY VENTURE weekend—your team is depending on you.\n\nIf you have a scheduling conflict\, please contact Caitlyn Johnson\, john7362@msu.edu.\n\n\nAs a participant in 2DAY VENTURE\, you will respond to all emails by the required reply-by date & understand that you may not be placed onto the team in which you voted on in the week prior to the event.\nIf you attend & participate in 2DAY VENTURE\, you understand that your images may be used\, but not limited to marketing materials & social media campaigns.\nIf the idea or project won a financial award at a prior 2DAY VENTURE event\, you are not eligible to compete in this 2DV.\n\n\nIf you participate in 2DAY VENTURE\, you understand that pitches are live & open to the public.\nIf you are selected to receive a financial award\, you understand that your team must enroll in the Burgess Institute for Entrepreneurship & Innovation’s Discovery Program to receive your award.
URL:https://broad.msu.edu/event/2day-venture-spring-session-ii/
LOCATION:Entrepreneurship Lab\, 651 N Shaw Ln\, East Lansing\, MI\, 48824\, United States
CATEGORIES:Entrepreneurship
ORGANIZER;CN="Burgess Institute for Entrepreneurship &amp%3B Innovation":MAILTO:eship@msu.edu
END:VEVENT
BEGIN:VEVENT
DTSTART;TZID=America/Detroit:20230401T100000
DTEND;TZID=America/Detroit:20230401T130000
DTSTAMP:20260426T000827
CREATED:20221213T190220Z
LAST-MODIFIED:20221213T190220Z
UID:10003671-1680343200-1680354000@broad.msu.edu
SUMMARY:Executive MBA | Program Preview | Troy
DESCRIPTION:Join Amy Yousif Joa\, Associate Director of the Executive MBA Program\, to learn about the program\, meet alumni and current students\, and observe a class. \nAgenda: \n10:00 a.m. | Short Information Session\n11:00 a.m. | Observe Executive MBA Class\n12:00 p.m. | Lunch with Current Students and Faculty
URL:https://broad.msu.edu/event/executive-mba-program-preview-troy-april2023/
LOCATION:Management Education Center\, 811 W Square Lake Rd\, Troy\, MI\, 48098\, United States
CATEGORIES:Executive MBA,Recruiting Events
ORGANIZER;CN="Kara Tripi":MAILTO:ktripi@broad.msu.edu
END:VEVENT
END:VCALENDAR