BEGIN:VCALENDAR
VERSION:2.0
PRODID:-//Eli Broad College of Business | Michigan State University - ECPv6.15.17.1//NONSGML v1.0//EN
CALSCALE:GREGORIAN
METHOD:PUBLISH
X-ORIGINAL-URL:https://broad.msu.edu
X-WR-CALDESC:Events for Eli Broad College of Business | Michigan State University
REFRESH-INTERVAL;VALUE=DURATION:PT1H
X-Robots-Tag:noindex
X-PUBLISHED-TTL:PT1H
BEGIN:VTIMEZONE
TZID:America/Detroit
BEGIN:DAYLIGHT
TZOFFSETFROM:-0500
TZOFFSETTO:-0400
TZNAME:EDT
DTSTART:20220313T070000
END:DAYLIGHT
BEGIN:STANDARD
TZOFFSETFROM:-0400
TZOFFSETTO:-0500
TZNAME:EST
DTSTART:20221106T060000
END:STANDARD
BEGIN:DAYLIGHT
TZOFFSETFROM:-0500
TZOFFSETTO:-0400
TZNAME:EDT
DTSTART:20230312T070000
END:DAYLIGHT
BEGIN:STANDARD
TZOFFSETFROM:-0400
TZOFFSETTO:-0500
TZNAME:EST
DTSTART:20231105T060000
END:STANDARD
BEGIN:DAYLIGHT
TZOFFSETFROM:-0500
TZOFFSETTO:-0400
TZNAME:EDT
DTSTART:20240310T070000
END:DAYLIGHT
BEGIN:STANDARD
TZOFFSETFROM:-0400
TZOFFSETTO:-0500
TZNAME:EST
DTSTART:20241103T060000
END:STANDARD
END:VTIMEZONE
BEGIN:VEVENT
DTSTART;TZID=America/Detroit:20230418T080000
DTEND;TZID=America/Detroit:20230418T091500
DTSTAMP:20260422T035837
CREATED:20230109T201349Z
LAST-MODIFIED:20230421T131955Z
UID:10003681-1681804800-1681809300@broad.msu.edu
SUMMARY:Business & Bagels Distinguishing Between Functional & Dysfunctional Conflict
DESCRIPTION:Because conflict is inevitable in teams\, leading teams successfully requires the ability to manage and resolve conflict. However\, not all conflicts are alike. Debating or arguing over ideas can improve those ideas and ensure that the best ideas are selected. But when people take criticism and disagreement personally\, conflict can also derail team performance. This session will help leaders differentiate between functional and dysfunctional conflict and provide tips on how to encourage functional conflict while managing dysfunctional conflict.
URL:https://broad.msu.edu/event/business-bageldistinguishing-between-functional-dysfunctional-conflict/
LOCATION:Online
CATEGORIES:Executive Development Programs,Featured Events
ORGANIZER;CN="Executive Development Programs":MAILTO:edp@broad.msu.edu
END:VEVENT
BEGIN:VEVENT
DTSTART;TZID=America/Detroit:20230418T190000
DTEND;TZID=America/Detroit:20230418T203000
DTSTAMP:20260422T035837
CREATED:20230313T155054Z
LAST-MODIFIED:20230421T133347Z
UID:10003388-1681844400-1681849800@broad.msu.edu
SUMMARY:Broad Executive MBA | Admitted and Prospective Student Reception | East Lansing
DESCRIPTION:Join EMBA alumni for an evening of networking in East Lansing at the Graduate Rock Bar. You’ll have the opportunity to ask questions about the program and meet others in the community starting their Spartan journey. \nThis event is free to attend\, but space is limited so registration is required. Parking at the Graduate is valet\, however\, there are metered parking spots around the building. 
URL:https://broad.msu.edu/event/broad-executive-mba-admitted-and-prospective-student-reception-east-lansing/
LOCATION:Graduate Hotel\, 133 Evergreen Avenue\, East Lansing\, MI\, 48823\, United States
CATEGORIES:Executive MBA,Recruiting Events
ORGANIZER;CN="Kara Tripi":MAILTO:ktripi@broad.msu.edu
END:VEVENT
END:VCALENDAR