BEGIN:VCALENDAR
VERSION:2.0
PRODID:-//Eli Broad College of Business | Michigan State University - ECPv6.15.17.1//NONSGML v1.0//EN
CALSCALE:GREGORIAN
METHOD:PUBLISH
X-WR-CALNAME:Eli Broad College of Business | Michigan State University
X-ORIGINAL-URL:https://broad.msu.edu
X-WR-CALDESC:Events for Eli Broad College of Business | Michigan State University
REFRESH-INTERVAL;VALUE=DURATION:PT1H
X-Robots-Tag:noindex
X-PUBLISHED-TTL:PT1H
BEGIN:VTIMEZONE
TZID:America/Detroit
BEGIN:DAYLIGHT
TZOFFSETFROM:-0500
TZOFFSETTO:-0400
TZNAME:EDT
DTSTART:20220313T070000
END:DAYLIGHT
BEGIN:STANDARD
TZOFFSETFROM:-0400
TZOFFSETTO:-0500
TZNAME:EST
DTSTART:20221106T060000
END:STANDARD
BEGIN:DAYLIGHT
TZOFFSETFROM:-0500
TZOFFSETTO:-0400
TZNAME:EDT
DTSTART:20230312T070000
END:DAYLIGHT
BEGIN:STANDARD
TZOFFSETFROM:-0400
TZOFFSETTO:-0500
TZNAME:EST
DTSTART:20231105T060000
END:STANDARD
BEGIN:DAYLIGHT
TZOFFSETFROM:-0500
TZOFFSETTO:-0400
TZNAME:EDT
DTSTART:20240310T070000
END:DAYLIGHT
BEGIN:STANDARD
TZOFFSETFROM:-0400
TZOFFSETTO:-0500
TZNAME:EST
DTSTART:20241103T060000
END:STANDARD
END:VTIMEZONE
BEGIN:VEVENT
DTSTART;TZID=America/Detroit:20230516T120000
DTEND;TZID=America/Detroit:20230516T123000
DTSTAMP:20260419T154745
CREATED:20230511T164108Z
LAST-MODIFIED:20230511T164108Z
UID:10003743-1684238400-1684240200@broad.msu.edu
SUMMARY:MS Accounting & Data Analytics Information Session
DESCRIPTION:Join us to learn more about MSU’s Master of Science in Accounting & Data Analytics program!
URL:https://broad.msu.edu/event/ms-accounting-data-analytics-information-session-6/
LOCATION:Online
CATEGORIES:M.S. in Accounting and Data Analytics
END:VEVENT
BEGIN:VEVENT
DTSTART;TZID=America/Detroit:20230516T180000
DTEND;TZID=America/Detroit:20230516T183000
DTSTAMP:20260419T154745
CREATED:20230420T171314Z
LAST-MODIFIED:20230421T133156Z
UID:10003740-1684260000-1684261800@broad.msu.edu
SUMMARY:Broad Executive MBA | Faculty Speaker Series | Information Session
DESCRIPTION:Join Associate Director\, Kara Tripi to learn more about the Broad Executive MBA and meet others in the community who are considering the program. During this brief information session\, we will discuss the value\, experience\, academics\, and structure of the program. \nAfter the session concludes\, stay for “netWORK Your MBA” hosted by the Executive MBA Alumni Board. This evening is designed for alumni to reconnect with classmates and learn about business insights. You’ll hear from Frederick Morgeson\, Ph.D.\, Eli Broad Professor of Management and three alumni panelists to discuss recruitment\, retention\, and employee support in a post pandemic era. \nThis will be our last in-person event for prospective candidates who are considering the program for fall start.
URL:https://broad.msu.edu/event/embaspeakerseriesspring23/
LOCATION:Henry Center for Executive Development\, 3535 Forest Rd\, East Lansing\, MI\, 48910\, United States
CATEGORIES:Executive MBA,Recruiting Events
ORGANIZER;CN="Kara Tripi":MAILTO:ktripi@broad.msu.edu
END:VEVENT
BEGIN:VEVENT
DTSTART;TZID=America/Detroit:20230516T183000
DTEND;TZID=America/Detroit:20230516T203000
DTSTAMP:20260419T154745
CREATED:20230331T181406Z
LAST-MODIFIED:20230421T133143Z
UID:10003395-1684261800-1684269000@broad.msu.edu
SUMMARY:Broad Executive MBA | Faculty Speaker Series
DESCRIPTION:Join Frederick Morgeson\, Ph.D.\, Eli Broad Professor of Management and three alumni panelists to discuss recruitment\, retention\, and employee support in a post pandemic era. Just like those months in the classroom- but without the homework or quizzes! The evening will also feature plenty of networking time to reconnect with classmates. \nAlumni Panelists: \n\nCaleb Adams\, Chief Human Services Officer | Peckham (EMBA ’16)\nCarolina Fuentes\, Director of HR and People Development | AJM Packaging (EMBA ’16)\nRachel Gonzalez\, Head of Total Rewards | Grammar AG (EMBA ’18)\n\nEvent is free\, but registration is required.
URL:https://broad.msu.edu/event/broad-executive-mba-faculty-speaker-series-spring2023/
LOCATION:Henry Center for Executive Development\, 3535 Forest Rd\, East Lansing\, MI\, 48910\, United States
CATEGORIES:Alumni Events,Executive MBA
ORGANIZER;CN="Kara Tripi":MAILTO:ktripi@broad.msu.edu
END:VEVENT
END:VCALENDAR