BEGIN:VCALENDAR
VERSION:2.0
PRODID:-//Eli Broad College of Business | Michigan State University - ECPv6.15.17.1//NONSGML v1.0//EN
CALSCALE:GREGORIAN
METHOD:PUBLISH
X-WR-CALNAME:Eli Broad College of Business | Michigan State University
X-ORIGINAL-URL:https://broad.msu.edu
X-WR-CALDESC:Events for Eli Broad College of Business | Michigan State University
REFRESH-INTERVAL;VALUE=DURATION:PT1H
X-Robots-Tag:noindex
X-PUBLISHED-TTL:PT1H
BEGIN:VTIMEZONE
TZID:America/Detroit
BEGIN:DAYLIGHT
TZOFFSETFROM:-0500
TZOFFSETTO:-0400
TZNAME:EDT
DTSTART:20220313T070000
END:DAYLIGHT
BEGIN:STANDARD
TZOFFSETFROM:-0400
TZOFFSETTO:-0500
TZNAME:EST
DTSTART:20221106T060000
END:STANDARD
BEGIN:DAYLIGHT
TZOFFSETFROM:-0500
TZOFFSETTO:-0400
TZNAME:EDT
DTSTART:20230312T070000
END:DAYLIGHT
BEGIN:STANDARD
TZOFFSETFROM:-0400
TZOFFSETTO:-0500
TZNAME:EST
DTSTART:20231105T060000
END:STANDARD
BEGIN:DAYLIGHT
TZOFFSETFROM:-0500
TZOFFSETTO:-0400
TZNAME:EDT
DTSTART:20240310T070000
END:DAYLIGHT
BEGIN:STANDARD
TZOFFSETFROM:-0400
TZOFFSETTO:-0500
TZNAME:EST
DTSTART:20241103T060000
END:STANDARD
END:VTIMEZONE
BEGIN:VEVENT
DTSTART;TZID=America/Detroit:20230517T120000
DTEND;TZID=America/Detroit:20230517T130000
DTSTAMP:20260421T044355
CREATED:20221130T175752Z
LAST-MODIFIED:20230421T131343Z
UID:10003655-1684324800-1684328400@broad.msu.edu
SUMMARY:Broad Executive MBA | Virtual Program Preview
DESCRIPTION:Join Amy Yousif Joa\, Associate Director of the Broad College Executive MBA Program\, in a virtual program preview. This webinar will provide details regarding the academic program\, admission criteria\, and tuition/program fees. \nAgenda \n\nInformation Session\nQ & A\nConnecting with program alumni
URL:https://broad.msu.edu/event/broad-executive-mba-virtual-program-preview-may2023/
LOCATION:Online
CATEGORIES:Executive MBA,Recruiting Events
ORGANIZER;CN="Kara Tripi":MAILTO:ktripi@broad.msu.edu
END:VEVENT
BEGIN:VEVENT
DTSTART;TZID=America/Detroit:20230517T120000
DTEND;TZID=America/Detroit:20230517T130000
DTSTAMP:20260421T044355
CREATED:20230120T151457Z
LAST-MODIFIED:20230421T131336Z
UID:10003684-1684324800-1684328400@broad.msu.edu
SUMMARY:The Broad MBA Advantage
DESCRIPTION:Join the Michigan State Broad MBA Admissions team to learn about the application process\, curriculum and benefits of the Broad Full-Time MBA program. You’ll also be able to ask any questions you have about the program and/or application process.
URL:https://broad.msu.edu/event/the-broad-mba-advantage-5-17-23/
LOCATION:Online
CATEGORIES:Admissions Events,Full-Time MBA
ORGANIZER;CN="MBA Admissions":MAILTO:mba@msu.edu
END:VEVENT
BEGIN:VEVENT
DTSTART;TZID=America/Detroit:20230517T150000
DTEND;TZID=America/Detroit:20230517T153000
DTSTAMP:20260421T044355
CREATED:20230413T143953Z
LAST-MODIFIED:20230421T131322Z
UID:10003728-1684335600-1684337400@broad.msu.edu
SUMMARY:MS Marketing Research Information Session
DESCRIPTION:
URL:https://broad.msu.edu/event/ms-marketing-research-information-session/
LOCATION:Online
CATEGORIES:M.S. in Marketing Research
END:VEVENT
BEGIN:VEVENT
DTSTART;TZID=America/Detroit:20230517T153000
DTEND;TZID=America/Detroit:20230517T154500
DTSTAMP:20260421T044356
CREATED:20230413T144110Z
LAST-MODIFIED:20230421T131242Z
UID:10003729-1684337400-1684338300@broad.msu.edu
SUMMARY:MS Marketing Research Dual Enrollment Advising
DESCRIPTION:
URL:https://broad.msu.edu/event/ms-marketing-research-dual-enrollment-advising-3/
LOCATION:Online
CATEGORIES:M.S. in Marketing Research
END:VEVENT
END:VCALENDAR