BEGIN:VCALENDAR
VERSION:2.0
PRODID:-//Eli Broad College of Business | Michigan State University - ECPv6.15.17.1//NONSGML v1.0//EN
CALSCALE:GREGORIAN
METHOD:PUBLISH
X-WR-CALNAME:Eli Broad College of Business | Michigan State University
X-ORIGINAL-URL:https://broad.msu.edu
X-WR-CALDESC:Events for Eli Broad College of Business | Michigan State University
REFRESH-INTERVAL;VALUE=DURATION:PT1H
X-Robots-Tag:noindex
X-PUBLISHED-TTL:PT1H
BEGIN:VTIMEZONE
TZID:America/Detroit
BEGIN:DAYLIGHT
TZOFFSETFROM:-0500
TZOFFSETTO:-0400
TZNAME:EDT
DTSTART:20220313T070000
END:DAYLIGHT
BEGIN:STANDARD
TZOFFSETFROM:-0400
TZOFFSETTO:-0500
TZNAME:EST
DTSTART:20221106T060000
END:STANDARD
BEGIN:DAYLIGHT
TZOFFSETFROM:-0500
TZOFFSETTO:-0400
TZNAME:EDT
DTSTART:20230312T070000
END:DAYLIGHT
BEGIN:STANDARD
TZOFFSETFROM:-0400
TZOFFSETTO:-0500
TZNAME:EST
DTSTART:20231105T060000
END:STANDARD
BEGIN:DAYLIGHT
TZOFFSETFROM:-0500
TZOFFSETTO:-0400
TZNAME:EDT
DTSTART:20240310T070000
END:DAYLIGHT
BEGIN:STANDARD
TZOFFSETFROM:-0400
TZOFFSETTO:-0500
TZNAME:EST
DTSTART:20241103T060000
END:STANDARD
END:VTIMEZONE
BEGIN:VEVENT
DTSTART;TZID=America/Detroit:20230830T113000
DTEND;TZID=America/Detroit:20230830T180000
DTSTAMP:20260423T061438
CREATED:20230719T185822Z
LAST-MODIFIED:20230719T185822Z
UID:10003765-1693395000-1693418400@broad.msu.edu
SUMMARY:ROMBA Prospective MBA Admissions Summit
DESCRIPTION:Join us for ROMBA’s virtual Prospective MBA Admissions Summit and Expo on Wednesday\, August 30\, 2023. The summit includes networking opportunities\, panels with school admissions officers\, and a Business School Expo with 70+ MBA programs. All participating schools are members of the Reaching Out LGBTQ+ MBA Fellowship\, a global LGBTQ+ scholarship and leadership development collaboration between Reaching Out and top international business schools. \nLeave us your information below to receive updates about the Broad MBA program and admissions events and express your interest in meeting with us! \nYou can register for the ROMBA Admissions Summit here: https://hopin.com/events/romba-prospective-mba-admissions-summit-2023
URL:https://broad.msu.edu/event/romba-prospective-mba-admissions-summit/
LOCATION:Online
CATEGORIES:Admissions Events,Full-Time MBA
ORGANIZER;CN="MBA Admissions":MAILTO:mba@msu.edu
END:VEVENT
BEGIN:VEVENT
DTSTART;TZID=America/Detroit:20230830T150000
DTEND;TZID=America/Detroit:20230830T153000
DTSTAMP:20260423T061438
CREATED:20230809T175443Z
LAST-MODIFIED:20230809T175717Z
UID:10003786-1693407600-1693409400@broad.msu.edu
SUMMARY:MSMR Virtual Information Session
DESCRIPTION:Join us to learn more about the #1 MSMR program!
URL:https://broad.msu.edu/event/msmr-virtual-information-session-3/
LOCATION:MI\, United States
CATEGORIES:M.S. in Marketing Research
END:VEVENT
BEGIN:VEVENT
DTSTART;TZID=America/Detroit:20230830T171500
DTEND;TZID=America/Detroit:20230830T204500
DTSTAMP:20260423T061438
CREATED:20230719T190023Z
LAST-MODIFIED:20230719T190023Z
UID:10003766-1693415700-1693428300@broad.msu.edu
SUMMARY:Forte MBA Forum - New York City Day 2
DESCRIPTION:Leave us your information below to receive updates about the Broad MBA program and admissions events and express your interest in meeting with us at the forum! \nForté MBA Forums are designed for all women and men as allies considering an MBA — whether you’re a high achiever looking to change careers\, a college student planning for the future\, or a professional ready to take your career to the next level. \nForté’s free MBA Forums are held annually to empower women and men as allies with information about the value of an MBA. You’ll make critical connections with admissions reps\, MBA alumni\, and students from top business schools in North America and Europe while gaining exclusive insights to the MBA admissions process. \nRegister for the Forte Forum in NYC here: \nhttps://www.eventbrite.com/e/2023-forte-mba-forum-new-york-ii-tickets-662588749787?aff=ForteWebsite
URL:https://broad.msu.edu/event/forte-mba-forum-new-york-city-day-2/
LOCATION:MI\, United States
CATEGORIES:Admissions Events,Full-Time MBA
ORGANIZER;CN="MBA Admissions":MAILTO:mba@msu.edu
END:VEVENT
END:VCALENDAR