BEGIN:VCALENDAR
VERSION:2.0
PRODID:-//Eli Broad College of Business | Michigan State University - ECPv6.15.17.1//NONSGML v1.0//EN
CALSCALE:GREGORIAN
METHOD:PUBLISH
X-WR-CALNAME:Eli Broad College of Business | Michigan State University
X-ORIGINAL-URL:https://broad.msu.edu
X-WR-CALDESC:Events for Eli Broad College of Business | Michigan State University
REFRESH-INTERVAL;VALUE=DURATION:PT1H
X-Robots-Tag:noindex
X-PUBLISHED-TTL:PT1H
BEGIN:VTIMEZONE
TZID:America/Detroit
BEGIN:DAYLIGHT
TZOFFSETFROM:-0500
TZOFFSETTO:-0400
TZNAME:EDT
DTSTART:20220313T070000
END:DAYLIGHT
BEGIN:STANDARD
TZOFFSETFROM:-0400
TZOFFSETTO:-0500
TZNAME:EST
DTSTART:20221106T060000
END:STANDARD
BEGIN:DAYLIGHT
TZOFFSETFROM:-0500
TZOFFSETTO:-0400
TZNAME:EDT
DTSTART:20230312T070000
END:DAYLIGHT
BEGIN:STANDARD
TZOFFSETFROM:-0400
TZOFFSETTO:-0500
TZNAME:EST
DTSTART:20231105T060000
END:STANDARD
BEGIN:DAYLIGHT
TZOFFSETFROM:-0500
TZOFFSETTO:-0400
TZNAME:EDT
DTSTART:20240310T070000
END:DAYLIGHT
BEGIN:STANDARD
TZOFFSETFROM:-0400
TZOFFSETTO:-0500
TZNAME:EST
DTSTART:20241103T060000
END:STANDARD
END:VTIMEZONE
BEGIN:VTIMEZONE
TZID:America/Los_Angeles
BEGIN:DAYLIGHT
TZOFFSETFROM:-0800
TZOFFSETTO:-0700
TZNAME:PDT
DTSTART:20220313T100000
END:DAYLIGHT
BEGIN:STANDARD
TZOFFSETFROM:-0700
TZOFFSETTO:-0800
TZNAME:PST
DTSTART:20221106T090000
END:STANDARD
BEGIN:DAYLIGHT
TZOFFSETFROM:-0800
TZOFFSETTO:-0700
TZNAME:PDT
DTSTART:20230312T100000
END:DAYLIGHT
BEGIN:STANDARD
TZOFFSETFROM:-0700
TZOFFSETTO:-0800
TZNAME:PST
DTSTART:20231105T090000
END:STANDARD
BEGIN:DAYLIGHT
TZOFFSETFROM:-0800
TZOFFSETTO:-0700
TZNAME:PDT
DTSTART:20240310T100000
END:DAYLIGHT
BEGIN:STANDARD
TZOFFSETFROM:-0700
TZOFFSETTO:-0800
TZNAME:PST
DTSTART:20241103T090000
END:STANDARD
END:VTIMEZONE
BEGIN:VEVENT
DTSTART;TZID=America/Detroit:20230905T080000
DTEND;TZID=America/Detroit:20231006T170000
DTSTAMP:20260423T164745
CREATED:20230406T124832Z
LAST-MODIFIED:20230421T130836Z
UID:10003718-1693900800-1696611600@broad.msu.edu
SUMMARY:Global Hybrid Networking Series
DESCRIPTION:Global networking series are designed to help our students connect with you. This is an excellent and cost-effective recruiting tool to attract top talent and brand your organization on campus – be part of the experience!
URL:https://broad.msu.edu/event/global-hybrid-networking-series/
LOCATION:Online
CATEGORIES:Career Management,Recruiting Events
END:VEVENT
BEGIN:VEVENT
DTSTART;TZID=America/Detroit:20230925T080000
DTEND;TZID=America/Detroit:20230929T170000
DTSTAMP:20260423T164745
CREATED:20230406T125225Z
LAST-MODIFIED:20231026T191214Z
UID:10003721-1695628800-1696006800@broad.msu.edu
SUMMARY:Broad College Champions of Diversity & Unity Week
DESCRIPTION:Join us for career fairs\, networking\, and programming in support of student education! Gain insight on tips for meaningful engagement\, guidance on Broad student organizations\, and how you can best champion diversity!
URL:https://broad.msu.edu/event/broad-college-champions-of-diversity-unity-week/
LOCATION:Minskoff Pavilion\, 651 N Shaw Ln\, East Lansing\, MI\, 48824\, United States
CATEGORIES:Career Management,Multicultural Business Programs,Recruiting Events
ORGANIZER;CN="Ed Tillett":MAILTO:tillett@msu.edu
END:VEVENT
BEGIN:VEVENT
DTSTART;TZID=America/Los_Angeles:20230926T170000
DTEND;TZID=America/Los_Angeles:20230926T210000
DTSTAMP:20260423T164745
CREATED:20230815T145955Z
LAST-MODIFIED:20230815T145955Z
UID:10003797-1695747600-1695762000@broad.msu.edu
SUMMARY:Access MBA Seattle
DESCRIPTION:Meet with the Michigan State Broad Full-Time MBA admissions team and alumni at the Access MBA Seattle event on Tuesday\, September 26th. Meet with us at the event to learn more about the Broad MBA\, discuss your MBA goals and hear about the admissions process. \nLeave us your information below to receive updates about the Broad MBA program and admissions events and express your interest in meeting with us! \nIf you would like to meet with us at the Access MBA event in Seattle\, please register for it here.
URL:https://broad.msu.edu/event/access-mba-seattle/
LOCATION:MI\, United States
CATEGORIES:Admissions Events,Full-Time MBA
ORGANIZER;CN="MBA Admissions":MAILTO:mba@msu.edu
END:VEVENT
END:VCALENDAR