BEGIN:VCALENDAR
VERSION:2.0
PRODID:-//Eli Broad College of Business | Michigan State University - ECPv6.15.17.1//NONSGML v1.0//EN
CALSCALE:GREGORIAN
METHOD:PUBLISH
X-WR-CALNAME:Eli Broad College of Business | Michigan State University
X-ORIGINAL-URL:https://broad.msu.edu
X-WR-CALDESC:Events for Eli Broad College of Business | Michigan State University
REFRESH-INTERVAL;VALUE=DURATION:PT1H
X-Robots-Tag:noindex
X-PUBLISHED-TTL:PT1H
BEGIN:VTIMEZONE
TZID:America/Detroit
BEGIN:DAYLIGHT
TZOFFSETFROM:-0500
TZOFFSETTO:-0400
TZNAME:EDT
DTSTART:20220313T070000
END:DAYLIGHT
BEGIN:STANDARD
TZOFFSETFROM:-0400
TZOFFSETTO:-0500
TZNAME:EST
DTSTART:20221106T060000
END:STANDARD
BEGIN:DAYLIGHT
TZOFFSETFROM:-0500
TZOFFSETTO:-0400
TZNAME:EDT
DTSTART:20230312T070000
END:DAYLIGHT
BEGIN:STANDARD
TZOFFSETFROM:-0400
TZOFFSETTO:-0500
TZNAME:EST
DTSTART:20231105T060000
END:STANDARD
BEGIN:DAYLIGHT
TZOFFSETFROM:-0500
TZOFFSETTO:-0400
TZNAME:EDT
DTSTART:20240310T070000
END:DAYLIGHT
BEGIN:STANDARD
TZOFFSETFROM:-0400
TZOFFSETTO:-0500
TZNAME:EST
DTSTART:20241103T060000
END:STANDARD
END:VTIMEZONE
BEGIN:VEVENT
DTSTART;VALUE=DATE:20231016
DTEND;VALUE=DATE:20231021
DTSTAMP:20260421T044349
CREATED:20220615T145044Z
LAST-MODIFIED:20230421T133030Z
UID:10003227-1697414400-1697846399@broad.msu.edu
SUMMARY:Hospitality Business: Club Management Association of America BMI GM/COO
DESCRIPTION:To attend this five day educational conference\, please contact Club Management Association of America directly. Registration is required. \nImportant Notice:\nThis conference is contingent on participants adhering to guidelines set forth in the MSU Community Compact
URL:https://broad.msu.edu/event/hospitality-business-club-management-association-of-america-bmi-gm-coo-2/
LOCATION:Kellogg Hotel & Conference Center\, 219 S Harrison Rd\, East Lansing\, MI\, 48824\, United States
CATEGORIES:Hospitality Business
ORGANIZER;CN="Lena Loeffler":MAILTO:loeffler@broad.msu.edu
END:VEVENT
BEGIN:VEVENT
DTSTART;VALUE=DATE:20231017
DTEND;VALUE=DATE:20231019
DTSTAMP:20260421T044349
CREATED:20220726T125216Z
LAST-MODIFIED:20230927T144526Z
UID:10003249-1697500800-1697673599@broad.msu.edu
SUMMARY:Hospitality Business: CAREER EXPO "Taking Care of Business"
DESCRIPTION:Tuesday\, October 17 \n\n9 a.m. – 2 p.m.\nStudent Professional Development Programs Sessions | Minskoff Pavilion (Multi-Purpose Room)\n4 p.m. – 5:30 p.m.\nRecruiter Welcome & Reception | Minskoff Pavilion (Multi-Purpose Room)\n6:30 p.m. – 8 p.m.\nCareer Fair Open House | Spartan Stadium (MSUFCU Club\, 4th floor)\n\nWednesday\, October 18 \n\n8:30 a.m. – 5 p.m.\nInterviews | Spartan Stadium (MSUFCU Club\, 4th floor)\n\nVisit CAREER EXPO website \nQuestions? Please contact SIRC at 517-353-9747 or email to shbsirc@msu.edu
URL:https://broad.msu.edu/event/hospitality-business-career-expo-3/
LOCATION:East Lansing\, MI\, MI\, United States
CATEGORIES:Hospitality Business,Recruiting Events
ORGANIZER;CN="SIRC":MAILTO:shbsirc@msu.edu
END:VEVENT
BEGIN:VEVENT
DTSTART;TZID=America/Detroit:20231017T150000
DTEND;TZID=America/Detroit:20231017T161500
DTSTAMP:20260421T044349
CREATED:20230811T193315Z
LAST-MODIFIED:20230811T193315Z
UID:10003792-1697554800-1697559300@broad.msu.edu
SUMMARY:The Ethics of Water Webinar
DESCRIPTION:Water scarcity is impacting every single human on the planet. Join us to learn from professionals about how organizations need to evolve in their transparency about water use. We will discuss the issues and challenges around water use disclosures in corporations\, The current & changing landscapes around disclosure for water use and delve into the ethical considerations that corporations face when determining how best to approach goal disclosures\, pledges and improving transparency. Join us virtually on Tuesday\, October 17th from 3pm-4:15pm. Register today
URL:https://broad.msu.edu/event/the-ethics-of-water-webinar/
LOCATION:Online
CATEGORIES:Ethics & Social Responsibility
ORGANIZER;CN="Beth Hammond":MAILTO:hammon25@msu.edu
END:VEVENT
BEGIN:VEVENT
DTSTART;TZID=America/Detroit:20231017T173000
DTEND;TZID=America/Detroit:20231017T183000
DTSTAMP:20260421T044349
CREATED:20230901T122059Z
LAST-MODIFIED:20231016T131507Z
UID:10003849-1697563800-1697567400@broad.msu.edu
SUMMARY:Broad Executive MBA | Virtual Program Preview
DESCRIPTION:Join a Broad College Executive MBA Program representative\, in a virtual program preview. This webinar will provide details regarding the academic program\, admission criteria\, and tuition/program fees. \nAgenda \n\nInformation Session\nQ & A\nConnecting with program alumni
URL:https://broad.msu.edu/event/broad-executive-mba-virtual-program-preview-october-2023/
LOCATION:Online
CATEGORIES:Executive MBA,Recruiting Events
END:VEVENT
END:VCALENDAR