BEGIN:VCALENDAR
VERSION:2.0
PRODID:-//Eli Broad College of Business | Michigan State University - ECPv6.15.17.1//NONSGML v1.0//EN
CALSCALE:GREGORIAN
METHOD:PUBLISH
X-WR-CALNAME:Eli Broad College of Business | Michigan State University
X-ORIGINAL-URL:https://broad.msu.edu
X-WR-CALDESC:Events for Eli Broad College of Business | Michigan State University
REFRESH-INTERVAL;VALUE=DURATION:PT1H
X-Robots-Tag:noindex
X-PUBLISHED-TTL:PT1H
BEGIN:VTIMEZONE
TZID:America/Detroit
BEGIN:DAYLIGHT
TZOFFSETFROM:-0500
TZOFFSETTO:-0400
TZNAME:EDT
DTSTART:20220313T070000
END:DAYLIGHT
BEGIN:STANDARD
TZOFFSETFROM:-0400
TZOFFSETTO:-0500
TZNAME:EST
DTSTART:20221106T060000
END:STANDARD
BEGIN:DAYLIGHT
TZOFFSETFROM:-0500
TZOFFSETTO:-0400
TZNAME:EDT
DTSTART:20230312T070000
END:DAYLIGHT
BEGIN:STANDARD
TZOFFSETFROM:-0400
TZOFFSETTO:-0500
TZNAME:EST
DTSTART:20231105T060000
END:STANDARD
BEGIN:DAYLIGHT
TZOFFSETFROM:-0500
TZOFFSETTO:-0400
TZNAME:EDT
DTSTART:20240310T070000
END:DAYLIGHT
BEGIN:STANDARD
TZOFFSETFROM:-0400
TZOFFSETTO:-0500
TZNAME:EST
DTSTART:20241103T060000
END:STANDARD
END:VTIMEZONE
BEGIN:VEVENT
DTSTART;TZID=America/Detroit:20231025T160000
DTEND;TZID=America/Detroit:20231026T190000
DTSTAMP:20260423T054558
CREATED:20230921T145456Z
LAST-MODIFIED:20230921T145629Z
UID:10003855-1698249600-1698346800@broad.msu.edu
SUMMARY:MSU Careers in Business: All Majors In-Person Fair
DESCRIPTION:We invite you to join the Broad College of Business Russell Palmer Career Management Center for the MSU Careers in Business: All Majors In-Person Fair. This event will take place in the MSUFCU Club at Spartan Stadium on Wednesday\, October 25 and Thursday\, October 26 from 4:00pm-7:00pm and is open to all MSU undergraduate\, graduate\, and MBA students seeking internship and full-time opportunities in the business field. Employers must register for each day they would like to participate in. 
URL:https://broad.msu.edu/event/msu-careers-in-business-all-majors-in-person-fair-2/
LOCATION:Spartan Stadium – Office Tower\, 535 Chestnut Rd\, East Lansing\, MI\, 48824\, United States
CATEGORIES:Career Management,Recruiting Events
ORGANIZER;CN="Taylor Bates":MAILTO:taybates@msu.edu
END:VEVENT
BEGIN:VEVENT
DTSTART;TZID=America/Detroit:20231026T160000
DTEND;TZID=America/Detroit:20231027T190000
DTSTAMP:20260423T054558
CREATED:20230404T183936Z
LAST-MODIFIED:20230921T145347Z
UID:10003714-1698336000-1698433200@broad.msu.edu
SUMMARY:MSU Careers in Business: All Majors In-Person Fair
DESCRIPTION:We invite you to join the Broad College of Business Russell Palmer Career Management Center for the MSU Careers in Business: All Majors In-Person Fair. This event will take place in the MSUFCU Club at Spartan Stadium on Wednesday\, October 25 and Thursday\, October 26 from 4:00pm-7:00pm and is open to all MSU undergraduate\, graduate\, and MBA students seeking internship and full-time opportunities in the business field. Employers must register for each day they would like to participate in. 
URL:https://broad.msu.edu/event/msu-careers-in-business-all-majors-in-person-fair/
LOCATION:Spartan Stadium – Office Tower\, 535 Chestnut Rd\, East Lansing\, MI\, 48824\, United States
CATEGORIES:Career Management,Recruiting Events
ORGANIZER;CN="Taylor Bates":MAILTO:taybates@msu.edu
END:VEVENT
END:VCALENDAR