BEGIN:VCALENDAR
VERSION:2.0
PRODID:-//Eli Broad College of Business | Michigan State University - ECPv6.15.17.1//NONSGML v1.0//EN
CALSCALE:GREGORIAN
METHOD:PUBLISH
X-WR-CALNAME:Eli Broad College of Business | Michigan State University
X-ORIGINAL-URL:https://broad.msu.edu
X-WR-CALDESC:Events for Eli Broad College of Business | Michigan State University
REFRESH-INTERVAL;VALUE=DURATION:PT1H
X-Robots-Tag:noindex
X-PUBLISHED-TTL:PT1H
BEGIN:VTIMEZONE
TZID:America/Detroit
BEGIN:DAYLIGHT
TZOFFSETFROM:-0500
TZOFFSETTO:-0400
TZNAME:EDT
DTSTART:20220313T070000
END:DAYLIGHT
BEGIN:STANDARD
TZOFFSETFROM:-0400
TZOFFSETTO:-0500
TZNAME:EST
DTSTART:20221106T060000
END:STANDARD
BEGIN:DAYLIGHT
TZOFFSETFROM:-0500
TZOFFSETTO:-0400
TZNAME:EDT
DTSTART:20230312T070000
END:DAYLIGHT
BEGIN:STANDARD
TZOFFSETFROM:-0400
TZOFFSETTO:-0500
TZNAME:EST
DTSTART:20231105T060000
END:STANDARD
BEGIN:DAYLIGHT
TZOFFSETFROM:-0500
TZOFFSETTO:-0400
TZNAME:EDT
DTSTART:20240310T070000
END:DAYLIGHT
BEGIN:STANDARD
TZOFFSETFROM:-0400
TZOFFSETTO:-0500
TZNAME:EST
DTSTART:20241103T060000
END:STANDARD
END:VTIMEZONE
BEGIN:VEVENT
DTSTART;TZID=America/Detroit:20231108T100000
DTEND;TZID=America/Detroit:20231108T150000
DTSTAMP:20260424T022934
CREATED:20231016T182526Z
LAST-MODIFIED:20231026T194910Z
UID:10003868-1699437600-1699455600@broad.msu.edu
SUMMARY:Global Business Club: Spotlight on Türkiye
DESCRIPTION:As the 2nd event in the Global Business Club of Michigan’s “Market Spotlight Series” MSU International Business Center is excited to highlight the Turkish market. The “Spotlight on Türkiye” event will feature U.S. & Turkish government officials\, a Michigan Exporters Business Panel\, networking\, Turkish lunch\, and 1-on-1 meetings with trade service providers. For the public this event has a $25 cost\, but anyone from MSU may attend for free by emailing MSU IBC Assistant Director Hannah Pszenica at pszenica@msu.edu. \nAgenda: \n10:00-10:30am – Arrive\, sign-in \n10:30-12:00pm – Speeches and Michigan Exporters Business Panel \n12:00-1:00pm – Turkish lunch \n1:00-3:00pm – 1-on-1s with trade service providers
URL:https://broad.msu.edu/event/global-business-club-spotlight-on-turkiye/
LOCATION:UrbanBeat\, 1213 Turner R\, Lansing\, 48906\, United States
CATEGORIES:Featured Events,International Business Center
ORGANIZER;CN="Hannah Pszenica":MAILTO:pszenica@msu.edu
END:VEVENT
BEGIN:VEVENT
DTSTART;TZID=America/Detroit:20231108T160000
DTEND;TZID=America/Detroit:20231108T190000
DTSTAMP:20260424T022934
CREATED:20230404T184115Z
LAST-MODIFIED:20231110T162813Z
UID:10003715-1699459200-1699470000@broad.msu.edu
SUMMARY:MSU First-Generation College In-Person Networking Mixer
DESCRIPTION:November 8 marks the National First-Generation College Celebration! As part of this celebratory day and in support of first gen students\, the MSU Career Services Network and Broad College of Business Russell Palmer Career Management Center are hosting the MSU First-Generation College In-Person Networking Mixer. This event will take place on Wednesday\, November 8 from 4:00pm-7:00pm EST in the Minskoff Pavilion Multi-Purpose Room. \nWe invite you to join us for this exclusive opportunity to share more about your company’s culture\, job opportunities\, brand\, and dedication to first-generation student success. The event will be promoted to first gen students across MSU and is open to all MSU students seeking internship and full-time opportunities.
URL:https://broad.msu.edu/event/msu-first-generation-college-in-person-networking-mixer/
LOCATION:Minskoff Pavilion\, 651 N Shaw Ln\, East Lansing\, MI\, 48824\, United States
CATEGORIES:Career Management,Recruiting Events
ORGANIZER;CN="Taylor Bates":MAILTO:taybates@msu.edu
END:VEVENT
BEGIN:VEVENT
DTSTART;TZID=America/Detroit:20231108T180000
DTEND;TZID=America/Detroit:20231108T200000
DTSTAMP:20260424T022934
CREATED:20230901T121748Z
LAST-MODIFIED:20231017T201136Z
UID:10003848-1699466400-1699473600@broad.msu.edu
SUMMARY:Broad Executive MBA | Networking Reception | Ferndale
DESCRIPTION:The Executive MBA staff and alumni are hosting a business reception at Pop’s for Italian in Ferndale for prospective students.  Join us to meet others in our community who are considering the Broad Executive MBA program. During the reception\, we will discuss the value\, experience\, academics\, and structure of the program. \nEvent Agenda:\n\nNetworking with program staff and alumni\nGain insight into our program\, academic culture\, and admissions process\n\nThis event is free to attend\, but space is limited so registration is required. Business casual attire recommended. 
URL:https://broad.msu.edu/event/broad-executive-mba-networking-reception-ferndale-3/
LOCATION:Pop’s For Italian\, 280 W 9 Mile Rd\, Ferndale\, 48220
CATEGORIES:Executive MBA,Recruiting Events
ORGANIZER;CN="Sarah Ellis%2C Admissions & Academic Services Manager":MAILTO:sellis@broad.msu.edu
END:VEVENT
BEGIN:VEVENT
DTSTART;TZID=America/Detroit:20231108T190000
DTEND;TZID=America/Detroit:20231108T200000
DTSTAMP:20260424T022934
CREATED:20231005T201901Z
LAST-MODIFIED:20231005T201901Z
UID:10003863-1699470000-1699473600@broad.msu.edu
SUMMARY:Broad MBA Student Experience Webinar
DESCRIPTION:This webinar will feature a panel of current Broad MBA students with varying backgrounds and post-MBA goals who will answer questions and describe their experiences as students in the Michigan State Broad Full-Time MBA program.
URL:https://broad.msu.edu/event/broad-mba-student-experience-webinar/
LOCATION:Online
CATEGORIES:Admissions Events,Full-Time MBA
ORGANIZER;CN="MBA Admissions":MAILTO:mba@msu.edu
END:VEVENT
END:VCALENDAR