BEGIN:VCALENDAR
VERSION:2.0
PRODID:-//Eli Broad College of Business | Michigan State University - ECPv6.15.17.1//NONSGML v1.0//EN
CALSCALE:GREGORIAN
METHOD:PUBLISH
X-ORIGINAL-URL:https://broad.msu.edu
X-WR-CALDESC:Events for Eli Broad College of Business | Michigan State University
REFRESH-INTERVAL;VALUE=DURATION:PT1H
X-Robots-Tag:noindex
X-PUBLISHED-TTL:PT1H
BEGIN:VTIMEZONE
TZID:America/Detroit
BEGIN:DAYLIGHT
TZOFFSETFROM:-0500
TZOFFSETTO:-0400
TZNAME:EDT
DTSTART:20220313T070000
END:DAYLIGHT
BEGIN:STANDARD
TZOFFSETFROM:-0400
TZOFFSETTO:-0500
TZNAME:EST
DTSTART:20221106T060000
END:STANDARD
BEGIN:DAYLIGHT
TZOFFSETFROM:-0500
TZOFFSETTO:-0400
TZNAME:EDT
DTSTART:20230312T070000
END:DAYLIGHT
BEGIN:STANDARD
TZOFFSETFROM:-0400
TZOFFSETTO:-0500
TZNAME:EST
DTSTART:20231105T060000
END:STANDARD
BEGIN:DAYLIGHT
TZOFFSETFROM:-0500
TZOFFSETTO:-0400
TZNAME:EDT
DTSTART:20240310T070000
END:DAYLIGHT
BEGIN:STANDARD
TZOFFSETFROM:-0400
TZOFFSETTO:-0500
TZNAME:EST
DTSTART:20241103T060000
END:STANDARD
END:VTIMEZONE
BEGIN:VEVENT
DTSTART;TZID=America/Detroit:20231110T130000
DTEND;TZID=America/Detroit:20231111T210000
DTSTAMP:20260422T030709
CREATED:20231026T143957Z
LAST-MODIFIED:20231026T143957Z
UID:10003877-1699621200-1699736400@broad.msu.edu
SUMMARY:2DAY VENTURE: Fall Session II
DESCRIPTION:2DAY VENTURE (2DV) is a hands-on learning experience designed exclusively for Spartans at Michigan State University\, regardless of home college\, major\, or background. Each event offers unbeatable entrepreneurial education resources & the freedom to explore turning a project or idea into reality—all packed into 36 hours. \nWhat’s Included in Your Experience? \n? Access to individual team workspace in the Edward J. Minskoff Pavilion\, the Entrepreneurship Lab and the MSU Hatch. \n? Meals are catered by locally-owned restaurants and businesses in East Lansing & the Great Lansing region. \n? Exclusive access to unbeatable entrepreneurial education resources\, perks\, and prizes is provided only to students at Michigan State University. \n? The ability to learn the basics of founding startups & launching successful ventures through idea and project development in a safe\, judgement-free and inclusive environment. \n? Unlimited lifetime access to a large ecosystem and community of Spartan innovators and entrepreneurs across the globe. \nYou don’t have to have a venture idea or project to participate in 2DV! However\, there will be an opportunity before the event for you to choose which venture idea or project you like the most & can join their team. 2DV is designed for Spartans to create & build a new venture with a team\, not by themselves. Join the Burgess Institute for Entrepreneurship & Innovation for 2DAY VENTURE: Fall Session II in the Entrepreneurship Lab (M025) to explore turning a project or idea into reality!
URL:https://broad.msu.edu/event/2day-venture-fall-session-ii/
LOCATION:Entrepreneurship Lab\, 651 N Shaw Ln\, East Lansing\, MI\, 48824\, United States
CATEGORIES:Entrepreneurship
ORGANIZER;CN="Aubrey Haase":MAILTO:haaseaub@msu.edu
END:VEVENT
END:VCALENDAR