BEGIN:VCALENDAR
VERSION:2.0
PRODID:-//Eli Broad College of Business | Michigan State University - ECPv6.15.17.1//NONSGML v1.0//EN
CALSCALE:GREGORIAN
METHOD:PUBLISH
X-WR-CALNAME:Eli Broad College of Business | Michigan State University
X-ORIGINAL-URL:https://broad.msu.edu
X-WR-CALDESC:Events for Eli Broad College of Business | Michigan State University
REFRESH-INTERVAL;VALUE=DURATION:PT1H
X-Robots-Tag:noindex
X-PUBLISHED-TTL:PT1H
BEGIN:VTIMEZONE
TZID:America/Detroit
BEGIN:DAYLIGHT
TZOFFSETFROM:-0500
TZOFFSETTO:-0400
TZNAME:EDT
DTSTART:20220313T070000
END:DAYLIGHT
BEGIN:STANDARD
TZOFFSETFROM:-0400
TZOFFSETTO:-0500
TZNAME:EST
DTSTART:20221106T060000
END:STANDARD
BEGIN:DAYLIGHT
TZOFFSETFROM:-0500
TZOFFSETTO:-0400
TZNAME:EDT
DTSTART:20230312T070000
END:DAYLIGHT
BEGIN:STANDARD
TZOFFSETFROM:-0400
TZOFFSETTO:-0500
TZNAME:EST
DTSTART:20231105T060000
END:STANDARD
BEGIN:DAYLIGHT
TZOFFSETFROM:-0500
TZOFFSETTO:-0400
TZNAME:EDT
DTSTART:20240310T070000
END:DAYLIGHT
BEGIN:STANDARD
TZOFFSETFROM:-0400
TZOFFSETTO:-0500
TZNAME:EST
DTSTART:20241103T060000
END:STANDARD
END:VTIMEZONE
BEGIN:VTIMEZONE
TZID:Asia/Ho_Chi_Minh
BEGIN:STANDARD
TZOFFSETFROM:+0700
TZOFFSETTO:+0700
TZNAME:+07
DTSTART:20220101T000000
END:STANDARD
END:VTIMEZONE
BEGIN:VEVENT
DTSTART;TZID=America/Detroit:20231113T113000
DTEND;TZID=America/Detroit:20231113T130000
DTSTAMP:20260420T012933
CREATED:20230829T163831Z
LAST-MODIFIED:20231110T162930Z
UID:10003825-1699875000-1699880400@broad.msu.edu
SUMMARY:What It's Like to Spend a Semester Abroad
DESCRIPTION:What is it like to study in another country for an entire semester? How does that fit with your schedule? Can I earn MSU credit? Can I afford it? If you are asking these questions\, come to this session to hear about the experiences of students who have or are participating in a semester-long exchange program. Open to all students. Late arrivals after class are encouraged to attend.
URL:https://broad.msu.edu/event/what-its-like-to-spend-a-semester-abroad/
LOCATION:Eppley Center\, 667 N Shaw Ln\, East Lansing\, MI\, 48824\, United States
CATEGORIES:Education Abroad
END:VEVENT
BEGIN:VEVENT
DTSTART;TZID=Asia/Ho_Chi_Minh:20231113T173000
DTEND;TZID=Asia/Ho_Chi_Minh:20231113T213000
DTSTAMP:20260420T012933
CREATED:20230824T160855Z
LAST-MODIFIED:20231110T194204Z
UID:10003815-1699896600-1699911000@broad.msu.edu
SUMMARY:Access MBA Ho Chi Minh City\, Vietnam
DESCRIPTION:Meet with the Michigan State Broad Full-Time MBA admissions team at the Access MBA Ho Chi Minh City\, Vietnam on Monday\, November 13th. Meet with us at the event to learn more about the Broad MBA\, discuss your MBA goals and hear about the admissions process. \nLeave us your information below to receive updates about the Broad MBA program and admissions events and express your interest in meeting with us! \nIf you would like to meet with us at the Access MBA event in Ho Chi Minh City\, please register for it here.
URL:https://broad.msu.edu/event/access-mba-ho-chi-minh-city-vietnam/
LOCATION:Ho Chi Minh City\, Vietnam
CATEGORIES:Admissions Events,Full-Time MBA
ORGANIZER;CN="MBA Admissions":MAILTO:mba@msu.edu
END:VEVENT
END:VCALENDAR