BEGIN:VCALENDAR
VERSION:2.0
PRODID:-//Eli Broad College of Business | Michigan State University - ECPv6.15.17.1//NONSGML v1.0//EN
CALSCALE:GREGORIAN
METHOD:PUBLISH
X-ORIGINAL-URL:https://broad.msu.edu
X-WR-CALDESC:Events for Eli Broad College of Business | Michigan State University
REFRESH-INTERVAL;VALUE=DURATION:PT1H
X-Robots-Tag:noindex
X-PUBLISHED-TTL:PT1H
BEGIN:VTIMEZONE
TZID:America/Detroit
BEGIN:DAYLIGHT
TZOFFSETFROM:-0500
TZOFFSETTO:-0400
TZNAME:EDT
DTSTART:20230312T070000
END:DAYLIGHT
BEGIN:STANDARD
TZOFFSETFROM:-0400
TZOFFSETTO:-0500
TZNAME:EST
DTSTART:20231105T060000
END:STANDARD
BEGIN:DAYLIGHT
TZOFFSETFROM:-0500
TZOFFSETTO:-0400
TZNAME:EDT
DTSTART:20240310T070000
END:DAYLIGHT
BEGIN:STANDARD
TZOFFSETFROM:-0400
TZOFFSETTO:-0500
TZNAME:EST
DTSTART:20241103T060000
END:STANDARD
BEGIN:DAYLIGHT
TZOFFSETFROM:-0500
TZOFFSETTO:-0400
TZNAME:EDT
DTSTART:20250309T070000
END:DAYLIGHT
BEGIN:STANDARD
TZOFFSETFROM:-0400
TZOFFSETTO:-0500
TZNAME:EST
DTSTART:20251102T060000
END:STANDARD
END:VTIMEZONE
BEGIN:VEVENT
DTSTART;TZID=America/Detroit:20240207T113000
DTEND;TZID=America/Detroit:20240207T123000
DTSTAMP:20260422T124305
CREATED:20240116T195020Z
LAST-MODIFIED:20240129T195618Z
UID:10003962-1707305400-1707309000@broad.msu.edu
SUMMARY:Intercultural Lunch & Learn: Music
DESCRIPTION:Join this lunch & learn series to play trivia questions\, engaged in a guided conversation about the global impact of music\, and to learn about resources in the Broad College that supports global learning.
URL:https://broad.msu.edu/event/intercultural-lunch-learn-global-music/
LOCATION:Eppley Center\, 667 N Shaw Ln\, East Lansing\, MI\, 48824\, United States
CATEGORIES:Diversity, Equity & Inclusion,Ethics & Social Responsibility,Multicultural Business Programs
END:VEVENT
BEGIN:VEVENT
DTSTART;TZID=America/Detroit:20240207T120000
DTEND;TZID=America/Detroit:20240207T130000
DTSTAMP:20260422T124305
CREATED:20231220T200706Z
LAST-MODIFIED:20240124T155231Z
UID:10003935-1707307200-1707310800@broad.msu.edu
SUMMARY:The Broad MBA Advantage
DESCRIPTION:Join the Michigan State Broad MBA Admissions team to learn about the application process\, curriculum and benefits of the Broad Full-Time MBA program. You’ll also be able to ask any questions you have about the program and/or application process.
URL:https://broad.msu.edu/event/the-broad-mba-advantage-2-7-24/
LOCATION:Online
CATEGORIES:Admissions Events,Full-Time MBA
ORGANIZER;CN="MBA Admissions":MAILTO:mba@msu.edu
END:VEVENT
BEGIN:VEVENT
DTSTART;TZID=America/Detroit:20240207T140000
DTEND;TZID=America/Detroit:20240207T143000
DTSTAMP:20260422T124305
CREATED:20231205T171219Z
LAST-MODIFIED:20240124T134307Z
UID:10003919-1707314400-1707316200@broad.msu.edu
SUMMARY:MSMRA Virtual Information Session
DESCRIPTION:Join us on February 7th to learn more about MSU’s MSMRA Program!
URL:https://broad.msu.edu/event/msmra-virtual-information-session-3/
LOCATION:MI
CATEGORIES:M.S. in Marketing Research
END:VEVENT
BEGIN:VEVENT
DTSTART;TZID=America/Detroit:20240207T170000
DTEND;TZID=America/Detroit:20240207T173000
DTSTAMP:20260422T124306
CREATED:20231213T173234Z
LAST-MODIFIED:20240124T133917Z
UID:10003929-1707325200-1707327000@broad.msu.edu
SUMMARY:MS Accounting & Data Analytics Information Session
DESCRIPTION:Join us on February 7th to learn more about MSU’s Master of Science in Accounting & Data Analytics program!
URL:https://broad.msu.edu/event/ms-accounting-data-analytics-information-session-22/
LOCATION:Online
CATEGORIES:M.S. in Accounting and Data Analytics
END:VEVENT
BEGIN:VEVENT
DTSTART;TZID=America/Detroit:20240207T180000
DTEND;TZID=America/Detroit:20240207T190000
DTSTAMP:20260422T124306
CREATED:20240117T171311Z
LAST-MODIFIED:20240117T171311Z
UID:10003970-1707328800-1707332400@broad.msu.edu
SUMMARY:Emerging Leaders: Disrupting Industries
DESCRIPTION:The Innovate State Speaker Series brings both emerging and accomplished Spartans back to campus for a fireside chat-style interview. These 60-minute sessions offer the chance for guests to share their perspectives on a wide array of topics like innovation\, startup life\, investments\, and career paths. Students get the opportunity to hear firsthand about the hard knocks of the entrepreneurship & innovation hustle to maintaining work/life balance. These are stories of success\, stories of failures\, and stories of uncommon will—and you do not want to miss them. \nJoin the Burgess Institute for Entrepreneurship & Innovation for Innovate State: Disrupting Industries featuring Ariana Ferwerda\, Founder\, Half Days at 6:00 p.m. ET in the Entrepreneurship Lab (M025). Early registration is highly encouraged.
URL:https://broad.msu.edu/event/emerging-leaders-disrupting-industries/
LOCATION:Entrepreneurship Lab\, 651 N Shaw Ln\, East Lansing\, MI\, 48824\, United States
CATEGORIES:Entrepreneurship
ORGANIZER;CN="Aubrey Haase":MAILTO:haaseaub@msu.edu
END:VEVENT
END:VCALENDAR